BEGIN:VCALENDAR
VERSION:2.0
PRODID:-//KlassikAuto.pl - ECPv6.7.0//NONSGML v1.0//EN
CALSCALE:GREGORIAN
METHOD:PUBLISH
X-WR-CALNAME:KlassikAuto.pl
X-ORIGINAL-URL:https://klassikauto.pl
X-WR-CALDESC:Wydarzenia dla KlassikAuto.pl
REFRESH-INTERVAL;VALUE=DURATION:PT1H
X-Robots-Tag:noindex
X-PUBLISHED-TTL:PT1H
BEGIN:VTIMEZONE
TZID:Europe/Helsinki
BEGIN:DAYLIGHT
TZOFFSETFROM:+0200
TZOFFSETTO:+0300
TZNAME:EEST
DTSTART:20240331T010000
END:DAYLIGHT
BEGIN:STANDARD
TZOFFSETFROM:+0300
TZOFFSETTO:+0200
TZNAME:EET
DTSTART:20241027T010000
END:STANDARD
END:VTIMEZONE
BEGIN:VEVENT
DTSTART;TZID=Europe/Helsinki:20240906T080000
DTEND;TZID=Europe/Helsinki:20241215T170000
DTSTAMP:20260423T020055
CREATED:20240328T181015Z
LAST-MODIFIED:20240328T181015Z
UID:101115-1725609600-1734282000@klassikauto.pl
SUMMARY:When automotive design become art
DESCRIPTION:
URL:https://klassikauto.pl/impreza/when-automotive-design-become-art/
LOCATION:Muzeum Autoworld\, Bruksela\, Belgia
CATEGORIES:Wystawa
END:VEVENT
BEGIN:VEVENT
DTSTART;VALUE=DATE:20240912
DTEND;VALUE=DATE:20240915
DTSTAMP:20260423T020055
CREATED:20240421T071834Z
LAST-MODIFIED:20240421T072542Z
UID:101612-1726099200-1726358399@klassikauto.pl
SUMMARY:69. Rajd Wisły
DESCRIPTION:zob. Facebook: https://www.facebook.com/RajdWisly \n\n6. runda RMSP\n5. runda HRSMP
URL:https://klassikauto.pl/impreza/69-rajd-wisly/
LOCATION:Wisła
CATEGORIES:Rajd
END:VEVENT
BEGIN:VEVENT
DTSTART;TZID=Europe/Helsinki:20240912T080000
DTEND;TZID=Europe/Helsinki:20240914T220000
DTSTAMP:20260423T020055
CREATED:20240421T203855Z
LAST-MODIFIED:20240421T203855Z
UID:101703-1726128000-1726351200@klassikauto.pl
SUMMARY:XV Oldtimer & III Youngtimer Bohemia Rally 2024
DESCRIPTION:
URL:https://klassikauto.pl/impreza/xv-oldtimer-iii-youngtimer-bohemia-rally-2024/
LOCATION:Mlada Boleslav\, Czechy
CATEGORIES:Rajd
END:VEVENT
BEGIN:VEVENT
DTSTART;TZID=Europe/Helsinki:20240912T160000
DTEND;TZID=Europe/Helsinki:20240915T150000
DTSTAMP:20260423T020055
CREATED:20240427T045410Z
LAST-MODIFIED:20240427T045410Z
UID:101899-1726156800-1726412400@klassikauto.pl
SUMMARY:PORSCHEmeet fourth Chillout
DESCRIPTION:
URL:https://klassikauto.pl/impreza/porschemeet-fourth-chillout/
LOCATION:Hermanów
CATEGORIES:Zlot
END:VEVENT
BEGIN:VEVENT
DTSTART;VALUE=DATE:20240913
DTEND;VALUE=DATE:20240915
DTSTAMP:20260423T020055
CREATED:20231229T092737Z
LAST-MODIFIED:20231229T092737Z
UID:98209-1726185600-1726358399@klassikauto.pl
SUMMARY:4 Luxembourg Classic - Oldtimerrallye durch das Großherzogtum Luxemburg
DESCRIPTION:
URL:https://klassikauto.pl/impreza/4-luxembourg-classic-oldtimerrallye-durch-das-grosherzogtum-luxemburg/
LOCATION:Luksemburg
CATEGORIES:Rajd
END:VEVENT
BEGIN:VEVENT
DTSTART;TZID=Europe/Helsinki:20240913T080000
DTEND;TZID=Europe/Helsinki:20240915T170000
DTSTAMP:20260423T020055
CREATED:20231224T072632Z
LAST-MODIFIED:20231224T072632Z
UID:97695-1726214400-1726419600@klassikauto.pl
SUMMARY:Mistrzostwa Polski Rallycross 2024
DESCRIPTION:Runda 6
URL:https://klassikauto.pl/impreza/mistrzostwa-polski-rallycross-2024-6/
LOCATION:Słomczyn
CATEGORIES:Rajd
END:VEVENT
BEGIN:VEVENT
DTSTART;TZID=Europe/Helsinki:20240913T080000
DTEND;TZID=Europe/Helsinki:20240915T170000
DTSTAMP:20260423T020055
CREATED:20231224T091131Z
LAST-MODIFIED:20231224T091131Z
UID:97707-1726214400-1726419600@klassikauto.pl
SUMMARY:Puchar Polski Autocross
DESCRIPTION:Runda 5
URL:https://klassikauto.pl/impreza/puchar-polski-autocross-4/
LOCATION:Słomczyn
CATEGORIES:Rajd
END:VEVENT
BEGIN:VEVENT
DTSTART;TZID=Europe/Helsinki:20240913T100000
DTEND;TZID=Europe/Helsinki:20240915T180000
DTSTAMP:20260423T020055
CREATED:20240421T092514Z
LAST-MODIFIED:20240421T092514Z
UID:101648-1726221600-1726423200@klassikauto.pl
SUMMARY:Ameriky na koupáku
DESCRIPTION:
URL:https://klassikauto.pl/impreza/ameriky-na-koupaku/
LOCATION:Horni Bukovina\, Czechy
CATEGORIES:Zlot
END:VEVENT
BEGIN:VEVENT
DTSTART;TZID=Europe/Helsinki:20240913T120000
DTEND;TZID=Europe/Helsinki:20240915T120000
DTSTAMP:20260423T020055
CREATED:20240526T123953Z
LAST-MODIFIED:20240526T123953Z
UID:102692-1726228800-1726401600@klassikauto.pl
SUMMARY:46. Rally sraz Škoda Běšiny
DESCRIPTION:
URL:https://klassikauto.pl/impreza/46-rally-sraz-skoda-besiny/
LOCATION:Běšiny\, Czechy
CATEGORIES:Rajd
END:VEVENT
BEGIN:VEVENT
DTSTART;TZID=Europe/Helsinki:20240913T120000
DTEND;TZID=Europe/Helsinki:20240915T180000
DTSTAMP:20260423T020055
CREATED:20240728T114607Z
LAST-MODIFIED:20240728T114607Z
UID:104230-1726228800-1726423200@klassikauto.pl
SUMMARY:Wheels Marienwaërdt / International Concours d’Elegance
DESCRIPTION:
URL:https://klassikauto.pl/impreza/wheels-marienwaerdt-international-concours-delegance/
LOCATION:Beesd\, Holandia
CATEGORIES:Zlot
END:VEVENT
BEGIN:VEVENT
DTSTART;TZID=Europe/Helsinki:20240913T150000
DTEND;TZID=Europe/Helsinki:20240915T100000
DTSTAMP:20260423T020055
CREATED:20231228T093639Z
LAST-MODIFIED:20231228T093639Z
UID:97960-1726239600-1726394400@klassikauto.pl
SUMMARY:8 Ogólnopolski Zlot SKODOMANIA
DESCRIPTION:
URL:https://klassikauto.pl/impreza/8-ogolnopolski-zlot-skodomania/
LOCATION:Dobczyce
CATEGORIES:Zlot
END:VEVENT
BEGIN:VEVENT
DTSTART;TZID=Europe/Helsinki:20240913T160000
DTEND;TZID=Europe/Helsinki:20240915T120000
DTSTAMP:20260423T020055
CREATED:20240302T190952Z
LAST-MODIFIED:20240302T190952Z
UID:100040-1726243200-1726401600@klassikauto.pl
SUMMARY:2. Oldietreffen der Hotelbetten-Allergiker
DESCRIPTION:
URL:https://klassikauto.pl/impreza/2-oldietreffen-der-hotelbetten-allergiker/
LOCATION:Fachbach\, Niemcy
CATEGORIES:Zlot
END:VEVENT
BEGIN:VEVENT
DTSTART;TZID=Europe/Helsinki:20240914T080000
DTEND;TZID=Europe/Helsinki:20240914T210000
DTSTAMP:20260423T020055
CREATED:20231228T122020Z
LAST-MODIFIED:20231228T122020Z
UID:98076-1726300800-1726347600@klassikauto.pl
SUMMARY:Szybki Rajd Jednodniowy
DESCRIPTION:
URL:https://klassikauto.pl/impreza/szybki-rajd-jednodniowy/
LOCATION:Warszawa
CATEGORIES:Rajd
END:VEVENT
BEGIN:VEVENT
DTSTART;TZID=Europe/Helsinki:20240914T090000
DTEND;TZID=Europe/Helsinki:20240914T120000
DTSTAMP:20260423T020055
CREATED:20240421T215742Z
LAST-MODIFIED:20240421T215742Z
UID:101743-1726304400-1726315200@klassikauto.pl
SUMMARY:Krakowski Zlot pojazdów zabytkowych Oldtimer Youngtimer
DESCRIPTION:
URL:https://klassikauto.pl/impreza/krakowski-zlot-pojazdow-zabytkowych-oldtimer-youngtimer-8/
LOCATION:Kraków
CATEGORIES:Zlot
END:VEVENT
BEGIN:VEVENT
DTSTART;TZID=Europe/Helsinki:20240914T090000
DTEND;TZID=Europe/Helsinki:20240914T150000
DTSTAMP:20260423T020055
CREATED:20240929T085650Z
LAST-MODIFIED:20240929T085650Z
UID:105557-1726304400-1726326000@klassikauto.pl
SUMMARY:Motoserce Zgorzelec
DESCRIPTION:
URL:https://klassikauto.pl/impreza/motoserce-zgorzelec/
LOCATION:Zgorzelec
CATEGORIES:Zlot
END:VEVENT
BEGIN:VEVENT
DTSTART;TZID=Europe/Helsinki:20240914T090000
DTEND;TZID=Europe/Helsinki:20240915T160000
DTSTAMP:20260423T020055
CREATED:20240302T130051Z
LAST-MODIFIED:20240302T130051Z
UID:99902-1726304400-1726416000@klassikauto.pl
SUMMARY:Strumieński Rajd Pojazdów Zabytkowych
DESCRIPTION:
URL:https://klassikauto.pl/impreza/strumienski-rajd-pojazdow-zabytkowych-3/
CATEGORIES:Rajd
END:VEVENT
BEGIN:VEVENT
DTSTART;TZID=Europe/Helsinki:20240914T100000
DTEND;TZID=Europe/Helsinki:20240914T150000
DTSTAMP:20260423T020055
CREATED:20240812T180517Z
LAST-MODIFIED:20240812T180517Z
UID:104690-1726308000-1726326000@klassikauto.pl
SUMMARY:Rajd do Grodziska Mazowieckiego – zlot
DESCRIPTION:
URL:https://klassikauto.pl/impreza/rajd-do-grodziska-mazowieckiego-zlot/
LOCATION:Grodzisk Mazowiecki
CATEGORIES:Rajd,Zlot
END:VEVENT
BEGIN:VEVENT
DTSTART;TZID=Europe/Helsinki:20240914T100000
DTEND;TZID=Europe/Helsinki:20240915T170000
DTSTAMP:20260423T020055
CREATED:20240529T164749Z
LAST-MODIFIED:20240529T164749Z
UID:102934-1726308000-1726419600@klassikauto.pl
SUMMARY:MotoShow Limanowa 2024
DESCRIPTION:
URL:https://klassikauto.pl/impreza/motoshow-limanowa-2024/
LOCATION:Limanowa
CATEGORIES:Zlot
END:VEVENT
BEGIN:VEVENT
DTSTART;TZID=Europe/Helsinki:20240914T100000
DTEND;TZID=Europe/Helsinki:20240915T200000
DTSTAMP:20260423T020055
CREATED:20240929T092646Z
LAST-MODIFIED:20240929T092646Z
UID:105590-1726308000-1726430400@klassikauto.pl
SUMMARY:Zakończenie sezonu – VIII Piknik WDW
DESCRIPTION:
URL:https://klassikauto.pl/impreza/zakonczenie-sezonu-viii-piknik-wdw/
LOCATION:Chlewiska
CATEGORIES:Zlot
END:VEVENT
BEGIN:VEVENT
DTSTART;TZID=Europe/Helsinki:20240914T110000
DTEND;TZID=Europe/Helsinki:20240914T110000
DTSTAMP:20260423T020055
CREATED:20240526T134832Z
LAST-MODIFIED:20240526T134832Z
UID:102743-1726311600-1726311600@klassikauto.pl
SUMMARY:Vidle & Káry
DESCRIPTION:
URL:https://klassikauto.pl/impreza/vidle-kary/
LOCATION:Krmelin\, Czechy
CATEGORIES:Zlot
END:VEVENT
BEGIN:VEVENT
DTSTART;TZID=Europe/Helsinki:20240914T113000
DTEND;TZID=Europe/Helsinki:20240914T113000
DTSTAMP:20260423T020055
CREATED:20240728T131621Z
LAST-MODIFIED:20240728T131621Z
UID:104282-1726313400-1726313400@klassikauto.pl
SUMMARY:II Międzyrzecki Rajd Turystyczny – Edycja Bajkowa
DESCRIPTION:
URL:https://klassikauto.pl/impreza/ii-miedzyrzecki-rajd-turystyczny-edycja-bajkowa/
LOCATION:Międzyrzecz Górne
CATEGORIES:Rajd
END:VEVENT
BEGIN:VEVENT
DTSTART;TZID=Europe/Helsinki:20240914T120000
DTEND;TZID=Europe/Helsinki:20240915T120000
DTSTAMP:20260423T020055
CREATED:20240812T162450Z
LAST-MODIFIED:20240812T162450Z
UID:104633-1726315200-1726401600@klassikauto.pl
SUMMARY:Polish Car Grill 2024
DESCRIPTION:
URL:https://klassikauto.pl/impreza/polish-car-grill-2024/
LOCATION:Sulistrowice
CATEGORIES:Zlot
END:VEVENT
BEGIN:VEVENT
DTSTART;TZID=Europe/Helsinki:20240914T120000
DTEND;TZID=Europe/Helsinki:20240915T160000
DTSTAMP:20260423T020055
CREATED:20240728T123651Z
LAST-MODIFIED:20240728T123651Z
UID:104261-1726315200-1726416000@klassikauto.pl
SUMMARY:Aloha. Carfestival – Beach\, Cars & Beatz
DESCRIPTION:
URL:https://klassikauto.pl/impreza/aloha-carfestival-beach-cars-beatz-2/
LOCATION:Oberhausen\, Niemcy
CATEGORIES:Zlot
END:VEVENT
BEGIN:VEVENT
DTSTART;TZID=Europe/Helsinki:20240914T150000
DTEND;TZID=Europe/Helsinki:20240914T190000
DTSTAMP:20260423T020055
CREATED:20240728T172327Z
LAST-MODIFIED:20240728T172327Z
UID:104342-1726326000-1726340400@klassikauto.pl
SUMMARY:Urodzinowy Spot: 10 lat Zawierciańskich Klasyków
DESCRIPTION:
URL:https://klassikauto.pl/impreza/urodzinowy-spot-10-lat-zawiercianskich-klasykow/
LOCATION:Zawiercie
CATEGORIES:Spot
END:VEVENT
BEGIN:VEVENT
DTSTART;TZID=Europe/Helsinki:20240914T180000
DTEND;TZID=Europe/Helsinki:20240914T180000
DTSTAMP:20260423T020055
CREATED:20240929T091714Z
LAST-MODIFIED:20240929T091714Z
UID:105580-1726336800-1726336800@klassikauto.pl
SUMMARY:Warszawski spot Opla – Nietypowy Opel
DESCRIPTION:
URL:https://klassikauto.pl/impreza/warszawski-spot-opla-nietypowy-opel/
LOCATION:Warszawa
CATEGORIES:Spot
END:VEVENT
BEGIN:VEVENT
DTSTART;VALUE=DATE:20240915
DTEND;VALUE=DATE:20240916
DTSTAMP:20260423T020055
CREATED:20240630T102422Z
LAST-MODIFIED:20240630T102422Z
UID:103665-1726358400-1726444799@klassikauto.pl
SUMMARY:V Runda OMV Dolnośląski Mistrz Kierownicy 2024
DESCRIPTION:
URL:https://klassikauto.pl/impreza/v-runda-omv-dolnoslaski-mistrz-kierownicy-2024/
LOCATION:Wałbrzych
CATEGORIES:Rajd
END:VEVENT
BEGIN:VEVENT
DTSTART;TZID=Europe/Helsinki:20240915T080000
DTEND;TZID=Europe/Helsinki:20240915T170000
DTSTAMP:20260423T020055
CREATED:20240130T161316Z
LAST-MODIFIED:20240130T161316Z
UID:98982-1726387200-1726419600@klassikauto.pl
SUMMARY:OLDTEMA Leipzig
DESCRIPTION:
URL:https://klassikauto.pl/impreza/oldtema-leipzig/
LOCATION:Lipsk\, Niemcy
CATEGORIES:Aukcja
END:VEVENT
BEGIN:VEVENT
DTSTART;TZID=Europe/Helsinki:20240915T080000
DTEND;TZID=Europe/Helsinki:20240915T180000
DTSTAMP:20260423T020055
CREATED:20231228T122201Z
LAST-MODIFIED:20231228T122201Z
UID:98078-1726387200-1726423200@klassikauto.pl
SUMMARY:VII Kroto Amcar Spot
DESCRIPTION:
URL:https://klassikauto.pl/impreza/vii-kroto-amcar-spot/
LOCATION:Krotoszyn
CATEGORIES:Zlot
END:VEVENT
BEGIN:VEVENT
DTSTART;TZID=Europe/Helsinki:20240915T100000
DTEND;TZID=Europe/Helsinki:20240915T160000
DTSTAMP:20260423T020055
CREATED:20240527T170428Z
LAST-MODIFIED:20240728T105502Z
UID:102802-1726394400-1726416000@klassikauto.pl
SUMMARY:7. Opel Classic Europa Treffen 2024
DESCRIPTION:
URL:https://klassikauto.pl/impreza/7-opel-classic-europa-treffen-2024/
LOCATION:Krefeld\, Niemcy
CATEGORIES:Zlot
END:VEVENT
BEGIN:VEVENT
DTSTART;TZID=Europe/Helsinki:20240915T120000
DTEND;TZID=Europe/Helsinki:20240915T160000
DTSTAMP:20260423T020055
CREATED:20240929T114129Z
LAST-MODIFIED:20240929T114129Z
UID:105694-1726401600-1726416000@klassikauto.pl
SUMMARY:Zlot Pojazdów Zabytkowych Hubal
DESCRIPTION: Wydarzenie z okazji 85 rocznicy pobytu majora HUBALA w Krubkach-Górkach organizowane w Zabrańcu przy Kościele Parafialnym
URL:https://klassikauto.pl/impreza/zlot-pojazdow-zabytkowych-hubal/
LOCATION:Zabraniec
CATEGORIES:Zlot
END:VEVENT
END:VCALENDAR
<!-- RunCloud Hub 2026-04-23 01:00:55 -->