BEGIN:VCALENDAR
VERSION:2.0
PRODID:-//KlassikAuto.pl - ECPv6.7.0//NONSGML v1.0//EN
CALSCALE:GREGORIAN
METHOD:PUBLISH
X-WR-CALNAME:KlassikAuto.pl
X-ORIGINAL-URL:https://klassikauto.pl
X-WR-CALDESC:Wydarzenia dla KlassikAuto.pl
REFRESH-INTERVAL;VALUE=DURATION:PT1H
X-Robots-Tag:noindex
X-PUBLISHED-TTL:PT1H
BEGIN:VTIMEZONE
TZID:Europe/Helsinki
BEGIN:DAYLIGHT
TZOFFSETFROM:+0200
TZOFFSETTO:+0300
TZNAME:EEST
DTSTART:20240331T010000
END:DAYLIGHT
BEGIN:STANDARD
TZOFFSETFROM:+0300
TZOFFSETTO:+0200
TZNAME:EET
DTSTART:20241027T010000
END:STANDARD
END:VTIMEZONE
BEGIN:VEVENT
DTSTART;TZID=Europe/Helsinki:20240704T080000
DTEND;TZID=Europe/Helsinki:20240901T170000
DTSTAMP:20260423T013149
CREATED:20240328T180835Z
LAST-MODIFIED:20240328T181050Z
UID:101113-1720080000-1725210000@klassikauto.pl
SUMMARY:Fiat 125 Years & Abarth 75 Years - La Dolce Vita
DESCRIPTION:
URL:https://klassikauto.pl/impreza/fiat-125-years-abarth-75-years-la-dolce-vita/
LOCATION:Muzeum Autoworld\, Bruksela\, Belgia
CATEGORIES:Wystawa
END:VEVENT
BEGIN:VEVENT
DTSTART;TZID=Europe/Helsinki:20240829T150000
DTEND;TZID=Europe/Helsinki:20240901T120000
DTSTAMP:20260423T013149
CREATED:20231228T144620Z
LAST-MODIFIED:20231228T144620Z
UID:98127-1724943600-1725192000@klassikauto.pl
SUMMARY:6 Turystyczny Rajd MINI
DESCRIPTION:
URL:https://klassikauto.pl/impreza/6-turystyczny-rajd-mini/
LOCATION:Polańczyk
CATEGORIES:Rajd
END:VEVENT
BEGIN:VEVENT
DTSTART;VALUE=DATE:20240830
DTEND;VALUE=DATE:20240831
DTSTAMP:20260423T013149
CREATED:20240929T074124Z
LAST-MODIFIED:20240929T074124Z
UID:105510-1724976000-1725062399@klassikauto.pl
SUMMARY:Classic Road Trip to Lębork
DESCRIPTION:
URL:https://klassikauto.pl/impreza/classic-road-trip-to-lebork/
LOCATION:Częstochowa
CATEGORIES:Rajd
END:VEVENT
BEGIN:VEVENT
DTSTART;TZID=Europe/Helsinki:20240830T080000
DTEND;TZID=Europe/Helsinki:20240902T170000
DTSTAMP:20260423T013149
CREATED:20240526T085146Z
LAST-MODIFIED:20240526T085146Z
UID:102617-1725004800-1725296400@klassikauto.pl
SUMMARY:Reims Champagne Tour - 2024
DESCRIPTION:
URL:https://klassikauto.pl/impreza/reims-champagne-tour-2024/
LOCATION:Reims\, Francja
CATEGORIES:Rajd
END:VEVENT
BEGIN:VEVENT
DTSTART;TZID=Europe/Helsinki:20240830T100000
DTEND;TZID=Europe/Helsinki:20240831T220000
DTSTAMP:20260423T013149
CREATED:20231228T112411Z
LAST-MODIFIED:20231228T112411Z
UID:98059-1725012000-1725141600@klassikauto.pl
SUMMARY:II Zlot Miłośników Militariów i Aut Amerykańskich
DESCRIPTION:
URL:https://klassikauto.pl/impreza/ii-zlot-milosnikow-militariow-i-aut-amerykanskich/
LOCATION:Golub-Dobrzyń
CATEGORIES:Zlot
END:VEVENT
BEGIN:VEVENT
DTSTART;TZID=Europe/Helsinki:20240830T120000
DTEND;TZID=Europe/Helsinki:20240901T140000
DTSTAMP:20260423T013149
CREATED:20240427T063122Z
LAST-MODIFIED:20240427T063122Z
UID:101930-1725019200-1725199200@klassikauto.pl
SUMMARY:11 Spęęd Wypasionych Garbusów
DESCRIPTION:
URL:https://klassikauto.pl/impreza/11-speed-wypasionych-garbusow/
LOCATION:Rymanów
CATEGORIES:Zlot
END:VEVENT
BEGIN:VEVENT
DTSTART;TZID=Europe/Helsinki:20240830T140000
DTEND;TZID=Europe/Helsinki:20240901T200000
DTSTAMP:20260423T013149
CREATED:20240526T082858Z
LAST-MODIFIED:20240526T082858Z
UID:102605-1725026400-1725220800@klassikauto.pl
SUMMARY:All American Fest 2024 / Prague Harley Davidson / Smok & Fire Food Fest / FMX Gladiator Games / Route 66
DESCRIPTION:
URL:https://klassikauto.pl/impreza/all-american-fest-2024-prague-harley-davidson-smok-fire-food-fest-fmx-gladiator-games-route-66/
LOCATION:Praga\, Czechy
CATEGORIES:Zlot
END:VEVENT
BEGIN:VEVENT
DTSTART;TZID=Europe/Helsinki:20240830T160000
DTEND;TZID=Europe/Helsinki:20240901T110000
DTSTAMP:20260423T013149
CREATED:20240812T163923Z
LAST-MODIFIED:20240812T163923Z
UID:104648-1725033600-1725188400@klassikauto.pl
SUMMARY:IV Ogólnopolski Zlot Miłośników Fiata 125p\,
DESCRIPTION:
URL:https://klassikauto.pl/impreza/iv-ogolnopolski-zlot-milosnikow-fiata-125p/
LOCATION:Wiele
CATEGORIES:Zlot
END:VEVENT
BEGIN:VEVENT
DTSTART;TZID=Europe/Helsinki:20240830T170000
DTEND;TZID=Europe/Helsinki:20240901T110000
DTSTAMP:20260423T013149
CREATED:20240327T192608Z
LAST-MODIFIED:20240327T192608Z
UID:100999-1725037200-1725188400@klassikauto.pl
SUMMARY:Motocamp 202
DESCRIPTION:
URL:https://klassikauto.pl/impreza/motocamp-202/
LOCATION:Mężyk
CATEGORIES:Zlot
END:VEVENT
BEGIN:VEVENT
DTSTART;VALUE=DATE:20240831
DTEND;VALUE=DATE:20240901
DTSTAMP:20260423T013149
CREATED:20240630T120246Z
LAST-MODIFIED:20240630T120246Z
UID:103715-1725062400-1725148799@klassikauto.pl
SUMMARY:Rallye Posázaví 2024
DESCRIPTION:
URL:https://klassikauto.pl/impreza/rallye-posazavi-2024/
LOCATION:Kunice-Vidovice\, Czechy
CATEGORIES:Rajd
END:VEVENT
BEGIN:VEVENT
DTSTART;VALUE=DATE:20240831
DTEND;VALUE=DATE:20240901
DTSTAMP:20260423T013149
CREATED:20240630T120455Z
LAST-MODIFIED:20240630T120455Z
UID:103717-1725062400-1725148799@klassikauto.pl
SUMMARY:12. Veterán Rallye Františkovy Lázně
DESCRIPTION:
URL:https://klassikauto.pl/impreza/12-veteran-rallye-frantiskovy-lazne/
LOCATION:Frantiskovy Lazne\, Czechy
CATEGORIES:Rajd
END:VEVENT
BEGIN:VEVENT
DTSTART;TZID=Europe/Helsinki:20240831T080000
DTEND;TZID=Europe/Helsinki:20240831T170000
DTSTAMP:20260423T013149
CREATED:20231229T071525Z
LAST-MODIFIED:20231229T071525Z
UID:98155-1725091200-1725123600@klassikauto.pl
SUMMARY:IX Zlot Fiata 126p i Klasyków
DESCRIPTION:
URL:https://klassikauto.pl/impreza/ix-zlot-fiata-126p-i-klasykow/
LOCATION:Inowrocław
CATEGORIES:Zlot
END:VEVENT
BEGIN:VEVENT
DTSTART;TZID=Europe/Helsinki:20240831T080000
DTEND;TZID=Europe/Helsinki:20240901T150000
DTSTAMP:20260423T013149
CREATED:20240327T183145Z
LAST-MODIFIED:20240327T183145Z
UID:100956-1725091200-1725202800@klassikauto.pl
SUMMARY:XX Wołomiński Zlot Pojazdów Zabytkowych
DESCRIPTION:
URL:https://klassikauto.pl/impreza/xx-wolominski-zlot-pojazdow-zabytkowych/
LOCATION:Wołomin
CATEGORIES:Zlot
END:VEVENT
BEGIN:VEVENT
DTSTART;TZID=Europe/Helsinki:20240831T090000
DTEND;TZID=Europe/Helsinki:20240901T140000
DTSTAMP:20260423T013149
CREATED:20240812T160824Z
LAST-MODIFIED:20240812T160824Z
UID:104616-1725094800-1725199200@klassikauto.pl
SUMMARY:Rajd Pojazdów Zabytkowych – zakończenie wakacji
DESCRIPTION:
URL:https://klassikauto.pl/impreza/rajd-pojazdow-zabytkowych-zakonczenie-wakacji/
LOCATION:Lipno
CATEGORIES:Rajd
END:VEVENT
BEGIN:VEVENT
DTSTART;TZID=Europe/Helsinki:20240831T090000
DTEND;TZID=Europe/Helsinki:20240901T160000
DTSTAMP:20260423T013149
CREATED:20240929T084757Z
LAST-MODIFIED:20240929T084757Z
UID:105549-1725094800-1725206400@klassikauto.pl
SUMMARY:Stulatki - IV Europejski Zlot Forda Model T i A oraz pojazdów wyprodukowanych do 1939 r.\,
DESCRIPTION:Miejsce: Pałac Pakoszów
URL:https://klassikauto.pl/impreza/stulatki-iv-europejski-zlot-forda-model-t-i-a-oraz-pojazdow-wyprodukowanych-do-1939-r/
LOCATION:Piechowice
CATEGORIES:Zlot
END:VEVENT
BEGIN:VEVENT
DTSTART;TZID=Europe/Helsinki:20240831T090000
DTEND;TZID=Europe/Helsinki:20240901T180000
DTSTAMP:20260423T013149
CREATED:20240728T122344Z
LAST-MODIFIED:20240728T122344Z
UID:104255-1725094800-1725213600@klassikauto.pl
SUMMARY:6. Movie Park US Car Show
DESCRIPTION:
URL:https://klassikauto.pl/impreza/6-movie-park-us-car-show/
LOCATION:Bottrop\, Niemcy
CATEGORIES:Zlot
END:VEVENT
BEGIN:VEVENT
DTSTART;TZID=Europe/Helsinki:20240831T090000
DTEND;TZID=Europe/Helsinki:20240901T210000
DTSTAMP:20260423T013149
CREATED:20240812T163433Z
LAST-MODIFIED:20240812T163433Z
UID:104644-1725094800-1725224400@klassikauto.pl
SUMMARY:Speedshow Rzeszów 2024
DESCRIPTION:
URL:https://klassikauto.pl/impreza/speedshow-rzeszow-2024/
LOCATION:Rzeszów
CATEGORIES:Zlot
END:VEVENT
BEGIN:VEVENT
DTSTART;TZID=Europe/Helsinki:20240831T100000
DTEND;TZID=Europe/Helsinki:20240831T100000
DTSTAMP:20260423T013149
CREATED:20240812T163658Z
LAST-MODIFIED:20240812T163658Z
UID:104646-1725098400-1725098400@klassikauto.pl
SUMMARY:Wystawa Pojazdów Produkcji Polskiej
DESCRIPTION:
URL:https://klassikauto.pl/impreza/wystawa-pojazdow-produkcji-polskiej/
LOCATION:Gdańsk
CATEGORIES:Wystawa
END:VEVENT
BEGIN:VEVENT
DTSTART;TZID=Europe/Helsinki:20240831T110000
DTEND;TZID=Europe/Helsinki:20240831T170000
DTSTAMP:20260423T013149
CREATED:20231228T120637Z
LAST-MODIFIED:20231228T120637Z
UID:98061-1725102000-1725123600@klassikauto.pl
SUMMARY:Altblechliebe Spectaculum am Brauhaus
DESCRIPTION:
URL:https://klassikauto.pl/impreza/altblechliebe-spectaculum-am-brauhaus/
LOCATION:Vielank\, Niemcy
CATEGORIES:Zlot
END:VEVENT
BEGIN:VEVENT
DTSTART;TZID=Europe/Helsinki:20240831T120000
DTEND;TZID=Europe/Helsinki:20240831T120000
DTSTAMP:20260423T013149
CREATED:20240812T180256Z
LAST-MODIFIED:20240812T180256Z
UID:104688-1725105600-1725105600@klassikauto.pl
SUMMARY:2 Grójecki zlot pojazdów zabytkowych przy Rodzinny Piknik Motoryzacyjny
DESCRIPTION:
URL:https://klassikauto.pl/impreza/2-grojecki-zlot-pojazdow-zabytkowych-przy-rodzinny-piknik-motoryzacyjny/
LOCATION:Grójec
CATEGORIES:Zlot
END:VEVENT
BEGIN:VEVENT
DTSTART;TZID=Europe/Helsinki:20240831T120000
DTEND;TZID=Europe/Helsinki:20240831T180000
DTSTAMP:20260423T013149
CREATED:20231228T120807Z
LAST-MODIFIED:20231228T120807Z
UID:98064-1725105600-1725127200@klassikauto.pl
SUMMARY:IV Festiwal Pojazdów Nieznanych\, Nieudanych i Zapomnianych
DESCRIPTION:
URL:https://klassikauto.pl/impreza/iv-festiwal-pojazdow-nieznanych-nieudanych-i-zapomnianych/
LOCATION:Rumia
CATEGORIES:Zlot
END:VEVENT
BEGIN:VEVENT
DTSTART;TZID=Europe/Helsinki:20240831T120000
DTEND;TZID=Europe/Helsinki:20240901T120000
DTSTAMP:20260423T013149
CREATED:20240527T175905Z
LAST-MODIFIED:20240527T175905Z
UID:102854-1725105600-1725192000@klassikauto.pl
SUMMARY:Nocny Motocyklowy Wjazd na Równicę 2024
DESCRIPTION:
URL:https://klassikauto.pl/impreza/nocny-motocyklowy-wjazd-na-rownice-2024/
LOCATION:Ustroń
CATEGORIES:Spot
END:VEVENT
BEGIN:VEVENT
DTSTART;TZID=Europe/Helsinki:20240831T120000
DTEND;TZID=Europe/Helsinki:20240901T160000
DTSTAMP:20260423T013149
CREATED:20240812T160449Z
LAST-MODIFIED:20240812T161028Z
UID:104611-1725105600-1725206400@klassikauto.pl
SUMMARY:V Międzynarodowy Zlot Pojazdów Zabytkowych w Głuchołazach
DESCRIPTION:
URL:https://klassikauto.pl/impreza/v-miedzynarodowy-zlot-pojazdow-zabytkowych-w-glucholazach/
LOCATION:Głuchołazy Zdrój
CATEGORIES:Zlot
END:VEVENT
BEGIN:VEVENT
DTSTART;TZID=Europe/Helsinki:20240831T130000
DTEND;TZID=Europe/Helsinki:20240831T190000
DTSTAMP:20260423T013149
CREATED:20240812T164038Z
LAST-MODIFIED:20240812T164038Z
UID:104650-1725109200-1725130800@klassikauto.pl
SUMMARY:Motoryzacyjne Brusy 2024
DESCRIPTION:
URL:https://klassikauto.pl/impreza/motoryzacyjne-brusy-2024/
LOCATION:Brusy
CATEGORIES:Zlot
END:VEVENT
BEGIN:VEVENT
DTSTART;TZID=Europe/Helsinki:20240831T140000
DTEND;TZID=Europe/Helsinki:20240831T140000
DTSTAMP:20260423T013149
CREATED:20240728T100912Z
LAST-MODIFIED:20240728T100912Z
UID:104161-1725112800-1725112800@klassikauto.pl
SUMMARY:Tuning Hills Day #2
DESCRIPTION:
URL:https://klassikauto.pl/impreza/tuning-hills-day-2/
LOCATION:Jastrzębie Zdrój
CATEGORIES:Zlot
END:VEVENT
BEGIN:VEVENT
DTSTART;TZID=Europe/Helsinki:20240831T160000
DTEND;TZID=Europe/Helsinki:20240831T170000
DTSTAMP:20260423T013149
CREATED:20240812T173330Z
LAST-MODIFIED:20240812T173330Z
UID:104664-1725120000-1725123600@klassikauto.pl
SUMMARY:Jezioro Klasyków 2024 – Grill&Camp – Pożegnanie lata
DESCRIPTION:
URL:https://klassikauto.pl/impreza/jezioro-klasykow-2024-grillcamp-pozegnanie-lata/
LOCATION:Skorochów
CATEGORIES:Zlot
END:VEVENT
BEGIN:VEVENT
DTSTART;VALUE=DATE:20240901
DTEND;VALUE=DATE:20240902
DTSTAMP:20260423T013149
CREATED:20240327T200550Z
LAST-MODIFIED:20240327T200550Z
UID:101025-1725148800-1725235199@klassikauto.pl
SUMMARY:Motobazar Poznań
DESCRIPTION:
URL:https://klassikauto.pl/impreza/motobazar-poznan/
LOCATION:Poznań
CATEGORIES:Aukcja
END:VEVENT
BEGIN:VEVENT
DTSTART;TZID=Europe/Helsinki:20240901T080000
DTEND;TZID=Europe/Helsinki:20240901T180000
DTSTAMP:20260423T013149
CREATED:20240929T073521Z
LAST-MODIFIED:20240929T073521Z
UID:105503-1725177600-1725213600@klassikauto.pl
SUMMARY:Motoryzacyjne pożegnanie lata w Dobczycach
DESCRIPTION:
URL:https://klassikauto.pl/impreza/motoryzacyjne-pozegnanie-lata-w-dobczycach/
LOCATION:Dobczyce
CATEGORIES:Zlot
END:VEVENT
BEGIN:VEVENT
DTSTART;TZID=Europe/Helsinki:20240901T090000
DTEND;TZID=Europe/Helsinki:20240901T090000
DTSTAMP:20260423T013149
CREATED:20240929T074813Z
LAST-MODIFIED:20240929T074813Z
UID:105514-1725181200-1725181200@klassikauto.pl
SUMMARY:Zakończenie wakacji z Klasyczną Niedzielą
DESCRIPTION:
URL:https://klassikauto.pl/impreza/zakonczenie-wakacji-z-klasyczna-niedziela/
LOCATION:Będzin
CATEGORIES:Zlot
END:VEVENT
BEGIN:VEVENT
DTSTART;TZID=Europe/Helsinki:20240901T093000
DTEND;TZID=Europe/Helsinki:20240901T170000
DTSTAMP:20260423T013149
CREATED:20231228T120951Z
LAST-MODIFIED:20231228T121036Z
UID:98067-1725183000-1725210000@klassikauto.pl
SUMMARY:4. Lęborski zlot pojazdów zabytkowych klasycznych i motocykli
DESCRIPTION:
URL:https://klassikauto.pl/impreza/4-leborski-zlot-pojazdow-zabytkowych-klasycznych-i-motocykli/
LOCATION:Lębork
CATEGORIES:Zlot
END:VEVENT
END:VCALENDAR
<!-- RunCloud Hub 2026-04-23 00:31:49 -->