BEGIN:VCALENDAR
VERSION:2.0
PRODID:-//KlassikAuto.pl - ECPv6.7.0//NONSGML v1.0//EN
CALSCALE:GREGORIAN
METHOD:PUBLISH
X-WR-CALNAME:KlassikAuto.pl
X-ORIGINAL-URL:https://klassikauto.pl
X-WR-CALDESC:Wydarzenia dla KlassikAuto.pl
REFRESH-INTERVAL;VALUE=DURATION:PT1H
X-Robots-Tag:noindex
X-PUBLISHED-TTL:PT1H
BEGIN:VTIMEZONE
TZID:Europe/Helsinki
BEGIN:DAYLIGHT
TZOFFSETFROM:+0200
TZOFFSETTO:+0300
TZNAME:EEST
DTSTART:20240331T010000
END:DAYLIGHT
BEGIN:STANDARD
TZOFFSETFROM:+0300
TZOFFSETTO:+0200
TZNAME:EET
DTSTART:20241027T010000
END:STANDARD
END:VTIMEZONE
BEGIN:VEVENT
DTSTART;TZID=Europe/Helsinki:20240704T080000
DTEND;TZID=Europe/Helsinki:20240901T170000
DTSTAMP:20260421T014348
CREATED:20240328T180835Z
LAST-MODIFIED:20240328T181050Z
UID:101113-1720080000-1725210000@klassikauto.pl
SUMMARY:Fiat 125 Years & Abarth 75 Years - La Dolce Vita
DESCRIPTION:
URL:https://klassikauto.pl/impreza/fiat-125-years-abarth-75-years-la-dolce-vita/
LOCATION:Muzeum Autoworld\, Bruksela\, Belgia
CATEGORIES:Wystawa
END:VEVENT
BEGIN:VEVENT
DTSTART;VALUE=DATE:20240814
DTEND;VALUE=DATE:20240822
DTSTAMP:20260421T014348
CREATED:20240526T084925Z
LAST-MODIFIED:20240526T084925Z
UID:102614-1723593600-1724284799@klassikauto.pl
SUMMARY:Skyfall Tour 2024 for Aston Martin
DESCRIPTION:start: Schloss Roxburghe Hotel
URL:https://klassikauto.pl/impreza/skyfall-tour-2024-for-aston-martin/
LOCATION:Kelso\, Wielka Brytania
CATEGORIES:Rajd
END:VEVENT
BEGIN:VEVENT
DTSTART;TZID=Europe/Helsinki:20240821T180000
DTEND;TZID=Europe/Helsinki:20240821T220000
DTSTAMP:20260421T014348
CREATED:20240630T093112Z
LAST-MODIFIED:20240630T093112Z
UID:103618-1724263200-1724277600@klassikauto.pl
SUMMARY:Cykliczne Spotkanie Klasycznej Motoryzacji #6 Fundacji Youngtimer Warsaw @PGE Narodowy
DESCRIPTION:
URL:https://klassikauto.pl/impreza/cykliczne-spotkanie-klasycznej-motoryzacji-6-fundacji-youngtimer-warsaw-pge-narodowy/
LOCATION:Warszawa
CATEGORIES:Spot
END:VEVENT
BEGIN:VEVENT
DTSTART;TZID=Europe/Helsinki:20240822T160000
DTEND;TZID=Europe/Helsinki:20240825T160000
DTSTAMP:20260421T014348
CREATED:20240427T063545Z
LAST-MODIFIED:20240427T063545Z
UID:101935-1724342400-1724601600@klassikauto.pl
SUMMARY:Zjazd Gwiaździsty Motocykli na XI edycję Motoclassic Wrocław
DESCRIPTION:
URL:https://klassikauto.pl/impreza/zjazd-gwiazdzisty-motocykli-na-xi-edycje-motoclassic-wroclaw/
LOCATION:Ślęza
CATEGORIES:Zlot
END:VEVENT
BEGIN:VEVENT
DTSTART;TZID=Europe/Helsinki:20240822T190000
DTEND;TZID=Europe/Helsinki:20240822T203000
DTSTAMP:20260421T014348
CREATED:20240728T182058Z
LAST-MODIFIED:20240728T182058Z
UID:104371-1724353200-1724358600@klassikauto.pl
SUMMARY:Klasyczne Czwartki 2024
DESCRIPTION:
URL:https://klassikauto.pl/impreza/klasyczne-czwartki-2024-2/
LOCATION:Łowicz
CATEGORIES:Zlot
END:VEVENT
BEGIN:VEVENT
DTSTART;VALUE=DATE:20240823
DTEND;VALUE=DATE:20240826
DTSTAMP:20260421T014348
CREATED:20240728T181024Z
LAST-MODIFIED:20240728T181024Z
UID:104364-1724371200-1724630399@klassikauto.pl
SUMMARY:Zlot w Garbach
DESCRIPTION:
URL:https://klassikauto.pl/impreza/zlot-w-garbach-2/
LOCATION:Garby
CATEGORIES:Zlot
END:VEVENT
BEGIN:VEVENT
DTSTART;TZID=Europe/Helsinki:20240823T080000
DTEND;TZID=Europe/Helsinki:20240825T170000
DTSTAMP:20260421T014348
CREATED:20240421T204822Z
LAST-MODIFIED:20240421T204822Z
UID:101707-1724400000-1724605200@klassikauto.pl
SUMMARY:Veteran Rally Cesky Raj
DESCRIPTION:
URL:https://klassikauto.pl/impreza/veteran-rally-cesky-raj/
LOCATION:Branžež\, Czechy
CATEGORIES:Rajd
END:VEVENT
BEGIN:VEVENT
DTSTART;TZID=Europe/Helsinki:20240823T080000
DTEND;TZID=Europe/Helsinki:20240825T170000
DTSTAMP:20260421T014348
CREATED:20240421T210900Z
LAST-MODIFIED:20240421T210900Z
UID:101716-1724400000-1724605200@klassikauto.pl
SUMMARY:MaxlRIDE 2024\, Motofestival where custom meets adventure
DESCRIPTION:
URL:https://klassikauto.pl/impreza/maxlride-2024-motofestival-where-custom-meets-adventure/
LOCATION:Tuntenhausen\, Niemcy
CATEGORIES:Zlot
END:VEVENT
BEGIN:VEVENT
DTSTART;TZID=Europe/Helsinki:20240823T100000
DTEND;TZID=Europe/Helsinki:20240825T170000
DTSTAMP:20260421T014348
CREATED:20240526T124503Z
LAST-MODIFIED:20240526T124503Z
UID:102698-1724407200-1724605200@klassikauto.pl
SUMMARY:10. rocnik Škoda meeting Zlín
DESCRIPTION:
URL:https://klassikauto.pl/impreza/10-rocnik-skoda-meeting-zlin/
LOCATION:Zlin\, Czechy
CATEGORIES:Zlot
END:VEVENT
BEGIN:VEVENT
DTSTART;TZID=Europe/Helsinki:20240823T130000
DTEND;TZID=Europe/Helsinki:20240825T120000
DTSTAMP:20260421T014348
CREATED:20240526T125105Z
LAST-MODIFIED:20240526T125105Z
UID:102704-1724418000-1724587200@klassikauto.pl
SUMMARY:28. Trabant sraz Vrbno 2024
DESCRIPTION:
URL:https://klassikauto.pl/impreza/28-trabant-sraz-vrbno-2024/
LOCATION:Vrbno pod Pradědem\, Czechy
CATEGORIES:Zlot
END:VEVENT
BEGIN:VEVENT
DTSTART;TZID=Europe/Helsinki:20240823T150000
DTEND;TZID=Europe/Helsinki:20240824T200000
DTSTAMP:20260421T014348
CREATED:20231228T111322Z
LAST-MODIFIED:20231228T111322Z
UID:98049-1724425200-1724529600@klassikauto.pl
SUMMARY:Classic 4 Rings – Audi / NSU Oldtimer & Youngtimer
DESCRIPTION:
URL:https://klassikauto.pl/impreza/classic-4-rings-audi-nsu-oldtimer-youngtimer/
LOCATION:Wermsdorf\, Niemcy
CATEGORIES:Zlot
END:VEVENT
BEGIN:VEVENT
DTSTART;TZID=Europe/Helsinki:20240823T150000
DTEND;TZID=Europe/Helsinki:20240825T130000
DTSTAMP:20260421T014348
CREATED:20240630T121413Z
LAST-MODIFIED:20240630T121413Z
UID:103723-1724425200-1724590800@klassikauto.pl
SUMMARY:X Ogólnopolski Zlot Dacii 2024
DESCRIPTION:
URL:https://klassikauto.pl/impreza/x-ogolnopolski-zlot-dacii-2024/
LOCATION:Lubliniec Kokotek
CATEGORIES:Zlot
END:VEVENT
BEGIN:VEVENT
DTSTART;TZID=Europe/Helsinki:20240823T150000
DTEND;TZID=Europe/Helsinki:20240825T180000
DTSTAMP:20260421T014348
CREATED:20240728T111445Z
LAST-MODIFIED:20240728T111445Z
UID:104198-1724425200-1724608800@klassikauto.pl
SUMMARY:2. Lembecker Oldtimertreffen
DESCRIPTION:
URL:https://klassikauto.pl/impreza/2-lembecker-oldtimertreffen/
LOCATION:Dorsten-Lembeck\, Niemcy
CATEGORIES:Zlot
END:VEVENT
BEGIN:VEVENT
DTSTART;TZID=Europe/Helsinki:20240823T170000
DTEND;TZID=Europe/Helsinki:20240825T200000
DTSTAMP:20260421T014348
CREATED:20240812T180909Z
LAST-MODIFIED:20240812T180909Z
UID:104692-1724432400-1724616000@klassikauto.pl
SUMMARY:IX zlot FSO
DESCRIPTION:
URL:https://klassikauto.pl/impreza/ix-zlot-fso/
LOCATION:Aleksandrów Łódzki
CATEGORIES:Zlot
END:VEVENT
BEGIN:VEVENT
DTSTART;TZID=Europe/Helsinki:20240823T210000
DTEND;TZID=Europe/Helsinki:20240825T220000
DTSTAMP:20260421T014348
CREATED:20231228T111613Z
LAST-MODIFIED:20240812T190534Z
UID:98052-1724446800-1724623200@klassikauto.pl
SUMMARY:Rozkošne Ameriky
DESCRIPTION:
URL:https://klassikauto.pl/impreza/rozkosne-ameriky/
LOCATION:Česká Skalice\, Czechy
CATEGORIES:Zlot
END:VEVENT
BEGIN:VEVENT
DTSTART;VALUE=DATE:20240824
DTEND;VALUE=DATE:20240826
DTSTAMP:20260421T014348
CREATED:20240630T130323Z
LAST-MODIFIED:20240630T130323Z
UID:103746-1724457600-1724630399@klassikauto.pl
SUMMARY:Vienna Classic Days
DESCRIPTION:
URL:https://klassikauto.pl/impreza/vienna-classic-days-2/
LOCATION:Wiedeń\, Austria
CATEGORIES:Zlot
END:VEVENT
BEGIN:VEVENT
DTSTART;TZID=Europe/Helsinki:20240824T080000
DTEND;TZID=Europe/Helsinki:20240825T170000
DTSTAMP:20260421T014348
CREATED:20231227T092020Z
LAST-MODIFIED:20231227T092020Z
UID:97903-1724486400-1724605200@klassikauto.pl
SUMMARY:XI Edycja Motoclassic Wrocław
DESCRIPTION:
URL:https://klassikauto.pl/impreza/xi-edycja-motoclassic-wroclaw/
LOCATION:Ślęza
CATEGORIES:Zlot
END:VEVENT
BEGIN:VEVENT
DTSTART;TZID=Europe/Helsinki:20240824T090000
DTEND;TZID=Europe/Helsinki:20240825T170000
DTSTAMP:20260421T014348
CREATED:20240630T083928Z
LAST-MODIFIED:20240630T083928Z
UID:103585-1724490000-1724605200@klassikauto.pl
SUMMARY:VI Jakiś Rajd i VIII Wystawa Pojazdów Zabytkowych w Złotowie
DESCRIPTION:
URL:https://klassikauto.pl/impreza/vi-jakis-rajd-i-viii-wystawa-pojazdow-zabytkowych-w-zlotowie/
LOCATION:Złotów
CATEGORIES:Rajd,Wystawa
END:VEVENT
BEGIN:VEVENT
DTSTART;TZID=Europe/Helsinki:20240824T100000
DTEND;TZID=Europe/Helsinki:20240824T180000
DTSTAMP:20260421T014348
CREATED:20240728T160549Z
LAST-MODIFIED:20240728T160549Z
UID:104293-1724493600-1724522400@klassikauto.pl
SUMMARY:Kabrioletem z Kotliny pod Śnieżkę
DESCRIPTION:
URL:https://klassikauto.pl/impreza/kabrioletem-z-kotliny-pod-sniezke/
LOCATION:Kudowa Zdrój
CATEGORIES:Zlot
END:VEVENT
BEGIN:VEVENT
DTSTART;TZID=Europe/Helsinki:20240824T100000
DTEND;TZID=Europe/Helsinki:20240825T180000
DTSTAMP:20260421T014348
CREATED:20240106T180619Z
LAST-MODIFIED:20240106T180619Z
UID:98413-1724493600-1724608800@klassikauto.pl
SUMMARY:14. Schöne Sterne 2024
DESCRIPTION:
URL:https://klassikauto.pl/impreza/14-schone-sterne-2024/
LOCATION:Hattingen\, Niemcy
CATEGORIES:Zlot
END:VEVENT
BEGIN:VEVENT
DTSTART;TZID=Europe/Helsinki:20240824T100000
DTEND;TZID=Europe/Helsinki:20240825T180000
DTSTAMP:20260421T014348
CREATED:20240728T122653Z
LAST-MODIFIED:20240728T122653Z
UID:104257-1724493600-1724608800@klassikauto.pl
SUMMARY:17. US-Car & Bike Show Grefrath
DESCRIPTION:
URL:https://klassikauto.pl/impreza/17-us-car-bike-show-grefrath/
LOCATION:Grefrath\, Niemcy
CATEGORIES:Zlot
END:VEVENT
BEGIN:VEVENT
DTSTART;TZID=Europe/Helsinki:20240824T110000
DTEND;TZID=Europe/Helsinki:20240824T110000
DTSTAMP:20260421T014348
CREATED:20240812T182641Z
LAST-MODIFIED:20240812T182641Z
UID:104707-1724497200-1724497200@klassikauto.pl
SUMMARY:1 Milicki Zlot Jednośladów Zabytkowych
DESCRIPTION:
URL:https://klassikauto.pl/impreza/1-milicki-zlot-jednosladow-zabytkowych/
LOCATION:Milicz
CATEGORIES:Zlot
END:VEVENT
BEGIN:VEVENT
DTSTART;TZID=Europe/Helsinki:20240824T130000
DTEND;TZID=Europe/Helsinki:20240824T180000
DTSTAMP:20260421T014348
CREATED:20240728T172808Z
LAST-MODIFIED:20240728T172808Z
UID:104347-1724504400-1724522400@klassikauto.pl
SUMMARY:II Zlot Samochodów Zabytkowych w Libero – Klasyczne zakończenie wakacji z Libero\,
DESCRIPTION:
URL:https://klassikauto.pl/impreza/ii-zlot-samochodow-zabytkowych-w-libero-klasyczne-zakonczenie-wakacji-z-libero/
LOCATION:Katowice
CATEGORIES:Zlot
END:VEVENT
BEGIN:VEVENT
DTSTART;TZID=Europe/Helsinki:20240824T170000
DTEND;TZID=Europe/Helsinki:20240824T170000
DTSTAMP:20260421T014348
CREATED:20240630T084420Z
LAST-MODIFIED:20240630T084420Z
UID:103590-1724518800-1724518800@klassikauto.pl
SUMMARY:Zlot samochodów tuningowanych\, zabytkowych i sportowych
DESCRIPTION:
URL:https://klassikauto.pl/impreza/zlot-samochodow-tuningowanych-zabytkowych-i-sportowych/
LOCATION:Mościska (Orzesze)
CATEGORIES:Zlot
END:VEVENT
BEGIN:VEVENT
DTSTART;TZID=Europe/Helsinki:20240824T210000
DTEND;TZID=Europe/Helsinki:20240824T210000
DTSTAMP:20260421T014348
CREATED:20231228T112023Z
LAST-MODIFIED:20231228T112023Z
UID:98055-1724533200-1724533200@klassikauto.pl
SUMMARY:Klasykiem na Love Festival 2024
DESCRIPTION:
URL:https://klassikauto.pl/impreza/klasykiem-na-love-festival-2024/
LOCATION:Poznań
CATEGORIES:Zlot
END:VEVENT
BEGIN:VEVENT
DTSTART;VALUE=DATE:20240825
DTEND;VALUE=DATE:20240826
DTSTAMP:20260421T014348
CREATED:20240630T120146Z
LAST-MODIFIED:20240630T120146Z
UID:103713-1724544000-1724630399@klassikauto.pl
SUMMARY:Veteranfest zámek Holešov 2024
DESCRIPTION:
URL:https://klassikauto.pl/impreza/veteranfest-zamek-holesov-2024/
LOCATION:Zámek Holešov\, Czechy
CATEGORIES:Zlot
END:VEVENT
BEGIN:VEVENT
DTSTART;TZID=Europe/Helsinki:20240825T100000
DTEND;TZID=Europe/Helsinki:20240825T100000
DTSTAMP:20260421T014348
CREATED:20240630T095227Z
LAST-MODIFIED:20240630T095227Z
UID:103628-1724580000-1724580000@klassikauto.pl
SUMMARY:2 edycja Akademii Wyścigowej Race Cup 2024
DESCRIPTION:
URL:https://klassikauto.pl/impreza/2-edycja-akademii-wyscigowej-race-cup-2024/
LOCATION:Nowodwór
CATEGORIES:Rajd
END:VEVENT
BEGIN:VEVENT
DTSTART;TZID=Europe/Helsinki:20240825T100000
DTEND;TZID=Europe/Helsinki:20240825T100000
DTSTAMP:20260421T014348
CREATED:20240630T095835Z
LAST-MODIFIED:20240630T095835Z
UID:103635-1724580000-1724580000@klassikauto.pl
SUMMARY:2 edycja Akademii Wyścigowej Classicauto Cup 2024
DESCRIPTION:
URL:https://klassikauto.pl/impreza/2-edycja-akademii-wyscigowej-classicauto-cup-2024/
LOCATION:Nowodwór
CATEGORIES:Rajd
END:VEVENT
BEGIN:VEVENT
DTSTART;TZID=Europe/Helsinki:20240825T100000
DTEND;TZID=Europe/Helsinki:20240825T100000
DTSTAMP:20260421T014348
CREATED:20240630T100213Z
LAST-MODIFIED:20240630T100213Z
UID:103642-1724580000-1724580000@klassikauto.pl
SUMMARY:2 Królewskie Szkolenia Rajdowe 2024
DESCRIPTION:
URL:https://klassikauto.pl/impreza/2-krolewskie-szkolenia-rajdowe-2024/
LOCATION:Nowodwór
CATEGORIES:Rajd
END:VEVENT
BEGIN:VEVENT
DTSTART;TZID=Europe/Helsinki:20240825T100000
DTEND;TZID=Europe/Helsinki:20240825T100000
DTSTAMP:20260421T014348
CREATED:20240728T102739Z
LAST-MODIFIED:20240728T102739Z
UID:104177-1724580000-1724580000@klassikauto.pl
SUMMARY:XIII ClassicMania – Międzynarodowy Zlot Pojazdów Zabytkowych\, Edycja Amerykańska
DESCRIPTION:
URL:https://klassikauto.pl/impreza/xiii-classicmania-miedzynarodowy-zlot-pojazdow-zabytkowych-edycja-amerykanska/
LOCATION:Sosnowiec
CATEGORIES:Zlot
END:VEVENT
END:VCALENDAR
<!-- RunCloud Hub 2026-04-21 00:43:48 -->