BEGIN:VCALENDAR
VERSION:2.0
PRODID:-//KlassikAuto.pl - ECPv6.7.0//NONSGML v1.0//EN
CALSCALE:GREGORIAN
METHOD:PUBLISH
X-WR-CALNAME:KlassikAuto.pl
X-ORIGINAL-URL:https://klassikauto.pl
X-WR-CALDESC:Wydarzenia dla KlassikAuto.pl
REFRESH-INTERVAL;VALUE=DURATION:PT1H
X-Robots-Tag:noindex
X-PUBLISHED-TTL:PT1H
BEGIN:VTIMEZONE
TZID:Europe/Helsinki
BEGIN:DAYLIGHT
TZOFFSETFROM:+0200
TZOFFSETTO:+0300
TZNAME:EEST
DTSTART:20230326T010000
END:DAYLIGHT
BEGIN:STANDARD
TZOFFSETFROM:+0300
TZOFFSETTO:+0200
TZNAME:EET
DTSTART:20231029T010000
END:STANDARD
END:VTIMEZONE
BEGIN:VEVENT
DTSTART;TZID=Europe/Helsinki:20230707T080000
DTEND;TZID=Europe/Helsinki:20230903T170000
DTSTAMP:20260422T104517
CREATED:20230413T145923Z
LAST-MODIFIED:20230413T145923Z
UID:89854-1688716800-1693760400@klassikauto.pl
SUMMARY:Mahy\, a family of cars. The barnfind collection
DESCRIPTION:
URL:https://klassikauto.pl/impreza/mahy-a-family-of-cars-the-barnfind-collection/
LOCATION:Muzeum Autoworld\, Bruksela\, Belgia
CATEGORIES:Wystawa
END:VEVENT
BEGIN:VEVENT
DTSTART;TZID=Europe/Helsinki:20230823T080000
DTEND;TZID=Europe/Helsinki:20230823T170000
DTSTAMP:20260422T104517
CREATED:20230312T172153Z
LAST-MODIFIED:20230312T172153Z
UID:88902-1692777600-1692810000@klassikauto.pl
SUMMARY:V Runda Liqui Moly Classicauto Cup 2023
DESCRIPTION:
URL:https://klassikauto.pl/impreza/v-runda-liqui-moly-classicauto-cup-2023/
LOCATION:Kamień Śląski
CATEGORIES:Rajd
END:VEVENT
BEGIN:VEVENT
DTSTART;TZID=Europe/Helsinki:20230825T080000
DTEND;TZID=Europe/Helsinki:20230827T170000
DTSTAMP:20260422T104517
CREATED:20230212T131018Z
LAST-MODIFIED:20230212T131018Z
UID:87859-1692950400-1693155600@klassikauto.pl
SUMMARY:Zlot w Garbach
DESCRIPTION:
URL:https://klassikauto.pl/impreza/zlot-w-garbach/
LOCATION:Garby
CATEGORIES:Zlot
END:VEVENT
BEGIN:VEVENT
DTSTART;TZID=Europe/Helsinki:20230825T080000
DTEND;TZID=Europe/Helsinki:20230827T170000
DTSTAMP:20260422T104517
CREATED:20230312T174320Z
LAST-MODIFIED:20230312T174320Z
UID:88923-1692950400-1693155600@klassikauto.pl
SUMMARY:VIII Zlot Miłośniczek zabytkowych Mercedesów
DESCRIPTION:
URL:https://klassikauto.pl/impreza/viii-zlot-milosniczek-zabytkowych-mercedesow/
LOCATION:Nowy Tomyśl
CATEGORIES:Zlot
END:VEVENT
BEGIN:VEVENT
DTSTART;TZID=Europe/Helsinki:20230825T120000
DTEND;TZID=Europe/Helsinki:20230827T150000
DTSTAMP:20260422T104517
CREATED:20230312T173735Z
LAST-MODIFIED:20230312T173735Z
UID:88920-1692964800-1693148400@klassikauto.pl
SUMMARY:VIII Cross Country Motocykli Zabytkowych i Klasycznych
DESCRIPTION:
URL:https://klassikauto.pl/impreza/viii-cross-country-motocykli-zabytkowych-i-klasycznych/
LOCATION:Grzybów
CATEGORIES:Rajd
END:VEVENT
BEGIN:VEVENT
DTSTART;TZID=Europe/Helsinki:20230825T130000
DTEND;TZID=Europe/Helsinki:20230827T130000
DTSTAMP:20260422T104517
CREATED:20230624T112627Z
LAST-MODIFIED:20230624T112627Z
UID:92236-1692968400-1693141200@klassikauto.pl
SUMMARY:27. Trabant sraz Vrbno 2023
DESCRIPTION:
URL:https://klassikauto.pl/impreza/27-trabant-sraz-vrbno-2023/
LOCATION:Vrbno pod Pradědem\, Czechy
CATEGORIES:Zlot
END:VEVENT
BEGIN:VEVENT
DTSTART;TZID=Europe/Helsinki:20230825T140000
DTEND;TZID=Europe/Helsinki:20230827T113000
DTSTAMP:20260422T104517
CREATED:20230212T131251Z
LAST-MODIFIED:20230823T165107Z
UID:87863-1692972000-1693135800@klassikauto.pl
SUMMARY:Wielki plenerowy zlot w Poznaniu vol.2
DESCRIPTION:
URL:https://klassikauto.pl/impreza/wielki-plenerowy-zlot-w-poznaniu-vol-2/
LOCATION:Poznań
CATEGORIES:Zlot
END:VEVENT
BEGIN:VEVENT
DTSTART;TZID=Europe/Helsinki:20230825T140000
DTEND;TZID=Europe/Helsinki:20230827T120000
DTSTAMP:20260422T104517
CREATED:20230212T131132Z
LAST-MODIFIED:20230823T165230Z
UID:87861-1692972000-1693137600@klassikauto.pl
SUMMARY:Car Fest Show 2k23
DESCRIPTION:
URL:https://klassikauto.pl/impreza/car-fest-show-2k23/
LOCATION:Poznań
CATEGORIES:Zlot
END:VEVENT
BEGIN:VEVENT
DTSTART;TZID=Europe/Helsinki:20230825T140000
DTEND;TZID=Europe/Helsinki:20230827T140000
DTSTAMP:20260422T104517
CREATED:20230212T131347Z
LAST-MODIFIED:20230823T165319Z
UID:87865-1692972000-1693144800@klassikauto.pl
SUMMARY:Zlot klasyków w Poznaniu 2024
DESCRIPTION:
URL:https://klassikauto.pl/impreza/zlot-klasykow-w-poznaniu-2023/
LOCATION:Poznań
CATEGORIES:Zlot
END:VEVENT
BEGIN:VEVENT
DTSTART;TZID=Europe/Helsinki:20230825T140000
DTEND;TZID=Europe/Helsinki:20230827T200000
DTSTAMP:20260422T104517
CREATED:20230410T154047Z
LAST-MODIFIED:20230410T154047Z
UID:89730-1692972000-1693166400@klassikauto.pl
SUMMARY:Béthune rétro 2023 : 17th Hot rod\, Kustom & Cars Show
DESCRIPTION:
URL:https://klassikauto.pl/impreza/bethune-retro-2023-17th-hot-rod-kustom-cars-show/
LOCATION:Bethune\, Francja
CATEGORIES:Zlot
END:VEVENT
BEGIN:VEVENT
DTSTART;TZID=Europe/Helsinki:20230825T150000
DTEND;TZID=Europe/Helsinki:20230827T160000
DTSTAMP:20260422T104517
CREATED:20230624T165253Z
LAST-MODIFIED:20230624T165305Z
UID:92448-1692975600-1693152000@klassikauto.pl
SUMMARY:IX Ogólnopolski Zlot Dacii - Czerna 2023
DESCRIPTION:
URL:https://klassikauto.pl/impreza/ix-ogolnopolski-zlot-dacii-czerna-2023/
LOCATION:Czerna
CATEGORIES:Zlot
END:VEVENT
BEGIN:VEVENT
DTSTART;TZID=Europe/Helsinki:20230826T080000
DTEND;TZID=Europe/Helsinki:20230826T170000
DTSTAMP:20260422T104517
CREATED:20230212T154944Z
LAST-MODIFIED:20230212T154944Z
UID:87968-1693036800-1693069200@klassikauto.pl
SUMMARY:Zlot Stara Legenda Motoryzacji
DESCRIPTION:
URL:https://klassikauto.pl/impreza/zlot-stara-legenda-motoryzacji-2/
LOCATION:Starachowice
CATEGORIES:Zlot
END:VEVENT
BEGIN:VEVENT
DTSTART;TZID=Europe/Helsinki:20230826T080000
DTEND;TZID=Europe/Helsinki:20230826T170000
DTSTAMP:20260422T104517
CREATED:20230514T174518Z
LAST-MODIFIED:20230514T174518Z
UID:90595-1693036800-1693069200@klassikauto.pl
SUMMARY:Czech Classic Rallye
DESCRIPTION:
URL:https://klassikauto.pl/impreza/czech-classic-rallye/
LOCATION:Litomysl\, Czechy
CATEGORIES:Rajd
END:VEVENT
BEGIN:VEVENT
DTSTART;TZID=Europe/Helsinki:20230826T080000
DTEND;TZID=Europe/Helsinki:20230826T170000
DTSTAMP:20260422T104517
CREATED:20230625T080004Z
LAST-MODIFIED:20230625T080004Z
UID:92544-1693036800-1693069200@klassikauto.pl
SUMMARY:Rallye Posázaví 2023
DESCRIPTION:
URL:https://klassikauto.pl/impreza/rallye-posazavi-2023/
LOCATION:Kunice-Vidovice\, Czechy
CATEGORIES:Rajd
END:VEVENT
BEGIN:VEVENT
DTSTART;TZID=Europe/Helsinki:20230826T100000
DTEND;TZID=Europe/Helsinki:20230826T160000
DTSTAMP:20260422T104517
CREATED:20230807T065010Z
LAST-MODIFIED:20230807T065010Z
UID:93909-1693044000-1693065600@klassikauto.pl
SUMMARY:American Day 2023
DESCRIPTION:
URL:https://klassikauto.pl/impreza/american-day-2023/
LOCATION:Lenkwerk\, Niemcy
CATEGORIES:Zlot
END:VEVENT
BEGIN:VEVENT
DTSTART;TZID=Europe/Helsinki:20230826T100000
DTEND;TZID=Europe/Helsinki:20230827T180000
DTSTAMP:20260422T104517
CREATED:20230312T162420Z
LAST-MODIFIED:20230312T162420Z
UID:88840-1693044000-1693159200@klassikauto.pl
SUMMARY:13. Schöne Sterne® 2023
DESCRIPTION:
URL:https://klassikauto.pl/impreza/13-schone-sterne-2023/
LOCATION:Hattingen\, Niemcy
CATEGORIES:Zlot
END:VEVENT
BEGIN:VEVENT
DTSTART;TZID=Europe/Helsinki:20230826T100000
DTEND;TZID=Europe/Helsinki:20230827T190000
DTSTAMP:20260422T104517
CREATED:20230410T153629Z
LAST-MODIFIED:20230410T153629Z
UID:89724-1693044000-1693162800@klassikauto.pl
SUMMARY:X Edycja Motoclassic Wrocław
DESCRIPTION:Miejsce: Zamek Topacz
URL:https://klassikauto.pl/impreza/x-edycja-motoclassic-wroclaw/
LOCATION:Ślęza
CATEGORIES:Zlot
END:VEVENT
BEGIN:VEVENT
DTSTART;TZID=Europe/Helsinki:20230826T110000
DTEND;TZID=Europe/Helsinki:20230827T183000
DTSTAMP:20260422T104517
CREATED:20230624T134410Z
LAST-MODIFIED:20230624T134410Z
UID:92365-1693047600-1693161000@klassikauto.pl
SUMMARY:16. US-Car & Bike Show Grefrath
DESCRIPTION:
URL:https://klassikauto.pl/impreza/16-us-car-bike-show-grefrath/
LOCATION:Grefrath\, Niemcy
CATEGORIES:Zlot
END:VEVENT
BEGIN:VEVENT
DTSTART;TZID=Europe/Helsinki:20230826T120000
DTEND;TZID=Europe/Helsinki:20230827T160000
DTSTAMP:20260422T104517
CREATED:20230624T185519Z
LAST-MODIFIED:20230624T185519Z
UID:92498-1693051200-1693152000@klassikauto.pl
SUMMARY:Youngtimer’s Show 2023
DESCRIPTION:
URL:https://klassikauto.pl/impreza/youngtimers-show-2023/
LOCATION:Sosnowiec
CATEGORIES:Zlot
END:VEVENT
BEGIN:VEVENT
DTSTART;TZID=Europe/Helsinki:20230826T120000
DTEND;TZID=Europe/Helsinki:20230827T180000
DTSTAMP:20260422T104517
CREATED:20230624T122536Z
LAST-MODIFIED:20230624T122536Z
UID:92286-1693051200-1693159200@klassikauto.pl
SUMMARY:2BRIDGE - International Car Show
DESCRIPTION:
URL:https://klassikauto.pl/impreza/2bridge-international-car-show/
LOCATION:Zweibrücken\, Niemcy
END:VEVENT
BEGIN:VEVENT
DTSTART;TZID=Europe/Helsinki:20230826T150000
DTEND;TZID=Europe/Helsinki:20230826T170000
DTSTAMP:20260422T104517
CREATED:20230514T171544Z
LAST-MODIFIED:20230514T171544Z
UID:90557-1693062000-1693069200@klassikauto.pl
SUMMARY:5 Moto Piknik Łaziska 2023
DESCRIPTION:
URL:https://klassikauto.pl/impreza/5-moto-piknik-laziska-2023/
LOCATION:Łaziska
CATEGORIES:Zlot
END:VEVENT
BEGIN:VEVENT
DTSTART;TZID=Europe/Helsinki:20230826T170000
DTEND;TZID=Europe/Helsinki:20230827T190000
DTSTAMP:20260422T104517
CREATED:20230624T130154Z
LAST-MODIFIED:20230624T130154Z
UID:92331-1693069200-1693162800@klassikauto.pl
SUMMARY:FTS Nalbacher Sommerfest - Young- und Oldtimertreffen
DESCRIPTION:
URL:https://klassikauto.pl/impreza/fts-nalbacher-sommerfest-young-und-oldtimertreffen/
LOCATION:Nalbach\, Niemcy
CATEGORIES:Zlot
END:VEVENT
BEGIN:VEVENT
DTSTART;TZID=Europe/Helsinki:20230827T080000
DTEND;TZID=Europe/Helsinki:20230827T170000
DTSTAMP:20260422T104517
CREATED:20230523T174407Z
LAST-MODIFIED:20230523T174407Z
UID:91158-1693123200-1693155600@klassikauto.pl
SUMMARY:XII ClassicMania
DESCRIPTION:edycja specjalna pod hasłem: Automobiliści wszystkich krajów łączcie się! \n  \nKomandor zlotu: Ryszard Czerwiński\, tel. +48 512 696 069
URL:https://klassikauto.pl/impreza/xii-classicmania/
LOCATION:Sosnowiec
CATEGORIES:Zlot
END:VEVENT
BEGIN:VEVENT
DTSTART;TZID=Europe/Helsinki:20230827T080000
DTEND;TZID=Europe/Helsinki:20230827T170000
DTSTAMP:20260422T104517
CREATED:20230625T080122Z
LAST-MODIFIED:20230625T080122Z
UID:92546-1693123200-1693155600@klassikauto.pl
SUMMARY:Veteranfest zámek Holešov
DESCRIPTION:
URL:https://klassikauto.pl/impreza/veteranfest-zamek-holesov/
LOCATION:Zámek Holešov\, Czechy
CATEGORIES:Zlot
END:VEVENT
BEGIN:VEVENT
DTSTART;TZID=Europe/Helsinki:20230827T100000
DTEND;TZID=Europe/Helsinki:20230827T170000
DTSTAMP:20260422T104517
CREATED:20230312T162919Z
LAST-MODIFIED:20230312T162919Z
UID:88843-1693130400-1693155600@klassikauto.pl
SUMMARY:3. Zlot Klasyków PRL-u w Gowarzewie
DESCRIPTION:
URL:https://klassikauto.pl/impreza/3-zlot-klasykow-prl-u-w-gowarzewie/
LOCATION:Gowarzewo
CATEGORIES:Zlot
END:VEVENT
BEGIN:VEVENT
DTSTART;TZID=Europe/Helsinki:20230827T100000
DTEND;TZID=Europe/Helsinki:20230827T170000
DTSTAMP:20260422T104517
CREATED:20230624T163434Z
LAST-MODIFIED:20230624T163434Z
UID:92439-1693130400-1693155600@klassikauto.pl
SUMMARY:1. NOSW Oldtimertreffen auf'm Hof
DESCRIPTION:
URL:https://klassikauto.pl/impreza/1-nosw-oldtimertreffen-aufm-hof/
LOCATION:Hünxe\, Niemcy
CATEGORIES:Zlot
END:VEVENT
BEGIN:VEVENT
DTSTART;TZID=Europe/Helsinki:20230827T110000
DTEND;TZID=Europe/Helsinki:20230827T170000
DTSTAMP:20260422T104517
CREATED:20230625T071729Z
LAST-MODIFIED:20230625T071729Z
UID:92506-1693134000-1693155600@klassikauto.pl
SUMMARY:Classic Car Show - Stanley Park
DESCRIPTION:
URL:https://klassikauto.pl/impreza/classic-car-show-stanley-park/
CATEGORIES:Zlot
END:VEVENT
BEGIN:VEVENT
DTSTART;TZID=Europe/Helsinki:20230827T110000
DTEND;TZID=Europe/Helsinki:20230827T170000
DTSTAMP:20260422T104517
CREATED:20230807T065345Z
LAST-MODIFIED:20230807T065345Z
UID:93914-1693134000-1693155600@klassikauto.pl
SUMMARY:Charitytreffen Oldtimer-und-Youngtimertreffen-Wuppertal
DESCRIPTION:
URL:https://klassikauto.pl/impreza/charitytreffen-oldtimer-und-youngtimertreffen-wuppertal/
LOCATION:Wuppertal\, Niemcy
CATEGORIES:Zlot
END:VEVENT
BEGIN:VEVENT
DTSTART;TZID=Europe/Helsinki:20230827T120000
DTEND;TZID=Europe/Helsinki:20230827T170000
DTSTAMP:20260422T104517
CREATED:20230807T063117Z
LAST-MODIFIED:20230807T063117Z
UID:93896-1693137600-1693155600@klassikauto.pl
SUMMARY:IV edycja Zlotu Pojazdów Napędzanych Silnikami Dezametu
DESCRIPTION:
URL:https://klassikauto.pl/impreza/iv-edycja-zlotu-pojazdow-napedzanych-silnikami-dezametu/
LOCATION:Tarnowska Wola
CATEGORIES:Zlot
END:VEVENT
BEGIN:VEVENT
DTSTART;TZID=Europe/Helsinki:20230827T120000
DTEND;TZID=Europe/Helsinki:20230827T190000
DTSTAMP:20260422T104517
CREATED:20230807T071752Z
LAST-MODIFIED:20230807T071752Z
UID:93927-1693137600-1693162800@klassikauto.pl
SUMMARY:XII Zlot Pojazdów Zabytkowych
DESCRIPTION:
URL:https://klassikauto.pl/impreza/xii-zlot-pojazdow-zabytkowych/
LOCATION:Mielec
CATEGORIES:Zlot
END:VEVENT
END:VCALENDAR
<!-- RunCloud Hub 2026-04-22 09:45:17 -->