BEGIN:VCALENDAR
VERSION:2.0
PRODID:-//KlassikAuto.pl - ECPv6.7.0//NONSGML v1.0//EN
CALSCALE:GREGORIAN
METHOD:PUBLISH
X-WR-CALNAME:KlassikAuto.pl
X-ORIGINAL-URL:https://klassikauto.pl
X-WR-CALDESC:Wydarzenia dla KlassikAuto.pl
REFRESH-INTERVAL;VALUE=DURATION:PT1H
X-Robots-Tag:noindex
X-PUBLISHED-TTL:PT1H
BEGIN:VTIMEZONE
TZID:Europe/Helsinki
BEGIN:DAYLIGHT
TZOFFSETFROM:+0200
TZOFFSETTO:+0300
TZNAME:EEST
DTSTART:20230326T010000
END:DAYLIGHT
BEGIN:STANDARD
TZOFFSETFROM:+0300
TZOFFSETTO:+0200
TZNAME:EET
DTSTART:20231029T010000
END:STANDARD
END:VTIMEZONE
BEGIN:VEVENT
DTSTART;TZID=Europe/Helsinki:20230707T080000
DTEND;TZID=Europe/Helsinki:20230903T170000
DTSTAMP:20260421T142550
CREATED:20230413T145923Z
LAST-MODIFIED:20230413T145923Z
UID:89854-1688716800-1693760400@klassikauto.pl
SUMMARY:Mahy\, a family of cars. The barnfind collection
DESCRIPTION:
URL:https://klassikauto.pl/impreza/mahy-a-family-of-cars-the-barnfind-collection/
LOCATION:Muzeum Autoworld\, Bruksela\, Belgia
CATEGORIES:Wystawa
END:VEVENT
BEGIN:VEVENT
DTSTART;TZID=Europe/Helsinki:20230720T100000
DTEND;TZID=Europe/Helsinki:20230723T170000
DTSTAMP:20260421T142550
CREATED:20230624T115450Z
LAST-MODIFIED:20230624T115450Z
UID:92260-1689847200-1690131600@klassikauto.pl
SUMMARY:VI edycja Caravaning Summer SHOW - plenerowych targów caravaningowych
DESCRIPTION:
URL:https://klassikauto.pl/impreza/vi-edycja-caravaning-summer-show-plenerowych-targow-caravaningowych/
LOCATION:Jastarnia
CATEGORIES:Targi
END:VEVENT
BEGIN:VEVENT
DTSTART;TZID=Europe/Helsinki:20230721T080000
DTEND;TZID=Europe/Helsinki:20230723T170000
DTSTAMP:20260421T142550
CREATED:20230212T121734Z
LAST-MODIFIED:20230212T121734Z
UID:87843-1689926400-1690131600@klassikauto.pl
SUMMARY:VIII Świecki Zlot Motocyklowy Deczno 2023
DESCRIPTION:
URL:https://klassikauto.pl/impreza/viii-swiecki-zlot-motocyklowy-deczno-2023/
LOCATION:Świecie
CATEGORIES:Zlot
END:VEVENT
BEGIN:VEVENT
DTSTART;TZID=Europe/Helsinki:20230721T080000
DTEND;TZID=Europe/Helsinki:20230724T170000
DTSTAMP:20260421T142550
CREATED:20230212T122249Z
LAST-MODIFIED:20230212T122249Z
UID:87845-1689926400-1690218000@klassikauto.pl
SUMMARY:Sunrise Festival 2023 – Zlot CamperMajstry
DESCRIPTION:Zlot CamperMajstry
URL:https://klassikauto.pl/impreza/sunrise-festival-2023-zlot-campermajstry/
CATEGORIES:Zlot
END:VEVENT
BEGIN:VEVENT
DTSTART;TZID=Europe/Helsinki:20230721T110000
DTEND;TZID=Europe/Helsinki:20230723T150000
DTSTAMP:20260421T142550
CREATED:20230312T153516Z
LAST-MODIFIED:20230312T153516Z
UID:88800-1689937200-1690124400@klassikauto.pl
SUMMARY:P.A.Cars Fest II - Pleszew American Cars Festival
DESCRIPTION:
URL:https://klassikauto.pl/impreza/p-a-cars-fest-ii-pleszew-american-cars-festival/
LOCATION:Pleszew
CATEGORIES:Zlot
END:VEVENT
BEGIN:VEVENT
DTSTART;TZID=Europe/Helsinki:20230721T160000
DTEND;TZID=Europe/Helsinki:20230723T230000
DTSTAMP:20260421T142550
CREATED:20230212T121302Z
LAST-MODIFIED:20230212T121302Z
UID:87837-1689955200-1690153200@klassikauto.pl
SUMMARY:IV Moto Niedźwiedź
DESCRIPTION:
URL:https://klassikauto.pl/impreza/iv-moto-niedzwiedz/
LOCATION:Rawicz
CATEGORIES:Zlot
END:VEVENT
BEGIN:VEVENT
DTSTART;TZID=Europe/Helsinki:20230722T080000
DTEND;TZID=Europe/Helsinki:20230723T150000
DTSTAMP:20260421T142550
CREATED:20230312T154029Z
LAST-MODIFIED:20230312T154029Z
UID:88806-1690012800-1690124400@klassikauto.pl
SUMMARY:How Low V. 2023
DESCRIPTION:
URL:https://klassikauto.pl/impreza/how-low-v-2023/
LOCATION:Ząbkowice
CATEGORIES:Zlot
END:VEVENT
BEGIN:VEVENT
DTSTART;TZID=Europe/Helsinki:20230722T080000
DTEND;TZID=Europe/Helsinki:20230723T170000
DTSTAMP:20260421T142550
CREATED:20230624T175143Z
LAST-MODIFIED:20230624T175143Z
UID:92469-1690012800-1690131600@klassikauto.pl
SUMMARY:XVI Zlot Oldtimerów
DESCRIPTION:
URL:https://klassikauto.pl/impreza/xvi-zlot-oldtimerow/
LOCATION:Dobrzeń Wielki
CATEGORIES:Zlot
END:VEVENT
BEGIN:VEVENT
DTSTART;TZID=Europe/Helsinki:20230722T100000
DTEND;TZID=Europe/Helsinki:20230723T180000
DTSTAMP:20260421T142550
CREATED:20230410T154303Z
LAST-MODIFIED:20230410T154303Z
UID:89733-1690020000-1690135200@klassikauto.pl
SUMMARY:Festival Auto-Rétro du Centre Alsace
DESCRIPTION:
URL:https://klassikauto.pl/impreza/festival-auto-retro-du-centre-alsace/
LOCATION:Ohnenheim\, Francja
CATEGORIES:Zlot
END:VEVENT
BEGIN:VEVENT
DTSTART;TZID=Europe/Helsinki:20230722T140000
DTEND;TZID=Europe/Helsinki:20230723T223000
DTSTAMP:20260421T142550
CREATED:20230624T141043Z
LAST-MODIFIED:20230624T141043Z
UID:92397-1690034400-1690151400@klassikauto.pl
SUMMARY:FAT & FURIOUS 2.0 - najgrubsza impreza tego lata! #bitmiasta
DESCRIPTION:
URL:https://klassikauto.pl/impreza/fat-furious-2-0-najgrubsza-impreza-tego-lata-bitmiasta/
LOCATION:Bielsko-Biała
CATEGORIES:Zlot
END:VEVENT
BEGIN:VEVENT
DTSTART;TZID=Europe/Helsinki:20230722T170000
DTEND;TZID=Europe/Helsinki:20230723T170000
DTSTAMP:20260421T142550
CREATED:20230624T141631Z
LAST-MODIFIED:20230624T141631Z
UID:92405-1690045200-1690131600@klassikauto.pl
SUMMARY:4 zlot Rawskich klasyków
DESCRIPTION:
URL:https://klassikauto.pl/impreza/4-zlot-rawskich-klasykow/
LOCATION:Rawa Mazowiecka
CATEGORIES:Zlot
END:VEVENT
BEGIN:VEVENT
DTSTART;TZID=Europe/Helsinki:20230723T080000
DTEND;TZID=Europe/Helsinki:20230723T170000
DTSTAMP:20260421T142550
CREATED:20230624T131445Z
LAST-MODIFIED:20230624T131445Z
UID:92342-1690099200-1690131600@klassikauto.pl
SUMMARY:1. CAAR Oldtimertreffen
DESCRIPTION:
URL:https://klassikauto.pl/impreza/1-caar-oldtimertreffen/
LOCATION:Brückweiher\, Niemiec
CATEGORIES:Zlot
END:VEVENT
BEGIN:VEVENT
DTSTART;TZID=Europe/Helsinki:20230723T080000
DTEND;TZID=Europe/Helsinki:20230729T170000
DTSTAMP:20260421T142550
CREATED:20230212T122533Z
LAST-MODIFIED:20230212T122533Z
UID:87848-1690099200-1690650000@klassikauto.pl
SUMMARY:IV Rajd Tylko Dla Zuchwałych
DESCRIPTION:
URL:https://klassikauto.pl/impreza/iv-rajd-tylko-dla-zuchwalych/
LOCATION:Drezno\, Niemcy
CATEGORIES:Rajd
END:VEVENT
BEGIN:VEVENT
DTSTART;TZID=Europe/Helsinki:20230723T100000
DTEND;TZID=Europe/Helsinki:20230723T140000
DTSTAMP:20260421T142550
CREATED:20230514T170848Z
LAST-MODIFIED:20230514T170848Z
UID:90547-1690106400-1690120800@klassikauto.pl
SUMMARY:Zlot Klasycznej Motoryzacji w Suchowoli
DESCRIPTION:
URL:https://klassikauto.pl/impreza/zlot-klasycznej-motoryzacji-w-suchowoli/
LOCATION:Suchowola
CATEGORIES:Zlot
END:VEVENT
BEGIN:VEVENT
DTSTART;TZID=Europe/Helsinki:20230723T100000
DTEND;TZID=Europe/Helsinki:20230723T180000
DTSTAMP:20260421T142550
CREATED:20230624T135628Z
LAST-MODIFIED:20230624T135628Z
UID:92381-1690106400-1690135200@klassikauto.pl
SUMMARY:Belle Époque trifft Motorblock 2023
DESCRIPTION:
URL:https://klassikauto.pl/impreza/belle-epoque-trifft-motorblock-2023/
LOCATION:Lüdenscheid\, Niemcy
CATEGORIES:Zlot
END:VEVENT
BEGIN:VEVENT
DTSTART;TZID=Europe/Helsinki:20230723T120000
DTEND;TZID=Europe/Helsinki:20230723T170000
DTSTAMP:20260421T142550
CREATED:20230312T154322Z
LAST-MODIFIED:20230312T154322Z
UID:88811-1690113600-1690131600@klassikauto.pl
SUMMARY:V Auto Show Działdowo
DESCRIPTION:
URL:https://klassikauto.pl/impreza/v-auto-show-dzialdowo/
LOCATION:Działdowo
CATEGORIES:Zlot
END:VEVENT
BEGIN:VEVENT
DTSTART;TZID=Europe/Helsinki:20230723T120000
DTEND;TZID=Europe/Helsinki:20230723T230000
DTSTAMP:20260421T142550
CREATED:20230624T131648Z
LAST-MODIFIED:20230624T131648Z
UID:92345-1690113600-1690153200@klassikauto.pl
SUMMARY:Rock´n´Roll & Oldtimer Treff
DESCRIPTION:
URL:https://klassikauto.pl/impreza/rocknroll-oldtimer-treff/
LOCATION:Homburg\, Niemcy
CATEGORIES:Zlot
END:VEVENT
BEGIN:VEVENT
DTSTART;TZID=Europe/Helsinki:20230728T080000
DTEND;TZID=Europe/Helsinki:20230730T170000
DTSTAMP:20260421T142550
CREATED:20230624T164253Z
LAST-MODIFIED:20230624T164253Z
UID:92442-1690531200-1690736400@klassikauto.pl
SUMMARY:Hanomag und Mercedes Süddeutschlandtreffen 2023
DESCRIPTION:
URL:https://klassikauto.pl/impreza/hanomag-und-mercedes-suddeutschlandtreffen-2023/
LOCATION:Kressbronn\, Niemcy
CATEGORIES:Zlot
END:VEVENT
BEGIN:VEVENT
DTSTART;TZID=Europe/Helsinki:20230728T080000
DTEND;TZID=Europe/Helsinki:20230730T170000
DTSTAMP:20260421T142550
CREATED:20230625T074933Z
LAST-MODIFIED:20230625T074933Z
UID:92530-1690531200-1690736400@klassikauto.pl
SUMMARY:5. ročník Sokolovské ElegancRallye historických vozidel 2023
DESCRIPTION:
URL:https://klassikauto.pl/impreza/5-rocnik-sokolovske-elegancrallye-historickych-vozidel-2023/
LOCATION:Sokolov\, Czechy
CATEGORIES:Rajd
END:VEVENT
BEGIN:VEVENT
DTSTART;TZID=Europe/Helsinki:20230728T110000
DTEND;TZID=Europe/Helsinki:20230729T170000
DTSTAMP:20260421T142550
CREATED:20230212T122628Z
LAST-MODIFIED:20230523T173420Z
UID:87850-1690542000-1690650000@klassikauto.pl
SUMMARY:III Moto Piknik w Rudkach
DESCRIPTION:
URL:https://klassikauto.pl/impreza/iii-moto-piknik-w-rudkach/
LOCATION:Rudki
CATEGORIES:Zlot
END:VEVENT
BEGIN:VEVENT
DTSTART;TZID=Europe/Helsinki:20230728T120000
DTEND;TZID=Europe/Helsinki:20230730T150000
DTSTAMP:20260421T142550
CREATED:20230624T162658Z
LAST-MODIFIED:20230624T162658Z
UID:92431-1690545600-1690729200@klassikauto.pl
SUMMARY:18 Pomorski Zlot GarBus Rock & Blues Festival Kolbudy 2023
DESCRIPTION:
URL:https://klassikauto.pl/impreza/18-pomorski-zlot-garbus-rock-blues-festival-kolbudy-2023/
LOCATION:Kolbudy
CATEGORIES:Zlot
END:VEVENT
BEGIN:VEVENT
DTSTART;TZID=Europe/Helsinki:20230728T170000
DTEND;TZID=Europe/Helsinki:20230730T140000
DTSTAMP:20260421T142550
CREATED:20230624T125825Z
LAST-MODIFIED:20230624T125825Z
UID:92325-1690563600-1690725600@klassikauto.pl
SUMMARY:Ford Model A - Classic Meeting 2023
DESCRIPTION:
URL:https://klassikauto.pl/impreza/ford-model-a-classic-meeting-2023/
LOCATION:Kall\, Niemcy
CATEGORIES:Zlot
END:VEVENT
BEGIN:VEVENT
DTSTART;TZID=Europe/Helsinki:20230729T073000
DTEND;TZID=Europe/Helsinki:20230730T220000
DTSTAMP:20260421T142550
CREATED:20230410T151651Z
LAST-MODIFIED:20230410T151651Z
UID:89692-1690615800-1690754400@klassikauto.pl
SUMMARY:Rajd Krzyżacki - Akcja Malbork 2023
DESCRIPTION:
URL:https://klassikauto.pl/impreza/rajd-krzyzacki-akcja-malbork-2023/
LOCATION:Warszawa
CATEGORIES:Rajd
END:VEVENT
BEGIN:VEVENT
DTSTART;TZID=Europe/Helsinki:20230729T080000
DTEND;TZID=Europe/Helsinki:20230729T170000
DTSTAMP:20260421T142550
CREATED:20230624T115333Z
LAST-MODIFIED:20230624T115333Z
UID:92258-1690617600-1690650000@klassikauto.pl
SUMMARY:Sraz Amerik a veteránů Pacov
DESCRIPTION:
URL:https://klassikauto.pl/impreza/sraz-amerik-a-veteranu-pacov/
LOCATION:Pacov\, Czechy
CATEGORIES:Zlot
END:VEVENT
BEGIN:VEVENT
DTSTART;TZID=Europe/Helsinki:20230729T080000
DTEND;TZID=Europe/Helsinki:20230729T170000
DTSTAMP:20260421T142550
CREATED:20230625T075053Z
LAST-MODIFIED:20230625T075053Z
UID:92532-1690617600-1690650000@klassikauto.pl
SUMMARY:1. sraz Porsche replik
DESCRIPTION:
URL:https://klassikauto.pl/impreza/1-sraz-porsche-replik/
LOCATION:Dobrenice\, Czechy
CATEGORIES:Zlot
END:VEVENT
BEGIN:VEVENT
DTSTART;TZID=Europe/Helsinki:20230729T090000
DTEND;TZID=Europe/Helsinki:20230729T170000
DTSTAMP:20260421T142550
CREATED:20230312T154506Z
LAST-MODIFIED:20230312T154506Z
UID:88813-1690621200-1690650000@klassikauto.pl
SUMMARY:Sterne Treffen
DESCRIPTION:
URL:https://klassikauto.pl/impreza/sterne-treffen/
LOCATION:Walkenried\, Niemcy
CATEGORIES:Zlot
END:VEVENT
BEGIN:VEVENT
DTSTART;TZID=Europe/Helsinki:20230729T100000
DTEND;TZID=Europe/Helsinki:20230730T170000
DTSTAMP:20260421T142550
CREATED:20230514T183013Z
LAST-MODIFIED:20230514T183013Z
UID:90646-1690624800-1690736400@klassikauto.pl
SUMMARY:III Zawierciański Piknik Militarny 2023
DESCRIPTION:
URL:https://klassikauto.pl/impreza/iii-zawiercianski-piknik-militarny-2023/
LOCATION:Zawiercie
CATEGORIES:Zlot
END:VEVENT
BEGIN:VEVENT
DTSTART;TZID=Europe/Helsinki:20230729T110000
DTEND;TZID=Europe/Helsinki:20230729T170000
DTSTAMP:20260421T142550
CREATED:20230514T192421Z
LAST-MODIFIED:20230514T192421Z
UID:90669-1690628400-1690650000@klassikauto.pl
SUMMARY:TczeVWska Integracja III
DESCRIPTION:
URL:https://klassikauto.pl/impreza/tczevwska-integracja-iii/
LOCATION:Tczew
CATEGORIES:Zlot
END:VEVENT
BEGIN:VEVENT
DTSTART;TZID=Europe/Helsinki:20230729T140000
DTEND;TZID=Europe/Helsinki:20230729T180000
DTSTAMP:20260421T142550
CREATED:20230624T174248Z
LAST-MODIFIED:20230624T174248Z
UID:92465-1690639200-1690653600@klassikauto.pl
SUMMARY:Drugie PARKowanie Średzkich Youngtimerów
DESCRIPTION:
URL:https://klassikauto.pl/impreza/drugie-parkowanie-sredzkich-youngtimerow/
LOCATION:Środa Wielkopolska
CATEGORIES:Zlot
END:VEVENT
BEGIN:VEVENT
DTSTART;TZID=Europe/Helsinki:20230729T173000
DTEND;TZID=Europe/Helsinki:20230729T210000
DTSTAMP:20260421T142550
CREATED:20230312T154713Z
LAST-MODIFIED:20230312T154713Z
UID:88816-1690651800-1690664400@klassikauto.pl
SUMMARY:JapOnly vol. 6 - My Summer Car KRK
DESCRIPTION:
URL:https://klassikauto.pl/impreza/japonly-vol-6-my-summer-car-krk/
LOCATION:Kraków
CATEGORIES:Zlot
END:VEVENT
END:VCALENDAR
<!-- RunCloud Hub 2026-04-21 13:25:50 -->