BEGIN:VCALENDAR
VERSION:2.0
PRODID:-//KlassikAuto.pl - ECPv6.7.0//NONSGML v1.0//EN
CALSCALE:GREGORIAN
METHOD:PUBLISH
X-WR-CALNAME:KlassikAuto.pl
X-ORIGINAL-URL:https://klassikauto.pl
X-WR-CALDESC:Wydarzenia dla KlassikAuto.pl
REFRESH-INTERVAL;VALUE=DURATION:PT1H
X-Robots-Tag:noindex
X-PUBLISHED-TTL:PT1H
BEGIN:VTIMEZONE
TZID:Europe/Helsinki
BEGIN:DAYLIGHT
TZOFFSETFROM:+0200
TZOFFSETTO:+0300
TZNAME:EEST
DTSTART:20220327T010000
END:DAYLIGHT
BEGIN:STANDARD
TZOFFSETFROM:+0300
TZOFFSETTO:+0200
TZNAME:EET
DTSTART:20221030T010000
END:STANDARD
END:VTIMEZONE
BEGIN:VEVENT
DTSTART;TZID=Europe/Helsinki:20220401T080000
DTEND;TZID=Europe/Helsinki:20220626T170000
DTSTAMP:20260420T184105
CREATED:20220313T120331Z
LAST-MODIFIED:20220313T120331Z
UID:81998-1648800000-1656262800@klassikauto.pl
SUMMARY:One\, two\, three\, four - Cars and Rock&Roll
DESCRIPTION:
URL:https://klassikauto.pl/impreza/one-two-three-four-cars-and-rockroll/
LOCATION:Museum Autoworld\, Bruksela\, Belgia
CATEGORIES:Wystawa
END:VEVENT
BEGIN:VEVENT
DTSTART;TZID=Europe/Helsinki:20220512T080000
DTEND;TZID=Europe/Helsinki:20220514T170000
DTSTAMP:20260420T184105
CREATED:20220416T153326Z
LAST-MODIFIED:20220416T153326Z
UID:82831-1652342400-1652547600@klassikauto.pl
SUMMARY:OCC-Küstentrophy – Die Rallye am Meer
DESCRIPTION:
URL:https://klassikauto.pl/impreza/occ-kustentrophy-die-rallye-am-meer/
LOCATION:Küstentrophy\, Niemcy
CATEGORIES:Rajd
END:VEVENT
BEGIN:VEVENT
DTSTART;TZID=Europe/Helsinki:20220512T120000
DTEND;TZID=Europe/Helsinki:20220515T120000
DTSTAMP:20260420T184105
CREATED:20220410T082346Z
LAST-MODIFIED:20220410T082346Z
UID:82519-1652356800-1652616000@klassikauto.pl
SUMMARY:VII Zlot Motopodróżników
DESCRIPTION:
URL:https://klassikauto.pl/impreza/vii-zlot-motopodroznikow/
LOCATION:Myczkowce
CATEGORIES:Zlot
END:VEVENT
BEGIN:VEVENT
DTSTART;TZID=Europe/Helsinki:20220512T160000
DTEND;TZID=Europe/Helsinki:20220515T160000
DTSTAMP:20260420T184105
CREATED:20220313T073328Z
LAST-MODIFIED:20220313T073328Z
UID:81828-1652371200-1652630400@klassikauto.pl
SUMMARY:XIV Zlot Zabytkowych Citroënów - COCP
DESCRIPTION:Miejsce: Zamek Jan III Sobieski
URL:https://klassikauto.pl/impreza/xiv-zlot-zabytkowych-citroenow-cocp/
LOCATION:Rzucewo
CATEGORIES:Zlot
END:VEVENT
BEGIN:VEVENT
DTSTART;TZID=Europe/Helsinki:20220513T080000
DTEND;TZID=Europe/Helsinki:20220515T170000
DTSTAMP:20260420T184105
CREATED:20220313T073534Z
LAST-MODIFIED:20220313T073534Z
UID:81831-1652428800-1652634000@klassikauto.pl
SUMMARY:Moto Show Boguchwała
DESCRIPTION:
URL:https://klassikauto.pl/impreza/moto-show-boguchwala/
LOCATION:Boguchwała
CATEGORIES:Zlot
END:VEVENT
BEGIN:VEVENT
DTSTART;TZID=Europe/Helsinki:20220513T080000
DTEND;TZID=Europe/Helsinki:20220515T170000
DTSTAMP:20260420T184105
CREATED:20220416T170905Z
LAST-MODIFIED:20220416T170905Z
UID:82862-1652428800-1652634000@klassikauto.pl
SUMMARY:3. Škoda v srdci Beskyd
DESCRIPTION:
URL:https://klassikauto.pl/impreza/3-skoda-v-srdci-beskyd/
LOCATION:Nova Ves\, Czechy
CATEGORIES:Zlot
END:VEVENT
BEGIN:VEVENT
DTSTART;TZID=Europe/Helsinki:20220513T080000
DTEND;TZID=Europe/Helsinki:20220515T170000
DTSTAMP:20260420T184105
CREATED:20220416T171012Z
LAST-MODIFIED:20220416T171012Z
UID:82865-1652428800-1652634000@klassikauto.pl
SUMMARY:Budapest Oldtimer Show
DESCRIPTION:
URL:https://klassikauto.pl/impreza/budapest-oldtimer-show/
LOCATION:Budapeszt
CATEGORIES:Targi
END:VEVENT
BEGIN:VEVENT
DTSTART;TZID=Europe/Helsinki:20220513T110000
DTEND;TZID=Europe/Helsinki:20220515T140000
DTSTAMP:20260420T184105
CREATED:20220416T163023Z
LAST-MODIFIED:20220416T163023Z
UID:82834-1652439600-1652623200@klassikauto.pl
SUMMARY:5. Opel-Hecktriebler-Treffen
DESCRIPTION:
URL:https://klassikauto.pl/impreza/5-opel-hecktriebler-treffen/
CATEGORIES:Zlot
END:VEVENT
BEGIN:VEVENT
DTSTART;TZID=Europe/Helsinki:20220513T130000
DTEND;TZID=Europe/Helsinki:20220514T200000
DTSTAMP:20260420T184105
CREATED:20220403T135830Z
LAST-MODIFIED:20220403T135830Z
UID:82326-1652446800-1652558400@klassikauto.pl
SUMMARY:Retro Carpathia - MPHRR
DESCRIPTION:
URL:https://klassikauto.pl/impreza/retro-carpathia-mphrr/
LOCATION:Boguchwała
CATEGORIES:Rajd
END:VEVENT
BEGIN:VEVENT
DTSTART;TZID=Europe/Helsinki:20220514T080000
DTEND;TZID=Europe/Helsinki:20220514T170000
DTSTAMP:20260420T184105
CREATED:20220312T120657Z
LAST-MODIFIED:20220312T120657Z
UID:81752-1652515200-1652547600@klassikauto.pl
SUMMARY:2 Królewski Puchar Turystyczny 2021 "Rajd Bibliotekarza"
DESCRIPTION:
URL:https://klassikauto.pl/impreza/2-krolewski-puchar-turystyczny-2021-rajd-bibliotekarza/
LOCATION:Warszawa
CATEGORIES:Rajd
END:VEVENT
BEGIN:VEVENT
DTSTART;TZID=Europe/Helsinki:20220514T080000
DTEND;TZID=Europe/Helsinki:20220514T170000
DTSTAMP:20260420T184105
CREATED:20220416T164343Z
LAST-MODIFIED:20220416T164343Z
UID:82836-1652515200-1652547600@klassikauto.pl
SUMMARY:Oldtimer Rallye Hamburg
DESCRIPTION:
URL:https://klassikauto.pl/impreza/oldtimer-rallye-hamburg/
LOCATION:Hamburg\, Niemcy
CATEGORIES:Rajd
END:VEVENT
BEGIN:VEVENT
DTSTART;TZID=Europe/Helsinki:20220514T080000
DTEND;TZID=Europe/Helsinki:20220515T170000
DTSTAMP:20260420T184105
CREATED:20220416T151329Z
LAST-MODIFIED:20220416T151329Z
UID:82822-1652515200-1652634000@klassikauto.pl
SUMMARY:Brazzeltag
DESCRIPTION:zlot w Muzeum Techniki w Speyer
URL:https://klassikauto.pl/impreza/brazzeltag/
LOCATION:Speyer\, Niemcy
CATEGORIES:Zlot
END:VEVENT
BEGIN:VEVENT
DTSTART;TZID=Europe/Helsinki:20220514T090000
DTEND;TZID=Europe/Helsinki:20220514T170000
DTSTAMP:20260420T184105
CREATED:20220313T073911Z
LAST-MODIFIED:20220313T073911Z
UID:81835-1652518800-1652547600@klassikauto.pl
SUMMARY:Klasyczne Rozpoczęcie Sezonu 2022
DESCRIPTION:
URL:https://klassikauto.pl/impreza/klasyczne-rozpoczecie-sezonu-2022-2/
LOCATION:Brzesko
CATEGORIES:Zlot
END:VEVENT
BEGIN:VEVENT
DTSTART;TZID=Europe/Helsinki:20220514T100000
DTEND;TZID=Europe/Helsinki:20220515T160000
DTSTAMP:20260420T184105
CREATED:20220312T131309Z
LAST-MODIFIED:20220312T131309Z
UID:81804-1652522400-1652630400@klassikauto.pl
SUMMARY:Zlot klasycznej motoryzacji i custom bike
DESCRIPTION:
URL:https://klassikauto.pl/impreza/zlot-klasycznej-motoryzacji-i-custom-bike/
LOCATION:Warszawa
CATEGORIES:Zlot
END:VEVENT
BEGIN:VEVENT
DTSTART;TZID=Europe/Helsinki:20220514T120000
DTEND;TZID=Europe/Helsinki:20220514T200000
DTSTAMP:20260420T184105
CREATED:20220410T085833Z
LAST-MODIFIED:20220410T085833Z
UID:82552-1652529600-1652558400@klassikauto.pl
SUMMARY:I Swarzędzki Zlot Pojazdów Zabytkowych
DESCRIPTION:
URL:https://klassikauto.pl/impreza/i-swarzedzki-zlot-pojazdow-zabytkowych/
LOCATION:Swarzędz
CATEGORIES:Zlot
END:VEVENT
BEGIN:VEVENT
DTSTART;TZID=Europe/Helsinki:20220514T120000
DTEND;TZID=Europe/Helsinki:20220514T210000
DTSTAMP:20260420T184105
CREATED:20220403T125023Z
LAST-MODIFIED:20220509T154141Z
UID:82294-1652529600-1652562000@klassikauto.pl
SUMMARY:VII ClassicMania NIGHT
DESCRIPTION:Nocny Międzynarodowy Zlot Pojazdów Zabytkowych Trasami Górnego Śląska i Zagłębia.
URL:https://klassikauto.pl/impreza/vii-classicmania-night-nocny-miedzynarodowy-zlot-pojazdow-zabytkowych-2/
LOCATION:Sosnowiec
CATEGORIES:Zlot
END:VEVENT
BEGIN:VEVENT
DTSTART;TZID=Europe/Helsinki:20220514T130000
DTEND;TZID=Europe/Helsinki:20220514T190000
DTSTAMP:20260420T184105
CREATED:20220313T073734Z
LAST-MODIFIED:20220313T073734Z
UID:81833-1652533200-1652554800@klassikauto.pl
SUMMARY:Klasyczne Rozpoczęcie Sezonu 2022
DESCRIPTION:
URL:https://klassikauto.pl/impreza/klasyczne-rozpoczecie-sezonu-2022/
LOCATION:Turek
CATEGORIES:Zlot
END:VEVENT
BEGIN:VEVENT
DTSTART;TZID=Europe/Helsinki:20220514T140000
DTEND;TZID=Europe/Helsinki:20220514T170000
DTSTAMP:20260420T184105
CREATED:20220410T110003Z
LAST-MODIFIED:20220410T110003Z
UID:82640-1652536800-1652547600@klassikauto.pl
SUMMARY:Ogólnopolski Zlot MERCEDES-BENZ. Rozpoczęcie sezonu 2022 Mercedes South Side Crew\,
DESCRIPTION:
URL:https://klassikauto.pl/impreza/ogolnopolski-zlot-mercedes-benz-rozpoczecie-sezonu-2022-mercedes-south-side-crew/
LOCATION:Niegowoniczki
CATEGORIES:Zlot
END:VEVENT
BEGIN:VEVENT
DTSTART;TZID=Europe/Helsinki:20220514T140000
DTEND;TZID=Europe/Helsinki:20220514T180000
DTSTAMP:20260420T184105
CREATED:20220416T141549Z
LAST-MODIFIED:20220416T141549Z
UID:82769-1652536800-1652551200@klassikauto.pl
SUMMARY:Plener Muzealny w Kobyłce w ramach Nocy Muzeów 2022
DESCRIPTION:
URL:https://klassikauto.pl/impreza/plener-muzealny-w-kobylce-w-ramach-nocy-muzeow-2022/
LOCATION:Kobyłka
CATEGORIES:Wystawa
END:VEVENT
BEGIN:VEVENT
DTSTART;TZID=Europe/Helsinki:20220514T150000
DTEND;TZID=Europe/Helsinki:20220514T170000
DTSTAMP:20260420T184105
CREATED:20220403T124324Z
LAST-MODIFIED:20220403T124324Z
UID:82287-1652540400-1652547600@klassikauto.pl
SUMMARY:American Motor Day
DESCRIPTION:
URL:https://klassikauto.pl/impreza/american-motor-day/
LOCATION:Opole
CATEGORIES:Zlot
END:VEVENT
BEGIN:VEVENT
DTSTART;TZID=Europe/Helsinki:20220514T150000
DTEND;TZID=Europe/Helsinki:20220514T170000
DTSTAMP:20260420T184105
CREATED:20220403T153338Z
LAST-MODIFIED:20220403T153338Z
UID:82375-1652540400-1652547600@klassikauto.pl
SUMMARY:Sea Side Car Show
DESCRIPTION:
URL:https://klassikauto.pl/impreza/sea-side-car-show/
LOCATION:ZeeBrugge\, Belgia
CATEGORIES:Zlot
END:VEVENT
BEGIN:VEVENT
DTSTART;TZID=Europe/Helsinki:20220515T080000
DTEND;TZID=Europe/Helsinki:20220515T170000
DTSTAMP:20260420T184105
CREATED:20220410T101947Z
LAST-MODIFIED:20220410T101947Z
UID:82609-1652601600-1652634000@klassikauto.pl
SUMMARY:Klasyki na torze
DESCRIPTION:
URL:https://klassikauto.pl/impreza/klasyki-na-torze-3/
LOCATION:Pomorze
CATEGORIES:Zlot
END:VEVENT
BEGIN:VEVENT
DTSTART;TZID=Europe/Helsinki:20220515T100000
DTEND;TZID=Europe/Helsinki:20220515T190000
DTSTAMP:20260420T184105
CREATED:20220410T110753Z
LAST-MODIFIED:20220410T110753Z
UID:82647-1652608800-1652641200@klassikauto.pl
SUMMARY:I Ogólnopolska Wystawa Samochodów Marzeń
DESCRIPTION:
URL:https://klassikauto.pl/impreza/i-ogolnopolska-wystawa-samochodow-marzen/
LOCATION:Świdnica
CATEGORIES:Wystawa
END:VEVENT
BEGIN:VEVENT
DTSTART;TZID=Europe/Helsinki:20220516T080000
DTEND;TZID=Europe/Helsinki:20220520T170000
DTSTAMP:20260420T184105
CREATED:20220403T154000Z
LAST-MODIFIED:20220403T154000Z
UID:82378-1652688000-1653066000@klassikauto.pl
SUMMARY:Volzet/Wachtlijst - Oldtimerreis naar de sublieme tuinen van Engeland
DESCRIPTION:
URL:https://klassikauto.pl/impreza/volzet-wachtlijst-oldtimerreis-naar-de-sublieme-tuinen-van-engeland/
LOCATION:Belgia
CATEGORIES:Zlot
END:VEVENT
BEGIN:VEVENT
DTSTART;TZID=Europe/Helsinki:20220519T150000
DTEND;TZID=Europe/Helsinki:20220522T120000
DTSTAMP:20260420T184105
CREATED:20220416T143752Z
LAST-MODIFIED:20220416T143752Z
UID:82801-1652972400-1653220800@klassikauto.pl
SUMMARY:Ferrari Mountain Challenge 2022
DESCRIPTION:
URL:https://klassikauto.pl/impreza/ferrari-mountain-challenge-2022/
LOCATION:Jelenia Góra
CATEGORIES:Rajd
END:VEVENT
BEGIN:VEVENT
DTSTART;TZID=Europe/Helsinki:20220520T080000
DTEND;TZID=Europe/Helsinki:20220522T170000
DTSTAMP:20260420T184105
CREATED:20220313T114446Z
LAST-MODIFIED:20220313T114446Z
UID:81967-1653033600-1653238800@klassikauto.pl
SUMMARY:Nürburgring Classic
DESCRIPTION:
URL:https://klassikauto.pl/impreza/nurburgring-classic-3/
LOCATION:Nuerburgring\, Niemcy
CATEGORIES:Rajd
END:VEVENT
BEGIN:VEVENT
DTSTART;TZID=Europe/Helsinki:20220520T080000
DTEND;TZID=Europe/Helsinki:20220522T170000
DTSTAMP:20260420T184105
CREATED:20220525T183155Z
LAST-MODIFIED:20220525T183155Z
UID:83496-1653033600-1653238800@klassikauto.pl
SUMMARY:Majowy zlot na wałach pod patronatem Burmistrza Brzegu Dolnego
DESCRIPTION:
URL:https://klassikauto.pl/impreza/majowy-zlot-na-walach-pod-patronatem-burmistrza-brzegu-dolnego/
LOCATION:Brzeg Dolny
CATEGORIES:Zlot
END:VEVENT
BEGIN:VEVENT
DTSTART;TZID=Europe/Helsinki:20220520T170000
DTEND;TZID=Europe/Helsinki:20220521T160000
DTSTAMP:20260420T184105
CREATED:20220403T124608Z
LAST-MODIFIED:20220403T124608Z
UID:82289-1653066000-1653148800@klassikauto.pl
SUMMARY:XII Zlot Aut Amerykańskich i Zabytkowych
DESCRIPTION:
URL:https://klassikauto.pl/impreza/xii-zlot-aut-amerykanskich-i-zabytkowych/
LOCATION:Bożejewiczki
CATEGORIES:Zlot
END:VEVENT
BEGIN:VEVENT
DTSTART;TZID=Europe/Helsinki:20220520T190000
DTEND;TZID=Europe/Helsinki:20220521T120000
DTSTAMP:20260420T184105
CREATED:20220509T152411Z
LAST-MODIFIED:20220509T152456Z
UID:83137-1653073200-1653134400@klassikauto.pl
SUMMARY:Klasyki na granicy
DESCRIPTION:21 maja – Rajd Turystyczny – CIESZYN – OCHABY – CIESZYN \n20-22 maja – Zlot – CAMPING POD CZARNYM BOCIANEM
URL:https://klassikauto.pl/impreza/klasyki-na-granicy/
LOCATION:Cieszyn
CATEGORIES:Zlot
END:VEVENT
BEGIN:VEVENT
DTSTART;TZID=Europe/Helsinki:20220521T080000
DTEND;TZID=Europe/Helsinki:20220521T170000
DTSTAMP:20260420T184105
CREATED:20220416T164552Z
LAST-MODIFIED:20220416T164552Z
UID:82838-1653120000-1653152400@klassikauto.pl
SUMMARY:7th Duisburg Logport Charity Event
DESCRIPTION:
URL:https://klassikauto.pl/impreza/7th-duisburg-logport-charity-event/
LOCATION:Duisburg\, Niemcy
CATEGORIES:Zlot
END:VEVENT
END:VCALENDAR
<!-- RunCloud Hub 2026-04-20 17:41:05 -->