BEGIN:VCALENDAR
VERSION:2.0
PRODID:-//KlassikAuto.pl - ECPv6.7.0//NONSGML v1.0//EN
CALSCALE:GREGORIAN
METHOD:PUBLISH
X-WR-CALNAME:KlassikAuto.pl
X-ORIGINAL-URL:https://klassikauto.pl
X-WR-CALDESC:Wydarzenia dla KlassikAuto.pl
REFRESH-INTERVAL;VALUE=DURATION:PT1H
X-Robots-Tag:noindex
X-PUBLISHED-TTL:PT1H
BEGIN:VTIMEZONE
TZID:Europe/Helsinki
BEGIN:DAYLIGHT
TZOFFSETFROM:+0200
TZOFFSETTO:+0300
TZNAME:EEST
DTSTART:20220327T010000
END:DAYLIGHT
BEGIN:STANDARD
TZOFFSETFROM:+0300
TZOFFSETTO:+0200
TZNAME:EET
DTSTART:20221030T010000
END:STANDARD
END:VTIMEZONE
BEGIN:VEVENT
DTSTART;TZID=Europe/Helsinki:20220401T080000
DTEND;TZID=Europe/Helsinki:20220626T170000
DTSTAMP:20260425T171824
CREATED:20220313T120331Z
LAST-MODIFIED:20220313T120331Z
UID:81998-1648800000-1656262800@klassikauto.pl
SUMMARY:One\, two\, three\, four - Cars and Rock&Roll
DESCRIPTION:
URL:https://klassikauto.pl/impreza/one-two-three-four-cars-and-rockroll/
LOCATION:Museum Autoworld\, Bruksela\, Belgia
CATEGORIES:Wystawa
END:VEVENT
BEGIN:VEVENT
DTSTART;TZID=Europe/Helsinki:20220429T160000
DTEND;TZID=Europe/Helsinki:20220501T100000
DTSTAMP:20260425T171824
CREATED:20220403T134704Z
LAST-MODIFIED:20220403T134704Z
UID:82316-1651248000-1651399200@klassikauto.pl
SUMMARY:10 Majówka Rezerwy 126p
DESCRIPTION:
URL:https://klassikauto.pl/impreza/10-majowka-rezerwy-126p/
LOCATION:Zarzecze
CATEGORIES:Zlot
END:VEVENT
BEGIN:VEVENT
DTSTART;TZID=Europe/Helsinki:20220429T180000
DTEND;TZID=Europe/Helsinki:20220501T120000
DTSTAMP:20260425T171824
CREATED:20220410T101244Z
LAST-MODIFIED:20220410T101244Z
UID:82597-1651255200-1651406400@klassikauto.pl
SUMMARY:Maluchowa Majówka Siedlec k/Wolsztyna
DESCRIPTION:
URL:https://klassikauto.pl/impreza/maluchowa-majowka-siedlec-k-wolsztyna/
LOCATION:Nowa Wieś Zbąska
CATEGORIES:Zlot
END:VEVENT
BEGIN:VEVENT
DTSTART;TZID=Europe/Helsinki:20220429T200000
DTEND;TZID=Europe/Helsinki:20220503T120000
DTSTAMP:20260425T171824
CREATED:20220312T132034Z
LAST-MODIFIED:20220312T132034Z
UID:81813-1651262400-1651579200@klassikauto.pl
SUMMARY:VII Piknik Nekielski po Ziemi Świętokrzyskiej i Podkarpaciu
DESCRIPTION:
URL:https://klassikauto.pl/impreza/vii-piknik-nekielski-po-ziemi-swietokrzyskiej-i-podkarpaciu/
LOCATION:Stalowa Wola\, Poland
CATEGORIES:Zlot
END:VEVENT
BEGIN:VEVENT
DTSTART;TZID=Europe/Helsinki:20220501T080000
DTEND;TZID=Europe/Helsinki:20220501T170000
DTSTAMP:20260425T171824
CREATED:20220404T180128Z
LAST-MODIFIED:20220404T180128Z
UID:82445-1651392000-1651424400@klassikauto.pl
SUMMARY:Grosser Oldtimer/Youngtimer Saisonseröffnungs-Brunch
DESCRIPTION:
URL:https://klassikauto.pl/impreza/grosser-oldtimer-youngtimer-saisonseroffnungs-brunch/
LOCATION:Safenwil\, Szwajcaria
CATEGORIES:Zlot
END:VEVENT
BEGIN:VEVENT
DTSTART;TZID=Europe/Helsinki:20220501T080000
DTEND;TZID=Europe/Helsinki:20220501T170000
DTSTAMP:20260425T171824
CREATED:20220416T170343Z
LAST-MODIFIED:20220416T170343Z
UID:82850-1651392000-1651424400@klassikauto.pl
SUMMARY:XXIV. Mezinárodní soutěž elegance historických vozidel
DESCRIPTION:
URL:https://klassikauto.pl/impreza/xxiv-mezinarodni-soutez-elegance-historickych-vozidel/
CATEGORIES:Zlot
END:VEVENT
BEGIN:VEVENT
DTSTART;TZID=Europe/Helsinki:20220501T080000
DTEND;TZID=Europe/Helsinki:20220501T183000
DTSTAMP:20260425T171824
CREATED:20220416T150207Z
LAST-MODIFIED:20220416T150207Z
UID:82816-1651392000-1651429800@klassikauto.pl
SUMMARY:32. Rajd Podkarpacki
DESCRIPTION:
URL:https://klassikauto.pl/impreza/32-rajd-podkarpacki/
LOCATION:Krosno
CATEGORIES:Rajd
END:VEVENT
BEGIN:VEVENT
DTSTART;TZID=Europe/Helsinki:20220501T080000
DTEND;TZID=Europe/Helsinki:20220503T170000
DTSTAMP:20260425T171824
CREATED:20220403T135556Z
LAST-MODIFIED:20220403T135556Z
UID:82323-1651392000-1651597200@klassikauto.pl
SUMMARY:Wielka trzebińska Majówka 2022
DESCRIPTION:
URL:https://klassikauto.pl/impreza/wielka-trzebinska-majowka-2022/
LOCATION:Ochronkowa
CATEGORIES:Zlot
END:VEVENT
BEGIN:VEVENT
DTSTART;TZID=Europe/Helsinki:20220501T090000
DTEND;TZID=Europe/Helsinki:20220501T170000
DTSTAMP:20260425T171824
CREATED:20220416T144223Z
LAST-MODIFIED:20220416T144223Z
UID:82809-1651395600-1651424400@klassikauto.pl
SUMMARY:Majówka z Klasyczną Niedzielą
DESCRIPTION:
URL:https://klassikauto.pl/impreza/majowka-z-klasyczna-niedziela/
LOCATION:Będzin
CATEGORIES:Zlot
END:VEVENT
BEGIN:VEVENT
DTSTART;TZID=Europe/Helsinki:20220501T090000
DTEND;TZID=Europe/Helsinki:20220501T170000
DTSTAMP:20260425T171824
CREATED:20220416T144406Z
LAST-MODIFIED:20220416T144406Z
UID:82811-1651395600-1651424400@klassikauto.pl
SUMMARY:3Klasyczna Gorlicka Majówka
DESCRIPTION:
URL:https://klassikauto.pl/impreza/3klasyczna-gorlicka-majowka/
LOCATION:Gorlice
CATEGORIES:Zlot
END:VEVENT
BEGIN:VEVENT
DTSTART;TZID=Europe/Helsinki:20220501T110000
DTEND;TZID=Europe/Helsinki:20220501T170000
DTSTAMP:20260425T171824
CREATED:20220403T135139Z
LAST-MODIFIED:20220403T135139Z
UID:82318-1651402800-1651424400@klassikauto.pl
SUMMARY:Zlot Syren i Warszaw - Stalowa Wola 2022 - Rozpoczęcie Sezonu Pojazdów Zabytkowych
DESCRIPTION:
URL:https://klassikauto.pl/impreza/zlot-syren-i-warszaw-stalowa-wola-2022-rozpoczecie-sezonu-pojazdow-zabytkowych/
LOCATION:Stalowa Wola\, Poland
CATEGORIES:Zlot
END:VEVENT
BEGIN:VEVENT
DTSTART;TZID=Europe/Helsinki:20220501T120000
DTEND;TZID=Europe/Helsinki:20220501T170000
DTSTAMP:20260425T171824
CREATED:20220410T081758Z
LAST-MODIFIED:20220410T081758Z
UID:82510-1651406400-1651424400@klassikauto.pl
SUMMARY:Rozpoczęcie Sezonu Motocyklowego 2022
DESCRIPTION:
URL:https://klassikauto.pl/impreza/rozpoczecie-sezonu-motocyklowego-2022-2/
LOCATION:Sandomierz
CATEGORIES:Zlot
END:VEVENT
BEGIN:VEVENT
DTSTART;TZID=Europe/Helsinki:20220501T120000
DTEND;TZID=Europe/Helsinki:20220501T170000
DTSTAMP:20260425T171824
CREATED:20220416T143852Z
LAST-MODIFIED:20220416T143852Z
UID:82803-1651406400-1651424400@klassikauto.pl
SUMMARY:Spotkajmy się - czyli rozpoczęcie sezonu Kłodzkiego Ruchu Klasyków
DESCRIPTION:
URL:https://klassikauto.pl/impreza/spotkajmy-sie-czyli-rozpoczecie-sezonu-klodzkiego-ruchu-klasykow/
LOCATION:Nowa Ruda
CATEGORIES:Zlot
END:VEVENT
BEGIN:VEVENT
DTSTART;TZID=Europe/Helsinki:20220501T120000
DTEND;TZID=Europe/Helsinki:20220501T200000
DTSTAMP:20260425T171824
CREATED:20220403T135405Z
LAST-MODIFIED:20220403T135405Z
UID:82320-1651406400-1651435200@klassikauto.pl
SUMMARY:Powrót do przeszłości Trzebinia w PRL 2022
DESCRIPTION:
URL:https://klassikauto.pl/impreza/powrot-do-przeszlosci-trzebinia-w-prl-2022/
LOCATION:Trzebinia
CATEGORIES:Zlot
END:VEVENT
BEGIN:VEVENT
DTSTART;TZID=Europe/Helsinki:20220501T130000
DTEND;TZID=Europe/Helsinki:20220501T170000
DTSTAMP:20260425T171824
CREATED:20220313T072557Z
LAST-MODIFIED:20220313T072557Z
UID:81820-1651410000-1651424400@klassikauto.pl
SUMMARY:Skansenówka - 2 edycja
DESCRIPTION:
URL:https://klassikauto.pl/impreza/skansenowka-2-edycja/
LOCATION:Chlewiska
CATEGORIES:Zlot
END:VEVENT
BEGIN:VEVENT
DTSTART;TZID=Europe/Helsinki:20220501T130000
DTEND;TZID=Europe/Helsinki:20220501T170000
DTSTAMP:20260425T171824
CREATED:20220416T141933Z
LAST-MODIFIED:20220416T141933Z
UID:82774-1651410000-1651424400@klassikauto.pl
SUMMARY:1 Zlot Pojazdów Retro
DESCRIPTION:
URL:https://klassikauto.pl/impreza/1-zlot-pojazdow-retro/
LOCATION:Brańsk
CATEGORIES:Zlot
END:VEVENT
BEGIN:VEVENT
DTSTART;TZID=Europe/Helsinki:20220501T163000
DTEND;TZID=Europe/Helsinki:20220501T190000
DTSTAMP:20260425T171824
CREATED:20220410T104826Z
LAST-MODIFIED:20220410T104826Z
UID:82631-1651422600-1651431600@klassikauto.pl
SUMMARY:Przyjedź klasykiem do Mieszkowa - Święto Pracy z klasykami w Mieszkowie
DESCRIPTION:
URL:https://klassikauto.pl/impreza/przyjedz-klasykiem-do-mieszkowa-swieto-pracy-z-klasykami-w-mieszkowie/
LOCATION:Mieszków
CATEGORIES:Zlot
END:VEVENT
BEGIN:VEVENT
DTSTART;TZID=Europe/Helsinki:20220503T100000
DTEND;TZID=Europe/Helsinki:20220503T170000
DTSTAMP:20260425T171824
CREATED:20220410T094057Z
LAST-MODIFIED:20220410T094057Z
UID:82563-1651572000-1651597200@klassikauto.pl
SUMMARY:44 Rocznica Poloneza
DESCRIPTION:
URL:https://klassikauto.pl/impreza/44-rocznica-poloneza/
LOCATION:Warszawa
CATEGORIES:Zlot
END:VEVENT
BEGIN:VEVENT
DTSTART;TZID=Europe/Helsinki:20220503T120000
DTEND;TZID=Europe/Helsinki:20220503T160000
DTSTAMP:20260425T171824
CREATED:20220410T084851Z
LAST-MODIFIED:20220410T084851Z
UID:82543-1651579200-1651593600@klassikauto.pl
SUMMARY:Majówka z PRL - powrót
DESCRIPTION:
URL:https://klassikauto.pl/impreza/majowka-z-prl-powrot/
LOCATION:Sicienko
CATEGORIES:Zlot
END:VEVENT
BEGIN:VEVENT
DTSTART;TZID=Europe/Helsinki:20220506T080000
DTEND;TZID=Europe/Helsinki:20220508T170000
DTSTAMP:20260425T171824
CREATED:20220404T182043Z
LAST-MODIFIED:20220404T182043Z
UID:82458-1651824000-1652029200@klassikauto.pl
SUMMARY:Motorworld Classics Bodensee
DESCRIPTION:
URL:https://klassikauto.pl/impreza/motorworld-classics-bodensee-2/
LOCATION:Friedrichshafen\, Niemcy
CATEGORIES:Targi
END:VEVENT
BEGIN:VEVENT
DTSTART;TZID=Europe/Helsinki:20220506T080000
DTEND;TZID=Europe/Helsinki:20220508T170000
DTSTAMP:20260425T171824
CREATED:20220416T151616Z
LAST-MODIFIED:20220416T151616Z
UID:82824-1651824000-1652029200@klassikauto.pl
SUMMARY:Bosch Hockenheim Historic 2022
DESCRIPTION:
URL:https://klassikauto.pl/impreza/bosch-hockenheim-historic-2022/
LOCATION:Hockenheim\, Germany
CATEGORIES:Zlot
END:VEVENT
BEGIN:VEVENT
DTSTART;TZID=Europe/Helsinki:20220506T080000
DTEND;TZID=Europe/Helsinki:20220508T170000
DTSTAMP:20260425T171824
CREATED:20220416T151956Z
LAST-MODIFIED:20220416T151956Z
UID:82826-1651824000-1652029200@klassikauto.pl
SUMMARY:Bulli-Days
DESCRIPTION:
URL:https://klassikauto.pl/impreza/bulli-days/
LOCATION:Vöhl\, Niemcy
CATEGORIES:Zlot
END:VEVENT
BEGIN:VEVENT
DTSTART;TZID=Europe/Helsinki:20220506T150000
DTEND;TZID=Europe/Helsinki:20220508T190000
DTSTAMP:20260425T171824
CREATED:20220313T072740Z
LAST-MODIFIED:20220313T072740Z
UID:81822-1651849200-1652036400@klassikauto.pl
SUMMARY:XII Zlot Samochodów Amerykańskich i Zabytkowych
DESCRIPTION:
URL:https://klassikauto.pl/impreza/xii-zlot-samochodow-amerykanskich-i-zabytkowych/
LOCATION:Grudziądz
CATEGORIES:Zlot
END:VEVENT
BEGIN:VEVENT
DTSTART;TZID=Europe/Helsinki:20220507T080000
DTEND;TZID=Europe/Helsinki:20220507T170000
DTSTAMP:20260425T171824
CREATED:20220416T152140Z
LAST-MODIFIED:20220416T152140Z
UID:82829-1651910400-1651942800@klassikauto.pl
SUMMARY:Magdeburger Oldtimertag
DESCRIPTION:
URL:https://klassikauto.pl/impreza/magdeburger-oldtimertag/
LOCATION:Magdeburg\, Niemcy
CATEGORIES:Zlot
END:VEVENT
BEGIN:VEVENT
DTSTART;TZID=Europe/Helsinki:20220507T080000
DTEND;TZID=Europe/Helsinki:20220507T170000
DTSTAMP:20260425T171824
CREATED:20220416T170630Z
LAST-MODIFIED:20220416T170630Z
UID:82856-1651910400-1651942800@klassikauto.pl
SUMMARY:Mototour Javorník
DESCRIPTION:
URL:https://klassikauto.pl/impreza/mototour-javornik/
LOCATION:Javornik\, Czechy
CATEGORIES:Zlot
END:VEVENT
BEGIN:VEVENT
DTSTART;TZID=Europe/Helsinki:20220507T090000
DTEND;TZID=Europe/Helsinki:20220507T170000
DTSTAMP:20260425T171824
CREATED:20220313T072941Z
LAST-MODIFIED:20220313T072941Z
UID:81824-1651914000-1651942800@klassikauto.pl
SUMMARY:II Kurdeszowy Rajd Samochodowy
DESCRIPTION:
URL:https://klassikauto.pl/impreza/ii-kurdeszowy-rajd-samochodowy/
LOCATION:Kostrzyn
CATEGORIES:Rajd
END:VEVENT
BEGIN:VEVENT
DTSTART;TZID=Europe/Helsinki:20220507T090000
DTEND;TZID=Europe/Helsinki:20220508T180000
DTSTAMP:20260425T171824
CREATED:20220403T152855Z
LAST-MODIFIED:20220403T152855Z
UID:82370-1651914000-1652032800@klassikauto.pl
SUMMARY:Antwerp Classic & GT Tour 2022
DESCRIPTION:
URL:https://klassikauto.pl/impreza/antwerp-classic-gt-tour-2022/
LOCATION:Brasschaat\, Belgia
CATEGORIES:Rajd,Zlot
END:VEVENT
BEGIN:VEVENT
DTSTART;TZID=Europe/Helsinki:20220507T110000
DTEND;TZID=Europe/Helsinki:20220508T170000
DTSTAMP:20260425T171824
CREATED:20220313T073126Z
LAST-MODIFIED:20220313T073126Z
UID:81826-1651921200-1652029200@klassikauto.pl
SUMMARY:XIII Rozpoczęcie Sezonu Motocyklowego SMS Sochaczew
DESCRIPTION:
URL:https://klassikauto.pl/impreza/xiii-rozpoczecie-sezonu-motocyklowego-sms-sochaczew/
LOCATION:Sochaczew
CATEGORIES:Zlot
END:VEVENT
BEGIN:VEVENT
DTSTART;TZID=Europe/Helsinki:20220508T080000
DTEND;TZID=Europe/Helsinki:20220508T170000
DTSTAMP:20260425T171824
CREATED:20220416T170740Z
LAST-MODIFIED:20220416T170740Z
UID:82859-1651996800-1652029200@klassikauto.pl
SUMMARY:XV. ročník \,Stopou slánského Oriona
DESCRIPTION:
URL:https://klassikauto.pl/impreza/xv-rocnik-stopou-slanskeho-oriona-2/
LOCATION:Velvary\, Czechy
CATEGORIES:Zlot
END:VEVENT
BEGIN:VEVENT
DTSTART;TZID=Europe/Helsinki:20220508T093000
DTEND;TZID=Europe/Helsinki:20220508T170000
DTSTAMP:20260425T171824
CREATED:20220403T153125Z
LAST-MODIFIED:20220403T153125Z
UID:82372-1652002200-1652029200@klassikauto.pl
SUMMARY:Oldtimerrit
DESCRIPTION:2 Classic Tour Brakel
URL:https://klassikauto.pl/impreza/oldtimerrit/
LOCATION:Brakel\, Belgia
CATEGORIES:Rajd
END:VEVENT
END:VCALENDAR
<!-- RunCloud Hub 2026-04-25 16:18:24 -->