BEGIN:VCALENDAR
VERSION:2.0
PRODID:-//KlassikAuto.pl - ECPv6.7.0//NONSGML v1.0//EN
CALSCALE:GREGORIAN
METHOD:PUBLISH
X-WR-CALNAME:KlassikAuto.pl
X-ORIGINAL-URL:https://klassikauto.pl
X-WR-CALDESC:Wydarzenia dla KlassikAuto.pl
REFRESH-INTERVAL;VALUE=DURATION:PT1H
X-Robots-Tag:noindex
X-PUBLISHED-TTL:PT1H
BEGIN:VTIMEZONE
TZID:Europe/Helsinki
BEGIN:DAYLIGHT
TZOFFSETFROM:+0200
TZOFFSETTO:+0300
TZNAME:EEST
DTSTART:20210328T010000
END:DAYLIGHT
BEGIN:STANDARD
TZOFFSETFROM:+0300
TZOFFSETTO:+0200
TZNAME:EET
DTSTART:20211031T010000
END:STANDARD
BEGIN:DAYLIGHT
TZOFFSETFROM:+0200
TZOFFSETTO:+0300
TZNAME:EEST
DTSTART:20220327T010000
END:DAYLIGHT
BEGIN:STANDARD
TZOFFSETFROM:+0300
TZOFFSETTO:+0200
TZNAME:EET
DTSTART:20221030T010000
END:STANDARD
END:VTIMEZONE
BEGIN:VEVENT
DTSTART;TZID=Europe/Helsinki:20210916T080000
DTEND;TZID=Europe/Helsinki:20210919T170000
DTSTAMP:20260421T082913
CREATED:20210417T110604Z
LAST-MODIFIED:20210417T112944Z
UID:77456-1631779200-1632070800@klassikauto.pl
SUMMARY:I Europejski Zlot Forda Modelu T oraz automobili i motocykli wyprodukowanych do roku 1930
DESCRIPTION:
URL:https://klassikauto.pl/impreza/i-europejski-zlot-forda-modelu-t-oraz-automobili-i-motocykli-wyprodukowanych-do-roku-1930/
LOCATION:Jelenia Góra
CATEGORIES:Zlot
END:VEVENT
BEGIN:VEVENT
DTSTART;TZID=Europe/Helsinki:20210916T160000
DTEND;TZID=Europe/Helsinki:20210916T170000
DTSTAMP:20260421T082913
CREATED:20210822T083644Z
LAST-MODIFIED:20210822T083644Z
UID:79084-1631808000-1631811600@klassikauto.pl
SUMMARY:48. Poznański Międzynarodowy Rajd Pojazdów Zabytkowych
DESCRIPTION:
URL:https://klassikauto.pl/impreza/48-poznanski-miedzynarodowy-rajd-pojazdow-zabytkowych/
LOCATION:Poznań
CATEGORIES:Rajd
END:VEVENT
BEGIN:VEVENT
DTSTART;TZID=Europe/Helsinki:20210918T080000
DTEND;TZID=Europe/Helsinki:20210918T170000
DTSTAMP:20260421T082913
CREATED:20210418T110657Z
LAST-MODIFIED:20210418T110657Z
UID:77587-1631952000-1631984400@klassikauto.pl
SUMMARY:3. ročník srazu auto-moto veteránů HK
DESCRIPTION:
URL:https://klassikauto.pl/impreza/3-rocnik-srazu-auto-moto-veteranu-hk/
LOCATION:Předměřice n. Labem\, Czechy
CATEGORIES:Zlot
END:VEVENT
BEGIN:VEVENT
DTSTART;TZID=Europe/Helsinki:20210918T080000
DTEND;TZID=Europe/Helsinki:20210919T170000
DTSTAMP:20260421T082913
CREATED:20210417T100149Z
LAST-MODIFIED:20210417T100149Z
UID:77437-1631952000-1632070800@klassikauto.pl
SUMMARY:Moto Weteran Bazar
DESCRIPTION:zob. także Facebook
URL:https://klassikauto.pl/impreza/moto-weteran-bazar-5/
LOCATION:Łódź
CATEGORIES:Aukcja
END:VEVENT
BEGIN:VEVENT
DTSTART;TZID=Europe/Helsinki:20210918T100000
DTEND;TZID=Europe/Helsinki:20210918T170000
DTSTAMP:20260421T082913
CREATED:20210417T120522Z
LAST-MODIFIED:20210417T120522Z
UID:77474-1631959200-1631984400@klassikauto.pl
SUMMARY:Youngtimers Show 2021
DESCRIPTION:
URL:https://klassikauto.pl/impreza/youngtimers-show-2021/
LOCATION:Dąbrowa Górnicza
CATEGORIES:Zlot
END:VEVENT
BEGIN:VEVENT
DTSTART;TZID=Europe/Helsinki:20210918T100000
DTEND;TZID=Europe/Helsinki:20210919T180000
DTSTAMP:20260421T082913
CREATED:20210703T060118Z
LAST-MODIFIED:20210703T060444Z
UID:78404-1631959200-1632074400@klassikauto.pl
SUMMARY:XIII Zlot Zabytkowych Pojazdów w Miasteczku Galicyjskim
DESCRIPTION:Zgłoszenia przyjmowane są od 1 lipca do 31 sierpnia 2021 r.\n\n\nSzczegóły: www.miasteczko-galicyjskie.pl/?page_id=2903\n\n\nZainteresowanych prosimy o kontakt:\nBiuro Zlotu:\ntel. 18 444 35 70 / 785190726\ne-mail: miasteczko@muzeum.sacz.pl
URL:https://klassikauto.pl/impreza/xiii-zlot-zabytkowych-pojazdow-w-miasteczku-galicyjskim/
LOCATION:Miasteczko Galicyjskie w Nowym Sączu
CATEGORIES:Zlot
END:VEVENT
BEGIN:VEVENT
DTSTART;TZID=Europe/Helsinki:20210919T080000
DTEND;TZID=Europe/Helsinki:20210919T170000
DTSTAMP:20260421T082913
CREATED:20210213T100854Z
LAST-MODIFIED:20210213T100854Z
UID:76646-1632038400-1632070800@klassikauto.pl
SUMMARY:Oldtimer-Teilemarkt
DESCRIPTION:
URL:https://klassikauto.pl/impreza/oldtimer-teilemarkt/
LOCATION:Lipsk\, Niemcy
CATEGORIES:Aukcja
END:VEVENT
BEGIN:VEVENT
DTSTART;TZID=Europe/Helsinki:20210924T180000
DTEND;TZID=Europe/Helsinki:20210926T170000
DTSTAMP:20260421T082913
CREATED:20210417T115805Z
LAST-MODIFIED:20210417T115805Z
UID:77469-1632506400-1632675600@klassikauto.pl
SUMMARY:Moto Fest 2021
DESCRIPTION:
URL:https://klassikauto.pl/impreza/moto-fest-2021/
LOCATION:Czchów
CATEGORIES:Zlot
END:VEVENT
BEGIN:VEVENT
DTSTART;TZID=Europe/Helsinki:20210925T080000
DTEND;TZID=Europe/Helsinki:20210926T170000
DTSTAMP:20260421T082913
CREATED:20210822T102527Z
LAST-MODIFIED:20210822T102527Z
UID:79159-1632556800-1632675600@klassikauto.pl
SUMMARY:XII Rajd Ikarusa
DESCRIPTION:
URL:https://klassikauto.pl/impreza/xii-rajd-ikarusa/
LOCATION:Trójmiasto
CATEGORIES:Rajd
END:VEVENT
BEGIN:VEVENT
DTSTART;TZID=Europe/Helsinki:20210925T100000
DTEND;TZID=Europe/Helsinki:20210926T130000
DTSTAMP:20260421T082913
CREATED:20210822T092818Z
LAST-MODIFIED:20210822T092818Z
UID:79115-1632564000-1632661200@klassikauto.pl
SUMMARY:Cars and Pizza AUTUMN DRIVE Extended
DESCRIPTION:
URL:https://klassikauto.pl/impreza/cars-and-pizza-autumn-drive-extended/
LOCATION:Ojców
CATEGORIES:Rajd
END:VEVENT
BEGIN:VEVENT
DTSTART;TZID=Europe/Helsinki:20210926T080000
DTEND;TZID=Europe/Helsinki:20210926T170000
DTSTAMP:20260421T082913
CREATED:20210213T101022Z
LAST-MODIFIED:20210213T101022Z
UID:76648-1632643200-1632675600@klassikauto.pl
SUMMARY:Oldtimer-Teilemarkt
DESCRIPTION:
URL:https://klassikauto.pl/impreza/oldtimer-teilemarkt-2/
LOCATION:Suhl\, Niemcy
CATEGORIES:Aukcja
END:VEVENT
BEGIN:VEVENT
DTSTART;TZID=Europe/Helsinki:20210926T080000
DTEND;TZID=Europe/Helsinki:20210926T170000
DTSTAMP:20260421T082913
CREATED:20210213T101146Z
LAST-MODIFIED:20210213T101146Z
UID:76651-1632643200-1632675600@klassikauto.pl
SUMMARY:Oldtimerbazar
DESCRIPTION:
URL:https://klassikauto.pl/impreza/oldtimerbazar-30/
LOCATION:Wrocław\, Wrocław\, Poland
CATEGORIES:Aukcja
END:VEVENT
BEGIN:VEVENT
DTSTART;TZID=Europe/Helsinki:20211002T080000
DTEND;TZID=Europe/Helsinki:20211002T170000
DTSTAMP:20260421T082913
CREATED:20210320T094220Z
LAST-MODIFIED:20210418T111032Z
UID:74281-1633161600-1633194000@klassikauto.pl
SUMMARY:Ondřejovská Osmička - Memoriál Jana Novotného
DESCRIPTION:
URL:https://klassikauto.pl/impreza/ondrejovska-osmicka-memorial-jana-novotneho-2/
LOCATION:Ondřejov\, Czechy
CATEGORIES:Zlot
END:VEVENT
BEGIN:VEVENT
DTSTART;TZID=Europe/Helsinki:20211002T080000
DTEND;TZID=Europe/Helsinki:20211002T170000
DTSTAMP:20260421T082913
CREATED:20210418T111223Z
LAST-MODIFIED:20210418T111223Z
UID:77592-1633161600-1633194000@klassikauto.pl
SUMMARY:Tradiční kladenská burza historických vozidel
DESCRIPTION:
URL:https://klassikauto.pl/impreza/tradicni-kladenska-burza-historickych-vozidel-2/
LOCATION:Kladno\, Velka Dobra\, Czechy
CATEGORIES:Aukcja
END:VEVENT
BEGIN:VEVENT
DTSTART;TZID=Europe/Helsinki:20211008T080000
DTEND;TZID=Europe/Helsinki:20211010T170000
DTSTAMP:20260421T082913
CREATED:20210213T101423Z
LAST-MODIFIED:20210213T101436Z
UID:76655-1633680000-1633885200@klassikauto.pl
SUMMARY:Veterema
DESCRIPTION:
URL:https://klassikauto.pl/impreza/veterema/
LOCATION:Mannheim
CATEGORIES:Zlot
END:VEVENT
BEGIN:VEVENT
DTSTART;TZID=Europe/Helsinki:20211008T080000
DTEND;TZID=Europe/Helsinki:20211010T170000
DTSTAMP:20260421T082913
CREATED:20210703T060755Z
LAST-MODIFIED:20210703T060755Z
UID:78408-1633680000-1633885200@klassikauto.pl
SUMMARY:16. Oldtimer Show
DESCRIPTION:
URL:https://klassikauto.pl/impreza/16-oldtimer-show/
LOCATION:Budapeszt
CATEGORIES:Targi
END:VEVENT
BEGIN:VEVENT
DTSTART;TZID=Europe/Helsinki:20211017T080000
DTEND;TZID=Europe/Helsinki:20211017T170000
DTSTAMP:20260421T082913
CREATED:20210213T101603Z
LAST-MODIFIED:20210213T101603Z
UID:76657-1634457600-1634490000@klassikauto.pl
SUMMARY:Oldtimer-Teilemarkt
DESCRIPTION:
URL:https://klassikauto.pl/impreza/oldtimer-teilemarkt-3/
LOCATION:Drezno\, Niemcy
CATEGORIES:Aukcja
END:VEVENT
BEGIN:VEVENT
DTSTART;TZID=Europe/Helsinki:20211030T080000
DTEND;TZID=Europe/Helsinki:20211030T170000
DTSTAMP:20260421T082913
CREATED:20210418T112338Z
LAST-MODIFIED:20210418T112338Z
UID:77594-1635580800-1635613200@klassikauto.pl
SUMMARY:Auto moto veterán bazar Mohelnice
DESCRIPTION:
URL:https://klassikauto.pl/impreza/auto-moto-veteran-bazar-mohelnice-3/
LOCATION:Mohelnice\, Czechy
CATEGORIES:Aukcja
END:VEVENT
BEGIN:VEVENT
DTSTART;TZID=Europe/Helsinki:20211104T080000
DTEND;TZID=Europe/Helsinki:20211107T170000
DTSTAMP:20260421T082913
CREATED:20210213T101735Z
LAST-MODIFIED:20210213T101735Z
UID:76659-1636012800-1636304400@klassikauto.pl
SUMMARY:Auto Zurich Car Show
DESCRIPTION:
URL:https://klassikauto.pl/impreza/auto-zurich-car-show/
LOCATION:Zurich\, Szwajcaria
CATEGORIES:Targi
END:VEVENT
BEGIN:VEVENT
DTSTART;TZID=Europe/Helsinki:20211106T080000
DTEND;TZID=Europe/Helsinki:20211107T170000
DTSTAMP:20260421T082913
CREATED:20210417T155439Z
LAST-MODIFIED:20210417T155439Z
UID:77509-1636185600-1636304400@klassikauto.pl
SUMMARY:70 Rocznica Produkcji w FSO
DESCRIPTION:
URL:https://klassikauto.pl/impreza/70-rocznica-produkcji-w-fso/
LOCATION:Żerań
CATEGORIES:Wystawa
END:VEVENT
BEGIN:VEVENT
DTSTART;TZID=Europe/Helsinki:20211121T080000
DTEND;TZID=Europe/Helsinki:20211121T170000
DTSTAMP:20260421T082913
CREATED:20210213T101253Z
LAST-MODIFIED:20210213T101253Z
UID:76653-1637481600-1637514000@klassikauto.pl
SUMMARY:Oldtimerbazar
DESCRIPTION:
URL:https://klassikauto.pl/impreza/oldtimerbazar-31/
LOCATION:Wrocław\, Wrocław\, Poland
CATEGORIES:Aukcja
END:VEVENT
BEGIN:VEVENT
DTSTART;TZID=Europe/Helsinki:20211229T080000
DTEND;TZID=Europe/Helsinki:20211229T170000
DTSTAMP:20260421T082913
CREATED:20210213T101918Z
LAST-MODIFIED:20210417T094931Z
UID:76662-1640764800-1640797200@klassikauto.pl
SUMMARY:Classic Car Auction  in the Festival tent in Gstaad
DESCRIPTION:
URL:https://klassikauto.pl/impreza/lassic-car-auction-in-the-festival-tent-in-gstaad/
LOCATION:Gstaad\, Szwajcaria
CATEGORIES:Aukcja
END:VEVENT
BEGIN:VEVENT
DTSTART;TZID=Europe/Helsinki:20220205T080000
DTEND;TZID=Europe/Helsinki:20220227T170000
DTSTAMP:20260421T082913
CREATED:20220313T120200Z
LAST-MODIFIED:20220313T120200Z
UID:81996-1644048000-1645981200@klassikauto.pl
SUMMARY:Beetle with a love story
DESCRIPTION:
URL:https://klassikauto.pl/impreza/beetle-with-a-love-story/
LOCATION:Museum Autoworld\, Bruksela\, Belgia
CATEGORIES:Wystawa
END:VEVENT
BEGIN:VEVENT
DTSTART;TZID=Europe/Helsinki:20220305T080000
DTEND;TZID=Europe/Helsinki:20220305T170000
DTSTAMP:20260421T082913
CREATED:20220312T121655Z
LAST-MODIFIED:20220312T121655Z
UID:81765-1646467200-1646499600@klassikauto.pl
SUMMARY:Opera Klasycznie | Pobudka!
DESCRIPTION:
URL:https://klassikauto.pl/impreza/opera-klasycznie-pobudka/
LOCATION:Trójmiasto
CATEGORIES:Zlot
END:VEVENT
BEGIN:VEVENT
DTSTART;TZID=Europe/Helsinki:20220305T080000
DTEND;TZID=Europe/Helsinki:20220305T170000
DTSTAMP:20260421T082913
CREATED:20220312T121829Z
LAST-MODIFIED:20220312T121829Z
UID:81767-1646467200-1646499600@klassikauto.pl
SUMMARY:Grudziądzki Turystyczny Rajd Samochodowy "Dzień Kobiet 2022"
DESCRIPTION:
URL:https://klassikauto.pl/impreza/grudziadzki-turystyczny-rajd-samochodowy-dzien-kobiet-2022/
LOCATION:Grudziądz
CATEGORIES:Rajd
END:VEVENT
BEGIN:VEVENT
DTSTART;TZID=Europe/Helsinki:20220306T080000
DTEND;TZID=Europe/Helsinki:20220306T170000
DTSTAMP:20260421T082913
CREATED:20220312T122010Z
LAST-MODIFIED:20220312T122742Z
UID:81769-1646553600-1646586000@klassikauto.pl
SUMMARY:Wielkopolanki za kółkiem 2022
DESCRIPTION:Rajd
URL:https://klassikauto.pl/impreza/wielkopolanki-za-kolkiem-2022/
LOCATION:Poznań
CATEGORIES:Rajd
END:VEVENT
BEGIN:VEVENT
DTSTART;TZID=Europe/Helsinki:20220311T100000
DTEND;TZID=Europe/Helsinki:20220313T180000
DTSTAMP:20260421T082913
CREATED:20220312T131658Z
LAST-MODIFIED:20220312T131658Z
UID:81809-1646992800-1647194400@klassikauto.pl
SUMMARY:Warsaw Motorcycle Show 2022 / III edycja
DESCRIPTION:
URL:https://klassikauto.pl/impreza/warsaw-motorcycle-show-2022-iii-edycja/
LOCATION:Warszawa
CATEGORIES:Targi
END:VEVENT
BEGIN:VEVENT
DTSTART;TZID=Europe/Helsinki:20220312T100000
DTEND;TZID=Europe/Helsinki:20220312T170000
DTSTAMP:20260421T082913
CREATED:20220312T122229Z
LAST-MODIFIED:20220312T122314Z
UID:81771-1647079200-1647104400@klassikauto.pl
SUMMARY:Otwarcie Sezonu Motocyklowego 2022
DESCRIPTION:
URL:https://klassikauto.pl/impreza/otwarcie-sezonu-motocyklowego-2022/
LOCATION:Iława
CATEGORIES:Zlot
END:VEVENT
BEGIN:VEVENT
DTSTART;TZID=Europe/Helsinki:20220312T100000
DTEND;TZID=Europe/Helsinki:20220312T180000
DTSTAMP:20260421T082913
CREATED:20220313T075508Z
LAST-MODIFIED:20220313T075508Z
UID:81852-1647079200-1647108000@klassikauto.pl
SUMMARY:Dzień Farmera
DESCRIPTION:Silverado City
URL:https://klassikauto.pl/impreza/dzien-farmera/
LOCATION:Żnin
CATEGORIES:Zlot
END:VEVENT
BEGIN:VEVENT
DTSTART;VALUE=DATE:20220319
DTEND;VALUE=DATE:20220320
DTSTAMP:20260421T082913
CREATED:20220312T120114Z
LAST-MODIFIED:20220312T120114Z
UID:81741-1647648000-1647734399@klassikauto.pl
SUMMARY:SUPEROES
DESCRIPTION:III Runda
URL:https://klassikauto.pl/impreza/superoes/
LOCATION:Miedziana Góra
CATEGORIES:Rajd
END:VEVENT
END:VCALENDAR
<!-- RunCloud Hub 2026-04-21 07:29:13 -->