BEGIN:VCALENDAR
VERSION:2.0
PRODID:-//KlassikAuto.pl - ECPv6.7.0//NONSGML v1.0//EN
CALSCALE:GREGORIAN
METHOD:PUBLISH
X-WR-CALNAME:KlassikAuto.pl
X-ORIGINAL-URL:https://klassikauto.pl
X-WR-CALDESC:Wydarzenia dla KlassikAuto.pl
REFRESH-INTERVAL;VALUE=DURATION:PT1H
X-Robots-Tag:noindex
X-PUBLISHED-TTL:PT1H
BEGIN:VTIMEZONE
TZID:Europe/Helsinki
BEGIN:DAYLIGHT
TZOFFSETFROM:+0200
TZOFFSETTO:+0300
TZNAME:EEST
DTSTART:20210328T010000
END:DAYLIGHT
BEGIN:STANDARD
TZOFFSETFROM:+0300
TZOFFSETTO:+0200
TZNAME:EET
DTSTART:20211031T010000
END:STANDARD
END:VTIMEZONE
BEGIN:VEVENT
DTSTART;TZID=Europe/Helsinki:20210820T080000
DTEND;TZID=Europe/Helsinki:20210822T170000
DTSTAMP:20260420T202202
CREATED:20210213T065729Z
LAST-MODIFIED:20210213T065729Z
UID:76524-1629446400-1629651600@klassikauto.pl
SUMMARY:125 Rocznica pierwszego pojazdu w Polsce im.Stanisława Grodzkiego
DESCRIPTION:
URL:https://klassikauto.pl/impreza/125-rocznica-pierwszego-pojazdu-w-polsce-im-stanislawa-grodzkiego/
LOCATION:Warszawa
CATEGORIES:Zlot
END:VEVENT
BEGIN:VEVENT
DTSTART;TZID=Europe/Helsinki:20210820T080000
DTEND;TZID=Europe/Helsinki:20210822T170000
DTSTAMP:20260420T202202
CREATED:20210822T080503Z
LAST-MODIFIED:20210822T080538Z
UID:79073-1629446400-1629651600@klassikauto.pl
SUMMARY:American Cars Mania VIII
DESCRIPTION:
URL:https://klassikauto.pl/impreza/american-cars-mania-viii/
LOCATION:Wrocław\, Wrocław\, Poland
CATEGORIES:Zlot
END:VEVENT
BEGIN:VEVENT
DTSTART;TZID=Europe/Helsinki:20210822T120000
DTEND;TZID=Europe/Helsinki:20210822T170000
DTSTAMP:20260420T202202
CREATED:20210822T090548Z
LAST-MODIFIED:20210822T090548Z
UID:79093-1629633600-1629651600@klassikauto.pl
SUMMARY:Legendy motoryzacji - II edycja
DESCRIPTION:
URL:https://klassikauto.pl/impreza/legendy-motoryzacji-ii-edycja/
LOCATION:Iława
CATEGORIES:Zlot
END:VEVENT
BEGIN:VEVENT
DTSTART;TZID=Europe/Helsinki:20210822T153000
DTEND;TZID=Europe/Helsinki:20210822T170000
DTSTAMP:20260420T202202
CREATED:20210822T082954Z
LAST-MODIFIED:20210822T082954Z
UID:79077-1629646200-1629651600@klassikauto.pl
SUMMARY:Graty Zjednoczone #1
DESCRIPTION:
URL:https://klassikauto.pl/impreza/graty-zjednoczone-1/
LOCATION:Katowice
CATEGORIES:Zlot
END:VEVENT
BEGIN:VEVENT
DTSTART;TZID=Europe/Helsinki:20210825T180000
DTEND;TZID=Europe/Helsinki:20210825T200000
DTSTAMP:20260420T202202
CREATED:20210822T090309Z
LAST-MODIFIED:20210822T090309Z
UID:79091-1629914400-1629921600@klassikauto.pl
SUMMARY:125 Rocznica pierwszego pojazdu w Polsce im.Stanisława Grodzkiego
DESCRIPTION:
URL:https://klassikauto.pl/impreza/125-rocznica-pierwszego-pojazdu-w-polsce-im-stanislawa-grodzkiego-2/
LOCATION:Warszawa
CATEGORIES:Zlot
END:VEVENT
BEGIN:VEVENT
DTSTART;TZID=Europe/Helsinki:20210826T080000
DTEND;TZID=Europe/Helsinki:20210829T170000
DTSTAMP:20260420T202202
CREATED:20210822T100002Z
LAST-MODIFIED:20210822T100033Z
UID:79131-1629964800-1630256400@klassikauto.pl
SUMMARY:IX Droga Kaszubska
DESCRIPTION:rajd zabytkowych motocykli do 1945 roku
URL:https://klassikauto.pl/impreza/ix-droga-kaszubska/
CATEGORIES:Rajd
END:VEVENT
BEGIN:VEVENT
DTSTART;TZID=Europe/Helsinki:20210826T200000
DTEND;TZID=Europe/Helsinki:20210829T200000
DTSTAMP:20260420T202202
CREATED:20210822T091559Z
LAST-MODIFIED:20210822T091559Z
UID:79105-1630008000-1630267200@klassikauto.pl
SUMMARY:Jubileuszowy 40. Rajd Częstochowski - IV Runda Mistrzostw Polski Pojazdów Zabytkowych
DESCRIPTION:
URL:https://klassikauto.pl/impreza/jubileuszowy-40-rajd-czestochowski-iv-runda-mistrzostw-polski-pojazdow-zabytkowych/
LOCATION:Kroczyce
CATEGORIES:Rajd
END:VEVENT
BEGIN:VEVENT
DTSTART;TZID=Europe/Helsinki:20210827T080000
DTEND;TZID=Europe/Helsinki:20210827T170000
DTSTAMP:20260420T202202
CREATED:20210418T110046Z
LAST-MODIFIED:20210418T110046Z
UID:77581-1630051200-1630083600@klassikauto.pl
SUMMARY:XXIII. mezinárodní sraz motocyklů Čechie - Böhmerland
DESCRIPTION:
URL:https://klassikauto.pl/impreza/xxiii-mezinarodni-sraz-motocyklu-cechie-bohmerland/
LOCATION:Krásná Lípa\, Czechy
CATEGORIES:Zlot
END:VEVENT
BEGIN:VEVENT
DTSTART;TZID=Europe/Helsinki:20210827T080000
DTEND;TZID=Europe/Helsinki:20210829T170000
DTSTAMP:20260420T202202
CREATED:20210822T083436Z
LAST-MODIFIED:20210822T083436Z
UID:79081-1630051200-1630256400@klassikauto.pl
SUMMARY:Międzynarodowy Rajd pojazdów zabytkowych „Śladami Polsko-Niemieckiego Pojednania”
DESCRIPTION:
URL:https://klassikauto.pl/impreza/miedzynarodowy-rajd-pojazdow-zabytkowych-sladami-polsko-niemieckiego-pojednania/
LOCATION:Jawor
CATEGORIES:Rajd
END:VEVENT
BEGIN:VEVENT
DTSTART;TZID=Europe/Helsinki:20210827T170000
DTEND;TZID=Europe/Helsinki:20210827T180000
DTSTAMP:20260420T202202
CREATED:20210822T092034Z
LAST-MODIFIED:20210822T092034Z
UID:79108-1630083600-1630087200@klassikauto.pl
SUMMARY:VII Amerykansky Rajd kantYny The Magnificent Seven
DESCRIPTION:
URL:https://klassikauto.pl/impreza/vii-amerykansky-rajd-kantyny-the-magnificent-seven/
LOCATION:Kryspinów
CATEGORIES:Rajd
END:VEVENT
BEGIN:VEVENT
DTSTART;TZID=Europe/Helsinki:20210828T080000
DTEND;TZID=Europe/Helsinki:20210828T170000
DTSTAMP:20260420T202202
CREATED:20210418T110349Z
LAST-MODIFIED:20210418T110349Z
UID:77583-1630137600-1630170000@klassikauto.pl
SUMMARY:Úterský kopec
DESCRIPTION:
URL:https://klassikauto.pl/impreza/utersky-kopec-2/
LOCATION:Úterý\, Czechy
CATEGORIES:Rajd
END:VEVENT
BEGIN:VEVENT
DTSTART;TZID=Europe/Helsinki:20210828T080000
DTEND;TZID=Europe/Helsinki:20210828T170000
DTSTAMP:20260420T202202
CREATED:20210418T110514Z
LAST-MODIFIED:20210418T110514Z
UID:77585-1630137600-1630170000@klassikauto.pl
SUMMARY:Rallye Posázaví 2021
DESCRIPTION:
URL:https://klassikauto.pl/impreza/rallye-posazavi-2021/
LOCATION:Kunice-Vidovice\, Czechy
CATEGORIES:Rajd
END:VEVENT
BEGIN:VEVENT
DTSTART;TZID=Europe/Helsinki:20210828T090000
DTEND;TZID=Europe/Helsinki:20210828T170000
DTSTAMP:20260420T202202
CREATED:20200108T215023Z
LAST-MODIFIED:20210209T173110Z
UID:71170-1630141200-1630170000@klassikauto.pl
SUMMARY:VI Charytatywny zlot by Moniq
DESCRIPTION:
URL:https://klassikauto.pl/impreza/vi-charytatywny-zlot-podczas-x-akcji-wesolych-ogrodnikow-fundacji-ogrod-marzen-z-jarocina/
LOCATION:Żerków\, wielkopolskie
CATEGORIES:Zlot
END:VEVENT
BEGIN:VEVENT
DTSTART;TZID=Europe/Helsinki:20210828T090000
DTEND;TZID=Europe/Helsinki:20210828T170000
DTSTAMP:20260420T202202
CREATED:20210822T100238Z
LAST-MODIFIED:20210822T100256Z
UID:79134-1630141200-1630170000@klassikauto.pl
SUMMARY:III Jakiś Rajd
DESCRIPTION:III Rajd Motocyklowy \nIII Rajd Samochodów Zabytkowych \nzob. https://www.jakisrajd.pl/
URL:https://klassikauto.pl/impreza/iii-jakis-rajd/
LOCATION:Złotów
CATEGORIES:Rajd
END:VEVENT
BEGIN:VEVENT
DTSTART;TZID=Europe/Helsinki:20210828T090000
DTEND;TZID=Europe/Helsinki:20210828T190000
DTSTAMP:20260420T202202
CREATED:20210822T091307Z
LAST-MODIFIED:20210822T091307Z
UID:79102-1630141200-1630177200@klassikauto.pl
SUMMARY:Rajd Czarny Jastrząb V - Edycja Bajkowa
DESCRIPTION:
URL:https://klassikauto.pl/impreza/rajd-czarny-jastrzab-v-edycja-bajkowa/
LOCATION:Bzie
CATEGORIES:Zlot
END:VEVENT
BEGIN:VEVENT
DTSTART;TZID=Europe/Helsinki:20210828T130000
DTEND;TZID=Europe/Helsinki:20210828T170000
DTSTAMP:20260420T202202
CREATED:20210822T091026Z
LAST-MODIFIED:20210822T091026Z
UID:79099-1630155600-1630170000@klassikauto.pl
SUMMARY:Spot miłośników pojazdów zabytkowych i komiksów
DESCRIPTION:
URL:https://klassikauto.pl/impreza/spot-milosnikow-pojazdow-zabytkowych-i-komiksow/
LOCATION:Otwock
CATEGORIES:Zlot
END:VEVENT
BEGIN:VEVENT
DTSTART;TZID=Europe/Helsinki:20210828T140000
DTEND;TZID=Europe/Helsinki:20210828T170000
DTSTAMP:20260420T202202
CREATED:20210822T093145Z
LAST-MODIFIED:20210822T093145Z
UID:79118-1630159200-1630170000@klassikauto.pl
SUMMARY:Moto Piknik 3 I Pół\, Łaziska 2021
DESCRIPTION:
URL:https://klassikauto.pl/impreza/moto-piknik-3-i-pol-laziska-2021/
CATEGORIES:Zlot
END:VEVENT
BEGIN:VEVENT
DTSTART;TZID=Europe/Helsinki:20210828T150000
DTEND;TZID=Europe/Helsinki:20210828T170000
DTSTAMP:20260420T202202
CREATED:20210822T090811Z
LAST-MODIFIED:20210822T090811Z
UID:79096-1630162800-1630170000@klassikauto.pl
SUMMARY:Klasyczne Spotkania pod Zamkiem v8
DESCRIPTION:
URL:https://klassikauto.pl/impreza/klasyczne-spotkania-pod-zamkiem-v8/
LOCATION:Dębno
CATEGORIES:Zlot
END:VEVENT
BEGIN:VEVENT
DTSTART;TZID=Europe/Helsinki:20210829T080000
DTEND;TZID=Europe/Helsinki:20210829T170000
DTSTAMP:20260420T202202
CREATED:20210213T100735Z
LAST-MODIFIED:20210213T100735Z
UID:76644-1630224000-1630256400@klassikauto.pl
SUMMARY:Zlot klasyków w Poznaniu
DESCRIPTION:
URL:https://klassikauto.pl/impreza/zlot-klasykow-w-poznaniu-2/
LOCATION:Poznań
CATEGORIES:Zlot
END:VEVENT
BEGIN:VEVENT
DTSTART;TZID=Europe/Helsinki:20210829T080000
DTEND;TZID=Europe/Helsinki:20210829T170000
DTSTAMP:20260420T202202
CREATED:20210822T100424Z
LAST-MODIFIED:20210822T100446Z
UID:79137-1630224000-1630256400@klassikauto.pl
SUMMARY:V Wystawa Pojazdów Zabytkowych
DESCRIPTION:zob. https://www.jakisrajd.pl/
URL:https://klassikauto.pl/impreza/v-wystawa-pojazdow-zabytkowych/
LOCATION:Złotów
CATEGORIES:Wystawa
END:VEVENT
BEGIN:VEVENT
DTSTART;TZID=Europe/Helsinki:20210829T100000
DTEND;TZID=Europe/Helsinki:20210829T170000
DTSTAMP:20260420T202202
CREATED:20210822T100657Z
LAST-MODIFIED:20210822T100657Z
UID:79140-1630231200-1630256400@klassikauto.pl
SUMMARY:Zlot klasyków w Poznaniu
DESCRIPTION:
URL:https://klassikauto.pl/impreza/zlot-klasykow-w-poznaniu-3/
LOCATION:Poznań
CATEGORIES:Zlot
END:VEVENT
BEGIN:VEVENT
DTSTART;TZID=Europe/Helsinki:20210829T100000
DTEND;TZID=Europe/Helsinki:20210829T170000
DTSTAMP:20260420T202202
CREATED:20210822T100839Z
LAST-MODIFIED:20210822T100839Z
UID:79142-1630231200-1630256400@klassikauto.pl
SUMMARY:Festiwal Pojazdów Nieudanych\, Nieznanych i Zapomnianych
DESCRIPTION:
URL:https://klassikauto.pl/impreza/festiwal-pojazdow-nieudanych-nieznanych-i-zapomnianych/
LOCATION:Przodkowo
CATEGORIES:Zlot
END:VEVENT
BEGIN:VEVENT
DTSTART;TZID=Europe/Helsinki:20210829T130000
DTEND;TZID=Europe/Helsinki:20210829T170000
DTSTAMP:20260420T202202
CREATED:20210822T082745Z
LAST-MODIFIED:20210822T082745Z
UID:79075-1630242000-1630256400@klassikauto.pl
SUMMARY:I Zlot Pojazdów Zabytkowych z lat PRL-u
DESCRIPTION:
URL:https://klassikauto.pl/impreza/i-zlot-pojazdow-zabytkowych-z-lat-prl-u/
CATEGORIES:Zlot
END:VEVENT
BEGIN:VEVENT
DTSTART;TZID=Europe/Helsinki:20210829T130000
DTEND;TZID=Europe/Helsinki:20210829T180000
DTSTAMP:20260420T202202
CREATED:20210822T101005Z
LAST-MODIFIED:20210822T101005Z
UID:79145-1630242000-1630260000@klassikauto.pl
SUMMARY:Zlot Pojazdów Zabytkowych w Działdowie
DESCRIPTION:
URL:https://klassikauto.pl/impreza/zlot-pojazdow-zabytkowych-w-dzialdowie/
LOCATION:Działdowo
CATEGORIES:Zlot
END:VEVENT
BEGIN:VEVENT
DTSTART;TZID=Europe/Helsinki:20210903T080000
DTEND;TZID=Europe/Helsinki:20210905T170000
DTSTAMP:20260420T202202
CREATED:20210212T182018Z
LAST-MODIFIED:20210212T182029Z
UID:76510-1630656000-1630861200@klassikauto.pl
SUMMARY:VII Spotkanie Użytkowników Klasycznych Triumphów
DESCRIPTION:
URL:https://klassikauto.pl/impreza/vii-spotkanie-uzytkownikow-klasycznych-triumphow/
LOCATION:Stryszawa
CATEGORIES:Rajd
END:VEVENT
BEGIN:VEVENT
DTSTART;TZID=Europe/Helsinki:20210903T140000
DTEND;TZID=Europe/Helsinki:20210905T160000
DTSTAMP:20260420T202202
CREATED:20210213T072219Z
LAST-MODIFIED:20210213T083232Z
UID:76535-1630677600-1630857600@klassikauto.pl
SUMMARY:3. Motocyklowy Rajd Szlakiem Fortyfikacji
DESCRIPTION:
URL:https://klassikauto.pl/impreza/3-motocyklowy-rajd-szlakiem-fortyfikacji/
CATEGORIES:Rajd
END:VEVENT
BEGIN:VEVENT
DTSTART;TZID=Europe/Helsinki:20210903T150000
DTEND;TZID=Europe/Helsinki:20210905T120000
DTSTAMP:20260420T202202
CREATED:20210822T101257Z
LAST-MODIFIED:20210822T101357Z
UID:79147-1630681200-1630843200@klassikauto.pl
SUMMARY:5 Ogólnopolski Zlot „Skodomania”
DESCRIPTION:
URL:https://klassikauto.pl/impreza/5-ogolnopolski-zlot-skodomania/
LOCATION:Sielpia Wielka
CATEGORIES:Zlot
END:VEVENT
BEGIN:VEVENT
DTSTART;TZID=Europe/Helsinki:20210903T150000
DTEND;TZID=Europe/Helsinki:20210906T170000
DTSTAMP:20260420T202202
CREATED:20210822T093900Z
LAST-MODIFIED:20210822T093900Z
UID:79123-1630681200-1630947600@klassikauto.pl
SUMMARY:XIX TrabiEXPO
DESCRIPTION:
URL:https://klassikauto.pl/impreza/xix-trabiexpo/
LOCATION:Gorzeń Górny
CATEGORIES:Zlot
END:VEVENT
BEGIN:VEVENT
DTSTART;TZID=Europe/Helsinki:20210904T080000
DTEND;TZID=Europe/Helsinki:20210904T170000
DTSTAMP:20260420T202202
CREATED:20210822T101737Z
LAST-MODIFIED:20210822T101737Z
UID:79150-1630742400-1630774800@klassikauto.pl
SUMMARY:VI Zlot Fiata 126p i Klasyków
DESCRIPTION:
URL:https://klassikauto.pl/impreza/vi-zlot-fiata-126p-i-klasykow/
LOCATION:Inowrocław
CATEGORIES:Zlot
END:VEVENT
BEGIN:VEVENT
DTSTART;TZID=Europe/Helsinki:20210904T090000
DTEND;TZID=Europe/Helsinki:20210904T170000
DTSTAMP:20260420T202202
CREATED:20210822T083132Z
LAST-MODIFIED:20210822T083132Z
UID:79079-1630746000-1630774800@klassikauto.pl
SUMMARY:XVII Wołomiński Zlot Pojazdów Zabytkowych
DESCRIPTION:
URL:https://klassikauto.pl/impreza/xvii-wolominski-zlot-pojazdow-zabytkowych/
LOCATION:Wołomin
CATEGORIES:Zlot
END:VEVENT
END:VCALENDAR
<!-- RunCloud Hub 2026-04-20 19:22:02 -->