BEGIN:VCALENDAR
VERSION:2.0
PRODID:-//KlassikAuto.pl - ECPv6.7.0//NONSGML v1.0//EN
CALSCALE:GREGORIAN
METHOD:PUBLISH
X-WR-CALNAME:KlassikAuto.pl
X-ORIGINAL-URL:https://klassikauto.pl
X-WR-CALDESC:Wydarzenia dla KlassikAuto.pl
REFRESH-INTERVAL;VALUE=DURATION:PT1H
X-Robots-Tag:noindex
X-PUBLISHED-TTL:PT1H
BEGIN:VTIMEZONE
TZID:Europe/Helsinki
BEGIN:DAYLIGHT
TZOFFSETFROM:+0200
TZOFFSETTO:+0300
TZNAME:EEST
DTSTART:20210328T010000
END:DAYLIGHT
BEGIN:STANDARD
TZOFFSETFROM:+0300
TZOFFSETTO:+0200
TZNAME:EET
DTSTART:20211031T010000
END:STANDARD
END:VTIMEZONE
BEGIN:VEVENT
DTSTART;TZID=Europe/Helsinki:20210402T080000
DTEND;TZID=Europe/Helsinki:20210530T170000
DTSTAMP:20260420T183759
CREATED:20210209T180034Z
LAST-MODIFIED:20210209T180034Z
UID:76410-1617350400-1622394000@klassikauto.pl
SUMMARY:In the Spotlight: Breaks & Station Wagons - wystawa
DESCRIPTION:
URL:https://klassikauto.pl/impreza/in-the-spotlight-breaks-station-wagons-wystawa/
LOCATION:Muzeum Autoworld\, Bruksela\, Belgia
CATEGORIES:Wystawa
END:VEVENT
BEGIN:VEVENT
DTSTART;TZID=Europe/Helsinki:20210513T080000
DTEND;TZID=Europe/Helsinki:20210515T170000
DTSTAMP:20260420T183759
CREATED:20210212T165117Z
LAST-MODIFIED:20210212T165117Z
UID:76487-1620892800-1621098000@klassikauto.pl
SUMMARY:43. AFF-Jahrestreffen
DESCRIPTION:
URL:https://klassikauto.pl/impreza/43-aff-jahrestreffen/
LOCATION:Bremen\, Niemcy
CATEGORIES:Zlot
END:VEVENT
BEGIN:VEVENT
DTSTART;TZID=Europe/Helsinki:20210513T080000
DTEND;TZID=Europe/Helsinki:20210516T170000
DTSTAMP:20260420T183759
CREATED:20210212T174438Z
LAST-MODIFIED:20210212T174438Z
UID:76490-1620892800-1621184400@klassikauto.pl
SUMMARY:49. Jahrestreffen in Altusried
DESCRIPTION:
URL:https://klassikauto.pl/impreza/49-jahrestreffen-in-altusried/
LOCATION:Altusried\, Niemcy
CATEGORIES:Zlot
END:VEVENT
BEGIN:VEVENT
DTSTART;TZID=Europe/Helsinki:20210514T080000
DTEND;TZID=Europe/Helsinki:20210516T170000
DTSTAMP:20260420T183759
CREATED:20210212T175826Z
LAST-MODIFIED:20210212T175826Z
UID:76500-1620979200-1621184400@klassikauto.pl
SUMMARY:XI Zlot Aut Amerykańskich i Zabytkowych
DESCRIPTION:
URL:https://klassikauto.pl/impreza/xi-zlot-aut-amerykanskich-i-zabytkowych/
LOCATION:Bożejewice
CATEGORIES:Zlot
END:VEVENT
BEGIN:VEVENT
DTSTART;TZID=Europe/Helsinki:20210515T080000
DTEND;TZID=Europe/Helsinki:20210515T170000
DTSTAMP:20260420T183759
CREATED:20210212T174557Z
LAST-MODIFIED:20210212T174557Z
UID:76493-1621065600-1621098000@klassikauto.pl
SUMMARY:VII ClassicMania NIGHT Nocny Międzynarodowy Zlot Pojazdów Zabytkowych
DESCRIPTION:
URL:https://klassikauto.pl/impreza/vii-classicmania-night-nocny-miedzynarodowy-zlot-pojazdow-zabytkowych/
LOCATION:Sosnowiec
CATEGORIES:Zlot
END:VEVENT
BEGIN:VEVENT
DTSTART;TZID=Europe/Helsinki:20210515T080000
DTEND;TZID=Europe/Helsinki:20210516T170000
DTSTAMP:20260420T183759
CREATED:20210212T182850Z
LAST-MODIFIED:20210212T182850Z
UID:76518-1621065600-1621184400@klassikauto.pl
SUMMARY:1. Oldtimertreffen
DESCRIPTION:
URL:https://klassikauto.pl/impreza/1-oldtimertreffen/
LOCATION:Essen\, Niemcy
CATEGORIES:Zlot
END:VEVENT
BEGIN:VEVENT
DTSTART;TZID=Europe/Helsinki:20210515T080000
DTEND;TZID=Europe/Helsinki:20210516T170000
DTSTAMP:20260420T183759
CREATED:20210213T081308Z
LAST-MODIFIED:20210213T081308Z
UID:76561-1621065600-1621184400@klassikauto.pl
SUMMARY:Goodwood Members' Meeting Sale
DESCRIPTION:
URL:https://klassikauto.pl/impreza/goodwood-members-meeting-sale-2/
LOCATION:Goodwood
CATEGORIES:Aukcja
END:VEVENT
BEGIN:VEVENT
DTSTART;TZID=Europe/Helsinki:20210515T140000
DTEND;TZID=Europe/Helsinki:20210515T170000
DTSTAMP:20260420T183759
CREATED:20210417T163838Z
LAST-MODIFIED:20210417T163838Z
UID:77534-1621087200-1621098000@klassikauto.pl
SUMMARY:Plener Muzealny w Kobyłce - w ramach Nocy Muzeów.
DESCRIPTION:Muzeum Motoryzacji i Techniki w Kobyłce
URL:https://klassikauto.pl/impreza/plener-muzealny-w-kobylce-w-ramach-nocy-muzeow/
LOCATION:Kobyłka
CATEGORIES:Wystawa
END:VEVENT
BEGIN:VEVENT
DTSTART;TZID=Europe/Helsinki:20210516T080000
DTEND;TZID=Europe/Helsinki:20210516T170000
DTSTAMP:20260420T183759
CREATED:20210213T083918Z
LAST-MODIFIED:20210213T083918Z
UID:76564-1621152000-1621184400@klassikauto.pl
SUMMARY:Steinfeld Classic\, 7 zlot historycznych pojazdów
DESCRIPTION:
URL:https://klassikauto.pl/impreza/steinfeld-classic-7-zlot-historycznych-pojazdow/
LOCATION:Steinfeld\, Niemcy
CATEGORIES:Zlot
END:VEVENT
BEGIN:VEVENT
DTSTART;TZID=Europe/Helsinki:20210516T090000
DTEND;TZID=Europe/Helsinki:20210516T220000
DTSTAMP:20260420T183759
CREATED:20210213T070539Z
LAST-MODIFIED:20210213T081726Z
UID:76531-1621155600-1621202400@klassikauto.pl
SUMMARY:III Rajd JakTajmera
DESCRIPTION:
URL:https://klassikauto.pl/impreza/iii-rajd-jaktajmera-2/
LOCATION:Białystok
CATEGORIES:Rajd
END:VEVENT
BEGIN:VEVENT
DTSTART;TZID=Europe/Helsinki:20210518T080000
DTEND;TZID=Europe/Helsinki:20210520T170000
DTSTAMP:20260420T183759
CREATED:20210418T115033Z
LAST-MODIFIED:20210418T115033Z
UID:77599-1621324800-1621530000@klassikauto.pl
SUMMARY:Motorworld Classics Bodensee
DESCRIPTION:
URL:https://klassikauto.pl/impreza/motorworld-classics-bodensee/
LOCATION:Friedrichshafen\, Niemcy
CATEGORIES:Targi
END:VEVENT
BEGIN:VEVENT
DTSTART;TZID=Europe/Helsinki:20210520T080000
DTEND;TZID=Europe/Helsinki:20210523T170000
DTSTAMP:20260420T183759
CREATED:20210213T084042Z
LAST-MODIFIED:20210213T084042Z
UID:76567-1621497600-1621789200@klassikauto.pl
SUMMARY:78th Grand Prix de Monaco F1
DESCRIPTION:
URL:https://klassikauto.pl/impreza/78th-grand-prix-de-monaco-f1/
LOCATION:Monte Carlo\, Monaco
END:VEVENT
BEGIN:VEVENT
DTSTART;TZID=Europe/Helsinki:20210521T080000
DTEND;TZID=Europe/Helsinki:20210523T170000
DTSTAMP:20260420T183759
CREATED:20210213T084207Z
LAST-MODIFIED:20210213T084207Z
UID:76569-1621584000-1621789200@klassikauto.pl
SUMMARY:Nürburgring Classic
DESCRIPTION:
URL:https://klassikauto.pl/impreza/nurburgring-classic-2/
LOCATION:Nuerburgring\, Niemcy
CATEGORIES:Rajd
END:VEVENT
BEGIN:VEVENT
DTSTART;TZID=Europe/Helsinki:20210521T080000
DTEND;TZID=Europe/Helsinki:20210524T170000
DTSTAMP:20260420T183759
CREATED:20210213T084538Z
LAST-MODIFIED:20210213T084538Z
UID:76572-1621584000-1621875600@klassikauto.pl
SUMMARY:8. Internationales TEMPO-Treffen
DESCRIPTION:
URL:https://klassikauto.pl/impreza/8-internationales-tempo-treffen/
LOCATION:Rosengarten\, Niemcy
CATEGORIES:Zlot
END:VEVENT
BEGIN:VEVENT
DTSTART;TZID=Europe/Helsinki:20210522T080000
DTEND;TZID=Europe/Helsinki:20210522T170000
DTSTAMP:20260420T183759
CREATED:20210212T181344Z
LAST-MODIFIED:20210212T181344Z
UID:76505-1621670400-1621702800@klassikauto.pl
SUMMARY:III Rajd Turystyczny w Spale
DESCRIPTION:
URL:https://klassikauto.pl/impreza/iii-rajd-turystyczny-w-spale/
LOCATION:Spała
CATEGORIES:Rajd
END:VEVENT
BEGIN:VEVENT
DTSTART;TZID=Europe/Helsinki:20210522T080000
DTEND;TZID=Europe/Helsinki:20210522T170000
DTSTAMP:20260420T183759
CREATED:20210213T084916Z
LAST-MODIFIED:20210213T084916Z
UID:76575-1621670400-1621702800@klassikauto.pl
SUMMARY:RM Sotheby Amelia Island\, AUKCJA
DESCRIPTION:
URL:https://klassikauto.pl/impreza/rm-sotheby-amelia-island-aukcja/
LOCATION:Amelia Island\, Floryda
CATEGORIES:Aukcja
END:VEVENT
BEGIN:VEVENT
DTSTART;TZID=Europe/Helsinki:20210522T080000
DTEND;TZID=Europe/Helsinki:20210523T170000
DTSTAMP:20260420T183759
CREATED:20210213T085109Z
LAST-MODIFIED:20210213T085109Z
UID:76577-1621670400-1621789200@klassikauto.pl
SUMMARY:29. Opel GT Europatreffen
DESCRIPTION:
URL:https://klassikauto.pl/impreza/29-opel-gt-europatreffen/
LOCATION:Neumunster\, Niemcy
CATEGORIES:Zlot
END:VEVENT
BEGIN:VEVENT
DTSTART;TZID=Europe/Helsinki:20210522T140000
DTEND;TZID=Europe/Helsinki:20210523T170000
DTSTAMP:20260420T183759
CREATED:20210417T165612Z
LAST-MODIFIED:20210417T165612Z
UID:77547-1621692000-1621789200@klassikauto.pl
SUMMARY:I runda Mistrzostw Polski w Historycznych Rajdach na Regularność
DESCRIPTION:
URL:https://klassikauto.pl/impreza/i-runda-mistrzostw-polski-w-historycznych-rajdach-na-regularnosc/
LOCATION:Częstochowa
CATEGORIES:Rajd
END:VEVENT
BEGIN:VEVENT
DTSTART;TZID=Europe/Helsinki:20210523T080000
DTEND;TZID=Europe/Helsinki:20210523T170000
DTSTAMP:20260420T183759
CREATED:20210213T085226Z
LAST-MODIFIED:20210213T085234Z
UID:76580-1621756800-1621789200@klassikauto.pl
SUMMARY:6. W124-Tag
DESCRIPTION:
URL:https://klassikauto.pl/impreza/6-w124-tag/
LOCATION:Herten\, Niemcy
CATEGORIES:Zlot
END:VEVENT
BEGIN:VEVENT
DTSTART;TZID=Europe/Helsinki:20210523T110000
DTEND;TZID=Europe/Helsinki:20210523T170000
DTSTAMP:20260420T183759
CREATED:20210417T123246Z
LAST-MODIFIED:20210417T123246Z
UID:77485-1621767600-1621789200@klassikauto.pl
SUMMARY:Ekskluzywna wystawa Vintage Lovers by Łukasz Tobias
DESCRIPTION:
URL:https://klassikauto.pl/impreza/ekskluzywna-wystawa-vintage-lovers-by-lukasz-tobias/
LOCATION:Środa Wielkopolska
CATEGORIES:Wystawa
END:VEVENT
BEGIN:VEVENT
DTSTART;TZID=Europe/Helsinki:20210526T080000
DTEND;TZID=Europe/Helsinki:20210530T170000
DTSTAMP:20260420T183759
CREATED:20210213T085404Z
LAST-MODIFIED:20210213T085404Z
UID:76582-1622016000-1622394000@klassikauto.pl
SUMMARY:ADAC Deutschland Klassik
DESCRIPTION:
URL:https://klassikauto.pl/impreza/adac-deutschland-klassik-2/
LOCATION:Drezno\, Niemcy
CATEGORIES:Zlot
END:VEVENT
BEGIN:VEVENT
DTSTART;TZID=Europe/Helsinki:20210527T080000
DTEND;TZID=Europe/Helsinki:20210530T170000
DTSTAMP:20260420T183759
CREATED:20210213T085535Z
LAST-MODIFIED:20210213T085535Z
UID:76585-1622102400-1622394000@klassikauto.pl
SUMMARY:Vier-Länder-Eck am Bodensee
DESCRIPTION:
URL:https://klassikauto.pl/impreza/vier-lander-eck-am-bodensee/
LOCATION:Bodense
CATEGORIES:Zlot
END:VEVENT
BEGIN:VEVENT
DTSTART;TZID=Europe/Helsinki:20210528T080000
DTEND;TZID=Europe/Helsinki:20210529T170000
DTSTAMP:20260420T183759
CREATED:20210213T085831Z
LAST-MODIFIED:20210213T085831Z
UID:76589-1622188800-1622307600@klassikauto.pl
SUMMARY:Kustom Kulture Forever 2021
DESCRIPTION:
URL:https://klassikauto.pl/impreza/kustom-kulture-forever-2021/
LOCATION:Herten\, Niemcy
CATEGORIES:Zlot
END:VEVENT
BEGIN:VEVENT
DTSTART;TZID=Europe/Helsinki:20210528T080000
DTEND;TZID=Europe/Helsinki:20210530T170000
DTSTAMP:20260420T183759
CREATED:20210213T085708Z
LAST-MODIFIED:20210213T085708Z
UID:76587-1622188800-1622394000@klassikauto.pl
SUMMARY:4. Auditreffen\, Waldkirchen
DESCRIPTION:
URL:https://klassikauto.pl/impreza/4-auditreffen-waldkirchen/
LOCATION:Niemcy
CATEGORIES:Zlot
END:VEVENT
BEGIN:VEVENT
DTSTART;TZID=Europe/Helsinki:20210528T080000
DTEND;TZID=Europe/Helsinki:20210530T170000
DTSTAMP:20260420T183759
CREATED:20210213T090006Z
LAST-MODIFIED:20210213T090006Z
UID:76591-1622188800-1622394000@klassikauto.pl
SUMMARY:Concorso d'Eléganza Villa d'Este
DESCRIPTION:
URL:https://klassikauto.pl/impreza/concorso-deleganza-villa-deste/
LOCATION:Cernobbio\, Włochy
CATEGORIES:Zlot
END:VEVENT
BEGIN:VEVENT
DTSTART;TZID=Europe/Helsinki:20210528T080000
DTEND;TZID=Europe/Helsinki:20210530T170000
DTSTAMP:20260420T183759
CREATED:20210213T090136Z
LAST-MODIFIED:20210213T090136Z
UID:76594-1622188800-1622394000@klassikauto.pl
SUMMARY:Classic Car Cruise Parade 2021 – ONLINE
DESCRIPTION:
URL:https://klassikauto.pl/impreza/classic-car-cruise-parade-2021-online/
END:VEVENT
BEGIN:VEVENT
DTSTART;TZID=Europe/Helsinki:20210529T080000
DTEND;TZID=Europe/Helsinki:20210529T170000
DTSTAMP:20260420T183759
CREATED:20210213T092038Z
LAST-MODIFIED:20210213T092038Z
UID:76614-1622275200-1622307600@klassikauto.pl
SUMMARY:V Stary Motór
DESCRIPTION:
URL:https://klassikauto.pl/impreza/v-stary-motor/
LOCATION:Proszowice
CATEGORIES:Zlot
END:VEVENT
BEGIN:VEVENT
DTSTART;TZID=Europe/Helsinki:20210529T080000
DTEND;TZID=Europe/Helsinki:20210529T170000
DTSTAMP:20260420T183759
CREATED:20210417T160732Z
LAST-MODIFIED:20210417T160732Z
UID:77518-1622275200-1622307600@klassikauto.pl
SUMMARY:IX Rajd Po Ziemi Mińskiej
DESCRIPTION:
URL:https://klassikauto.pl/impreza/ix-rajd-po-ziemi-minskiej/
CATEGORIES:Rajd
END:VEVENT
BEGIN:VEVENT
DTSTART;TZID=Europe/Helsinki:20210529T080000
DTEND;TZID=Europe/Helsinki:20210530T170000
DTSTAMP:20260420T183759
CREATED:20210213T091335Z
LAST-MODIFIED:20210213T091523Z
UID:76609-1622275200-1622394000@klassikauto.pl
SUMMARY:32. Klassikertage
DESCRIPTION:
URL:https://klassikauto.pl/impreza/32-klassikertage/
LOCATION:Hattersheim\, Niemcy
CATEGORIES:Zlot
END:VEVENT
BEGIN:VEVENT
DTSTART;TZID=Europe/Helsinki:20210529T100000
DTEND;TZID=Europe/Helsinki:20210529T170000
DTSTAMP:20260420T183759
CREATED:20210417T155121Z
LAST-MODIFIED:20210417T155121Z
UID:77507-1622282400-1622307600@klassikauto.pl
SUMMARY:I Ogólnopolski Zlot Klasycznej Motoryzacji
DESCRIPTION:
URL:https://klassikauto.pl/impreza/i-ogolnopolski-zlot-klasycznej-motoryzacji/
LOCATION:Kielce
CATEGORIES:Zlot
END:VEVENT
END:VCALENDAR
<!-- RunCloud Hub 2026-04-20 17:37:59 -->