BEGIN:VCALENDAR
VERSION:2.0
PRODID:-//KlassikAuto.pl - ECPv6.7.0//NONSGML v1.0//EN
CALSCALE:GREGORIAN
METHOD:PUBLISH
X-WR-CALNAME:KlassikAuto.pl
X-ORIGINAL-URL:https://klassikauto.pl
X-WR-CALDESC:Wydarzenia dla KlassikAuto.pl
REFRESH-INTERVAL;VALUE=DURATION:PT1H
X-Robots-Tag:noindex
X-PUBLISHED-TTL:PT1H
BEGIN:VTIMEZONE
TZID:Europe/Helsinki
BEGIN:DAYLIGHT
TZOFFSETFROM:+0200
TZOFFSETTO:+0300
TZNAME:EEST
DTSTART:20210328T010000
END:DAYLIGHT
BEGIN:STANDARD
TZOFFSETFROM:+0300
TZOFFSETTO:+0200
TZNAME:EET
DTSTART:20211031T010000
END:STANDARD
END:VTIMEZONE
BEGIN:VEVENT
DTSTART;TZID=Europe/Helsinki:20210402T080000
DTEND;TZID=Europe/Helsinki:20210530T170000
DTSTAMP:20260420T183816
CREATED:20210209T180034Z
LAST-MODIFIED:20210209T180034Z
UID:76410-1617350400-1622394000@klassikauto.pl
SUMMARY:In the Spotlight: Breaks & Station Wagons - wystawa
DESCRIPTION:
URL:https://klassikauto.pl/impreza/in-the-spotlight-breaks-station-wagons-wystawa/
LOCATION:Muzeum Autoworld\, Bruksela\, Belgia
CATEGORIES:Wystawa
END:VEVENT
BEGIN:VEVENT
DTSTART;VALUE=DATE:20210429
DTEND;VALUE=DATE:20210503
DTSTAMP:20260420T183816
CREATED:20210209T183122Z
LAST-MODIFIED:20210209T183122Z
UID:76439-1619654400-1619999999@klassikauto.pl
SUMMARY:Romantisches Taubertal & Ries
DESCRIPTION:urlop
URL:https://klassikauto.pl/impreza/romantisches-taubertal-ries/
LOCATION:Niemcy
END:VEVENT
BEGIN:VEVENT
DTSTART;TZID=Europe/Helsinki:20210501T080000
DTEND;TZID=Europe/Helsinki:20210501T170000
DTSTAMP:20260420T183816
CREATED:20210211T145116Z
LAST-MODIFIED:20210211T145246Z
UID:76458-1619856000-1619888400@klassikauto.pl
SUMMARY:18. markenoffenes Young- und Oldtimertreffen
DESCRIPTION:
URL:https://klassikauto.pl/impreza/18-markenoffenes-young-und-oldtimertreffen/
LOCATION:Neuwied\, Niemcy
CATEGORIES:Zlot
END:VEVENT
BEGIN:VEVENT
DTSTART;TZID=Europe/Helsinki:20210501T110000
DTEND;TZID=Europe/Helsinki:20210501T170000
DTSTAMP:20260420T183816
CREATED:20210417T160941Z
LAST-MODIFIED:20210417T160941Z
UID:77520-1619866800-1619888400@klassikauto.pl
SUMMARY:1 Majowy Pochód Klasyków
DESCRIPTION:
URL:https://klassikauto.pl/impreza/1-majowy-pochod-klasykow/
LOCATION:Bydgoszcz
CATEGORIES:Zlot
END:VEVENT
BEGIN:VEVENT
DTSTART;TZID=Europe/Helsinki:20210502T083000
DTEND;TZID=Europe/Helsinki:20210502T143000
DTSTAMP:20260420T183816
CREATED:20210417T102925Z
LAST-MODIFIED:20210417T102925Z
UID:77439-1619944200-1619965800@klassikauto.pl
SUMMARY:Wiosenny Rajd Motocyklowy
DESCRIPTION:
URL:https://klassikauto.pl/impreza/wiosenny-rajd-motocyklowy/
LOCATION:Mińsk Mazowiecki
CATEGORIES:Rajd
END:VEVENT
BEGIN:VEVENT
DTSTART;TZID=Europe/Helsinki:20210502T130000
DTEND;TZID=Europe/Helsinki:20210502T150000
DTSTAMP:20260420T183816
CREATED:20210209T175443Z
LAST-MODIFIED:20210209T175634Z
UID:76408-1619960400-1619967600@klassikauto.pl
SUMMARY:I zlot Classic Cars
DESCRIPTION:
URL:https://klassikauto.pl/impreza/i-zlot-classic-cars/
LOCATION:Legionowo
CATEGORIES:Zlot
END:VEVENT
BEGIN:VEVENT
DTSTART;TZID=Europe/Helsinki:20210503T080000
DTEND;TZID=Europe/Helsinki:20210509T170000
DTSTAMP:20260420T183816
CREATED:20210211T145852Z
LAST-MODIFIED:20210211T145852Z
UID:76463-1620028800-1620579600@klassikauto.pl
SUMMARY:Gardasee Classico
DESCRIPTION:wyjazd urlopowy
URL:https://klassikauto.pl/impreza/gardasee-classico/
LOCATION:Włochy
END:VEVENT
BEGIN:VEVENT
DTSTART;TZID=Europe/Helsinki:20210503T120000
DTEND;TZID=Europe/Helsinki:20210503T170000
DTSTAMP:20260420T183816
CREATED:20210417T164754Z
LAST-MODIFIED:20210417T164754Z
UID:77542-1620043200-1620061200@klassikauto.pl
SUMMARY:WWL Polonez Team 43-lecie Rozpoczęcia Produkcji Poloneza
DESCRIPTION:
URL:https://klassikauto.pl/impreza/wwl-polonez-team-43-lecie-rozpoczecia-produkcji-poloneza/
LOCATION:Warszawa
CATEGORIES:Zlot
END:VEVENT
BEGIN:VEVENT
DTSTART;TZID=Europe/Helsinki:20210503T140000
DTEND;TZID=Europe/Helsinki:20210503T170000
DTSTAMP:20260420T183816
CREATED:20210417T104438Z
LAST-MODIFIED:20210417T104438Z
UID:77445-1620050400-1620061200@klassikauto.pl
SUMMARY:43 lata Poloneza\, przejazd Polonezów po Trójmieście
DESCRIPTION:
URL:https://klassikauto.pl/impreza/43-lata-poloneza-przejazd-polonezow-po-trojmiescie/
LOCATION:Gdynia
CATEGORIES:Zlot
END:VEVENT
BEGIN:VEVENT
DTSTART;TZID=Europe/Helsinki:20210506T080000
DTEND;TZID=Europe/Helsinki:20210508T170000
DTSTAMP:20260420T183816
CREATED:20210211T150143Z
LAST-MODIFIED:20210211T150143Z
UID:76465-1620288000-1620493200@klassikauto.pl
SUMMARY:Bodensee Klassik 2021
DESCRIPTION:
URL:https://klassikauto.pl/impreza/bodensee-klassik-2021/
LOCATION:Schwabach\, Niemcy
CATEGORIES:Rajd
END:VEVENT
BEGIN:VEVENT
DTSTART;TZID=Europe/Helsinki:20210507T080000
DTEND;TZID=Europe/Helsinki:20210508T170000
DTSTAMP:20260420T183816
CREATED:20210211T150308Z
LAST-MODIFIED:20210211T150349Z
UID:76468-1620374400-1620493200@klassikauto.pl
SUMMARY:Bochumer Oldtimermeile
DESCRIPTION:
URL:https://klassikauto.pl/impreza/bochumer-oldtimermeile/
LOCATION:Bochum\, Niemcy
CATEGORIES:Zlot
END:VEVENT
BEGIN:VEVENT
DTSTART;TZID=Europe/Helsinki:20210507T100000
DTEND;TZID=Europe/Helsinki:20210509T180000
DTSTAMP:20260420T183816
CREATED:20210213T070938Z
LAST-MODIFIED:20210213T071519Z
UID:76533-1620381600-1620583200@klassikauto.pl
SUMMARY:Warsaw Motorcycle Show 2021 / III edycja
DESCRIPTION:
URL:https://klassikauto.pl/impreza/warsaw-motorcycle-show-2021-iii-edycja/
LOCATION:Warszawa
CATEGORIES:Targi
END:VEVENT
BEGIN:VEVENT
DTSTART;TZID=Europe/Helsinki:20210507T150000
DTEND;TZID=Europe/Helsinki:20210509T150000
DTSTAMP:20260420T183816
CREATED:20210213T072400Z
LAST-MODIFIED:20210213T083409Z
UID:76537-1620399600-1620572400@klassikauto.pl
SUMMARY:1 Sudecka Motoekspedycja 2K21
DESCRIPTION:
URL:https://klassikauto.pl/impreza/1-sudecka-motoekspedycja-2k21/
CATEGORIES:Rajd
END:VEVENT
BEGIN:VEVENT
DTSTART;TZID=Europe/Helsinki:20210507T150000
DTEND;TZID=Europe/Helsinki:20210509T170000
DTSTAMP:20260420T183816
CREATED:20210417T124153Z
LAST-MODIFIED:20210417T124153Z
UID:77489-1620399600-1620579600@klassikauto.pl
SUMMARY:XI Zlot Samochodów Amerykańskich i Zabytkowych w Mega Parku
DESCRIPTION:
URL:https://klassikauto.pl/impreza/xi-zlot-samochodow-amerykanskich-i-zabytkowych-w-mega-parku/
LOCATION:Grudziądz
CATEGORIES:Zlot
END:VEVENT
BEGIN:VEVENT
DTSTART;TZID=Europe/Helsinki:20210508T080000
DTEND;TZID=Europe/Helsinki:20210508T170000
DTSTAMP:20260420T183816
CREATED:20210211T153403Z
LAST-MODIFIED:20210211T153403Z
UID:76471-1620460800-1620493200@klassikauto.pl
SUMMARY:4th Monaco ePrix
DESCRIPTION:
URL:https://klassikauto.pl/impreza/4th-monaco-eprix/
LOCATION:Monte Carlo\, Monaco
CATEGORIES:Rajd
END:VEVENT
BEGIN:VEVENT
DTSTART;TZID=Europe/Helsinki:20210508T080000
DTEND;TZID=Europe/Helsinki:20210509T170000
DTSTAMP:20260420T183816
CREATED:20210212T164831Z
LAST-MODIFIED:20210212T164831Z
UID:76483-1620460800-1620579600@klassikauto.pl
SUMMARY:Oldtimertage Berlin-Brandenburg
DESCRIPTION:
URL:https://klassikauto.pl/impreza/oldtimertage-berlin-brandenburg/
LOCATION:Berlin
CATEGORIES:Zlot
END:VEVENT
BEGIN:VEVENT
DTSTART;TZID=Europe/Helsinki:20210508T080000
DTEND;TZID=Europe/Helsinki:20210509T170000
DTSTAMP:20260420T183816
CREATED:20210212T164959Z
LAST-MODIFIED:20210212T164959Z
UID:76485-1620460800-1620579600@klassikauto.pl
SUMMARY:Brazzeltag 2021
DESCRIPTION:
URL:https://klassikauto.pl/impreza/brazzeltag-2021/
LOCATION:Speyer\, Niemcy
CATEGORIES:Zlot
END:VEVENT
BEGIN:VEVENT
DTSTART;TZID=Europe/Helsinki:20210508T080000
DTEND;TZID=Europe/Helsinki:20210509T170000
DTSTAMP:20260420T183816
CREATED:20210212T175150Z
LAST-MODIFIED:20210212T175150Z
UID:76495-1620460800-1620579600@klassikauto.pl
SUMMARY:Warsaw Oldtimer Show 2021
DESCRIPTION:
URL:https://klassikauto.pl/impreza/warsaw-oldtimer-show-2021/
LOCATION:Warszawa
CATEGORIES:Targi
END:VEVENT
BEGIN:VEVENT
DTSTART;TZID=Europe/Helsinki:20210508T080000
DTEND;TZID=Europe/Helsinki:20210509T170000
DTSTAMP:20260420T183816
CREATED:20210417T095707Z
LAST-MODIFIED:20210417T095811Z
UID:77432-1620460800-1620579600@klassikauto.pl
SUMMARY:Moto Weteran Bazar
DESCRIPTION:zob. także Facebook
URL:https://klassikauto.pl/impreza/moto-weteran-bazar-4/
LOCATION:Łódź
CATEGORIES:Aukcja
END:VEVENT
BEGIN:VEVENT
DTSTART;TZID=Europe/Helsinki:20210509T080000
DTEND;TZID=Europe/Helsinki:20210509T170000
DTSTAMP:20260420T183816
CREATED:20210418T115728Z
LAST-MODIFIED:20210418T115728Z
UID:77604-1620547200-1620579600@klassikauto.pl
SUMMARY:Schumann-US-Car-Day
DESCRIPTION:
URL:https://klassikauto.pl/impreza/schumann-us-car-day/
LOCATION:Kamen\, Niemcy
CATEGORIES:Zlot
END:VEVENT
BEGIN:VEVENT
DTSTART;TZID=Europe/Helsinki:20210509T090000
DTEND;TZID=Europe/Helsinki:20210509T170000
DTSTAMP:20260420T183816
CREATED:20210417T104646Z
LAST-MODIFIED:20210417T104646Z
UID:77448-1620550800-1620579600@klassikauto.pl
SUMMARY:Klasyki na torze
DESCRIPTION:
URL:https://klassikauto.pl/impreza/klasyki-na-torze-2/
LOCATION:Gdańsk
CATEGORIES:Rajd
END:VEVENT
BEGIN:VEVENT
DTSTART;TZID=Europe/Helsinki:20210509T120000
DTEND;TZID=Europe/Helsinki:20210509T190000
DTSTAMP:20260420T183816
CREATED:20210417T114219Z
LAST-MODIFIED:20210417T114219Z
UID:77463-1620561600-1620586800@klassikauto.pl
SUMMARY:Grand Prix Ziemi Kozielskiej - Rajd Klasyków
DESCRIPTION:
URL:https://klassikauto.pl/impreza/grand-prix-ziemi-kozielskiej-rajd-klasykow/
LOCATION:Kędzierzyn-Koźle
CATEGORIES:Rajd
END:VEVENT
BEGIN:VEVENT
DTSTART;TZID=Europe/Helsinki:20210513T080000
DTEND;TZID=Europe/Helsinki:20210515T170000
DTSTAMP:20260420T183816
CREATED:20210212T165117Z
LAST-MODIFIED:20210212T165117Z
UID:76487-1620892800-1621098000@klassikauto.pl
SUMMARY:43. AFF-Jahrestreffen
DESCRIPTION:
URL:https://klassikauto.pl/impreza/43-aff-jahrestreffen/
LOCATION:Bremen\, Niemcy
CATEGORIES:Zlot
END:VEVENT
BEGIN:VEVENT
DTSTART;TZID=Europe/Helsinki:20210513T080000
DTEND;TZID=Europe/Helsinki:20210516T170000
DTSTAMP:20260420T183816
CREATED:20210212T174438Z
LAST-MODIFIED:20210212T174438Z
UID:76490-1620892800-1621184400@klassikauto.pl
SUMMARY:49. Jahrestreffen in Altusried
DESCRIPTION:
URL:https://klassikauto.pl/impreza/49-jahrestreffen-in-altusried/
LOCATION:Altusried\, Niemcy
CATEGORIES:Zlot
END:VEVENT
BEGIN:VEVENT
DTSTART;TZID=Europe/Helsinki:20210514T080000
DTEND;TZID=Europe/Helsinki:20210516T170000
DTSTAMP:20260420T183816
CREATED:20210212T175826Z
LAST-MODIFIED:20210212T175826Z
UID:76500-1620979200-1621184400@klassikauto.pl
SUMMARY:XI Zlot Aut Amerykańskich i Zabytkowych
DESCRIPTION:
URL:https://klassikauto.pl/impreza/xi-zlot-aut-amerykanskich-i-zabytkowych/
LOCATION:Bożejewice
CATEGORIES:Zlot
END:VEVENT
BEGIN:VEVENT
DTSTART;TZID=Europe/Helsinki:20210515T080000
DTEND;TZID=Europe/Helsinki:20210515T170000
DTSTAMP:20260420T183816
CREATED:20210212T174557Z
LAST-MODIFIED:20210212T174557Z
UID:76493-1621065600-1621098000@klassikauto.pl
SUMMARY:VII ClassicMania NIGHT Nocny Międzynarodowy Zlot Pojazdów Zabytkowych
DESCRIPTION:
URL:https://klassikauto.pl/impreza/vii-classicmania-night-nocny-miedzynarodowy-zlot-pojazdow-zabytkowych/
LOCATION:Sosnowiec
CATEGORIES:Zlot
END:VEVENT
BEGIN:VEVENT
DTSTART;TZID=Europe/Helsinki:20210515T080000
DTEND;TZID=Europe/Helsinki:20210516T170000
DTSTAMP:20260420T183816
CREATED:20210212T182850Z
LAST-MODIFIED:20210212T182850Z
UID:76518-1621065600-1621184400@klassikauto.pl
SUMMARY:1. Oldtimertreffen
DESCRIPTION:
URL:https://klassikauto.pl/impreza/1-oldtimertreffen/
LOCATION:Essen\, Niemcy
CATEGORIES:Zlot
END:VEVENT
BEGIN:VEVENT
DTSTART;TZID=Europe/Helsinki:20210515T080000
DTEND;TZID=Europe/Helsinki:20210516T170000
DTSTAMP:20260420T183816
CREATED:20210213T081308Z
LAST-MODIFIED:20210213T081308Z
UID:76561-1621065600-1621184400@klassikauto.pl
SUMMARY:Goodwood Members' Meeting Sale
DESCRIPTION:
URL:https://klassikauto.pl/impreza/goodwood-members-meeting-sale-2/
LOCATION:Goodwood
CATEGORIES:Aukcja
END:VEVENT
BEGIN:VEVENT
DTSTART;TZID=Europe/Helsinki:20210515T140000
DTEND;TZID=Europe/Helsinki:20210515T170000
DTSTAMP:20260420T183816
CREATED:20210417T163838Z
LAST-MODIFIED:20210417T163838Z
UID:77534-1621087200-1621098000@klassikauto.pl
SUMMARY:Plener Muzealny w Kobyłce - w ramach Nocy Muzeów.
DESCRIPTION:Muzeum Motoryzacji i Techniki w Kobyłce
URL:https://klassikauto.pl/impreza/plener-muzealny-w-kobylce-w-ramach-nocy-muzeow/
LOCATION:Kobyłka
CATEGORIES:Wystawa
END:VEVENT
BEGIN:VEVENT
DTSTART;TZID=Europe/Helsinki:20210516T080000
DTEND;TZID=Europe/Helsinki:20210516T170000
DTSTAMP:20260420T183816
CREATED:20210213T083918Z
LAST-MODIFIED:20210213T083918Z
UID:76564-1621152000-1621184400@klassikauto.pl
SUMMARY:Steinfeld Classic\, 7 zlot historycznych pojazdów
DESCRIPTION:
URL:https://klassikauto.pl/impreza/steinfeld-classic-7-zlot-historycznych-pojazdow/
LOCATION:Steinfeld\, Niemcy
CATEGORIES:Zlot
END:VEVENT
END:VCALENDAR
<!-- RunCloud Hub 2026-04-20 17:38:16 -->