BEGIN:VCALENDAR
VERSION:2.0
PRODID:-//KlassikAuto.pl - ECPv6.7.0//NONSGML v1.0//EN
CALSCALE:GREGORIAN
METHOD:PUBLISH
X-WR-CALNAME:KlassikAuto.pl
X-ORIGINAL-URL:https://klassikauto.pl
X-WR-CALDESC:Wydarzenia dla KlassikAuto.pl
REFRESH-INTERVAL;VALUE=DURATION:PT1H
X-Robots-Tag:noindex
X-PUBLISHED-TTL:PT1H
BEGIN:VTIMEZONE
TZID:Europe/Helsinki
BEGIN:DAYLIGHT
TZOFFSETFROM:+0200
TZOFFSETTO:+0300
TZNAME:EEST
DTSTART:20200329T010000
END:DAYLIGHT
BEGIN:STANDARD
TZOFFSETFROM:+0300
TZOFFSETTO:+0200
TZNAME:EET
DTSTART:20201025T010000
END:STANDARD
END:VTIMEZONE
BEGIN:VEVENT
DTSTART;TZID=Europe/Helsinki:20200918T080000
DTEND;TZID=Europe/Helsinki:20200920T170000
DTSTAMP:20260423T143732
CREATED:20200818T093913Z
LAST-MODIFIED:20200818T093913Z
UID:74240-1600416000-1600621200@klassikauto.pl
SUMMARY:II Małopolski Zlot Mustangów
DESCRIPTION:
URL:https://klassikauto.pl/impreza/ii-malopolski-zlot-mustangow/
LOCATION:Miedziana Góra
CATEGORIES:Zlot
END:VEVENT
BEGIN:VEVENT
DTSTART;TZID=Europe/Helsinki:20200918T080000
DTEND;TZID=Europe/Helsinki:20200920T170000
DTSTAMP:20260423T143732
CREATED:20200819T181841Z
LAST-MODIFIED:20200819T181841Z
UID:74263-1600416000-1600621200@klassikauto.pl
SUMMARY:1. Liptovský sraz historických vozidel
DESCRIPTION:
URL:https://klassikauto.pl/impreza/1-liptovsky-sraz-historickych-vozidel/
LOCATION:Liptovská teplá\, Słowacja
CATEGORIES:Zlot
END:VEVENT
BEGIN:VEVENT
DTSTART;TZID=Europe/Helsinki:20200918T080000
DTEND;TZID=Europe/Helsinki:20200920T170000
DTSTAMP:20260423T143732
CREATED:20200819T182103Z
LAST-MODIFIED:20200819T182103Z
UID:74266-1600416000-1600621200@klassikauto.pl
SUMMARY:Zlatohorské ukončení sezony
DESCRIPTION:
URL:https://klassikauto.pl/impreza/zlatohorske-ukonceni-sezony/
LOCATION:Zlote Hory\, Czechy
CATEGORIES:Zlot
END:VEVENT
BEGIN:VEVENT
DTSTART;TZID=Europe/Helsinki:20200920T080000
DTEND;TZID=Europe/Helsinki:20200920T170000
DTSTAMP:20260423T143732
CREATED:20200108T213721Z
LAST-MODIFIED:20200108T213757Z
UID:71154-1600588800-1600621200@klassikauto.pl
SUMMARY:Oldtimerbazar
DESCRIPTION:
URL:https://klassikauto.pl/impreza/oldtimebazar/
LOCATION:Sosnowiec
CATEGORIES:Aukcja
END:VEVENT
BEGIN:VEVENT
DTSTART;TZID=Europe/Helsinki:20200920T080000
DTEND;TZID=Europe/Helsinki:20200920T170000
DTSTAMP:20260423T143732
CREATED:20200823T132420Z
LAST-MODIFIED:20200823T132420Z
UID:74371-1600588800-1600621200@klassikauto.pl
SUMMARY:Zlot Samochodów Modyfikowanych
DESCRIPTION:
URL:https://klassikauto.pl/impreza/zlot-samochodow-modyfikowanych/
LOCATION:Andrychów
CATEGORIES:Zlot
END:VEVENT
BEGIN:VEVENT
DTSTART;TZID=Europe/Helsinki:20200920T090000
DTEND;TZID=Europe/Helsinki:20200920T173000
DTSTAMP:20260423T143732
CREATED:20200322T101721Z
LAST-MODIFIED:20200322T101721Z
UID:72244-1600592400-1600623000@klassikauto.pl
SUMMARY:VIII Tarnogórski Zlot Pojazdów Zabytkowych
DESCRIPTION:
URL:https://klassikauto.pl/impreza/viii-tarnogorski-zlot-pojazdow-zabytkowych/
LOCATION:Tarnowskie Góry
CATEGORIES:Zlot
END:VEVENT
BEGIN:VEVENT
DTSTART;TZID=Europe/Helsinki:20200920T100000
DTEND;TZID=Europe/Helsinki:20200920T140000
DTSTAMP:20260423T143732
CREATED:20200110T152921Z
LAST-MODIFIED:20200110T152921Z
UID:71202-1600596000-1600610400@klassikauto.pl
SUMMARY:Giełda Modeli Samochodowych
DESCRIPTION:
URL:https://klassikauto.pl/impreza/gielda-modeli-samochodowych-3/
LOCATION:Warszawa
CATEGORIES:Aukcja
END:VEVENT
BEGIN:VEVENT
DTSTART;TZID=Europe/Helsinki:20200920T100000
DTEND;TZID=Europe/Helsinki:20200920T180000
DTSTAMP:20260423T143732
CREATED:20200818T091822Z
LAST-MODIFIED:20200818T091822Z
UID:74227-1600596000-1600624800@klassikauto.pl
SUMMARY:XII Zlot Zabytkowych Pojazdów w Nowym Sączu
DESCRIPTION:
URL:https://klassikauto.pl/impreza/xii-zlot-zabytkowych-pojazdow-w-nowym-saczu/
LOCATION:Miasteczko Galicyjskie w Nowym Sączu
CATEGORIES:Zlot
END:VEVENT
BEGIN:VEVENT
DTSTART;TZID=Europe/Helsinki:20200920T100000
DTEND;TZID=Europe/Helsinki:20200920T190000
DTSTAMP:20260423T143732
CREATED:20200320T174437Z
LAST-MODIFIED:20200823T131806Z
UID:72203-1600596000-1600628400@klassikauto.pl
SUMMARY:Moto Show Andrychów 2020
DESCRIPTION:
URL:https://klassikauto.pl/impreza/moto-show-andrychow-2020/
LOCATION:Andrychów
CATEGORIES:Zlot
END:VEVENT
BEGIN:VEVENT
DTSTART;TZID=Europe/Helsinki:20200920T140000
DTEND;TZID=Europe/Helsinki:20200920T170000
DTSTAMP:20260423T143732
CREATED:20200818T091140Z
LAST-MODIFIED:20200818T091140Z
UID:74224-1600610400-1600621200@klassikauto.pl
SUMMARY:II Zlot Pojazdów Zabytkowych Pokaż Swoje Cacko
DESCRIPTION:
URL:https://klassikauto.pl/impreza/ii-zlot-pojazdow-zabytkowych-pokaz-swoje-cacko/
LOCATION:Moszczanka
CATEGORIES:Zlot
END:VEVENT
BEGIN:VEVENT
DTSTART;TZID=Europe/Helsinki:20200920T140000
DTEND;TZID=Europe/Helsinki:20200920T180000
DTSTAMP:20260423T143732
CREATED:20200108T211958Z
LAST-MODIFIED:20200823T133000Z
UID:71137-1600610400-1600624800@klassikauto.pl
SUMMARY:II Zlot Pojazdów Zabytkowych "Majówka w Dwójce"
DESCRIPTION:
URL:https://klassikauto.pl/impreza/ii-zlot-pojazdow-zabytkowych-majowka-w-dwojce/
LOCATION:Dąbrowa Tarnowska
CATEGORIES:Zlot
END:VEVENT
BEGIN:VEVENT
DTSTART;TZID=Europe/Helsinki:20200924T080000
DTEND;TZID=Europe/Helsinki:20200927T170000
DTSTAMP:20260423T143732
CREATED:20200820T101624Z
LAST-MODIFIED:20200820T101624Z
UID:74294-1600934400-1601226000@klassikauto.pl
SUMMARY:Bałtycki Rajd I Runda MPMZ
DESCRIPTION:
URL:https://klassikauto.pl/impreza/baltycki-rajd-i-runda-mpmz/
LOCATION:Łeba
CATEGORIES:Rajd
END:VEVENT
BEGIN:VEVENT
DTSTART;TZID=Europe/Helsinki:20200925T080000
DTEND;TZID=Europe/Helsinki:20200927T170000
DTSTAMP:20260423T143732
CREATED:20200818T090928Z
LAST-MODIFIED:20200818T090928Z
UID:74221-1601020800-1601226000@klassikauto.pl
SUMMARY:1 Bieszczadzki Charytatywny Rajd Malucha
DESCRIPTION:
URL:https://klassikauto.pl/impreza/1-bieszczadzki-charytatywny-rajd-malucha/
LOCATION:Diabla Góra
CATEGORIES:Rajd
END:VEVENT
BEGIN:VEVENT
DTSTART;TZID=Europe/Helsinki:20200926T080000
DTEND;TZID=Europe/Helsinki:20200926T170000
DTSTAMP:20260423T143732
CREATED:20200407T172455Z
LAST-MODIFIED:20200407T172455Z
UID:72638-1601107200-1601139600@klassikauto.pl
SUMMARY:Auto moto velo burza v Hobšovicích
DESCRIPTION:
URL:https://klassikauto.pl/impreza/auto-moto-velo-burza-v-hobsovicich-3/
LOCATION:Hobšovice\, Czechy
CATEGORIES:Aukcja
END:VEVENT
BEGIN:VEVENT
DTSTART;TZID=Europe/Helsinki:20200926T080000
DTEND;TZID=Europe/Helsinki:20200926T170000
DTSTAMP:20260423T143732
CREATED:20200820T092440Z
LAST-MODIFIED:20200820T092440Z
UID:74272-1601107200-1601139600@klassikauto.pl
SUMMARY:Úterský kopec
DESCRIPTION:
URL:https://klassikauto.pl/impreza/utersky-kopec/
LOCATION:Úterý\, Czechy
CATEGORIES:Rajd
END:VEVENT
BEGIN:VEVENT
DTSTART;TZID=Europe/Helsinki:20200926T100000
DTEND;TZID=Europe/Helsinki:20200927T170000
DTSTAMP:20260423T143732
CREATED:20200320T181725Z
LAST-MODIFIED:20200320T181725Z
UID:72209-1601114400-1601226000@klassikauto.pl
SUMMARY:7. ClassicCars-Saisonabschluss
DESCRIPTION:
URL:https://klassikauto.pl/impreza/7-classiccars-saisonabschluss/
LOCATION:Marwitz\, Niemcy
CATEGORIES:Zlot
END:VEVENT
BEGIN:VEVENT
DTSTART;TZID=Europe/Helsinki:20200926T163000
DTEND;TZID=Europe/Helsinki:20200926T200000
DTSTAMP:20260423T143732
CREATED:20200818T090232Z
LAST-MODIFIED:20200818T090232Z
UID:74218-1601137800-1601150400@klassikauto.pl
SUMMARY:Klasyczny wrzesień
DESCRIPTION:
URL:https://klassikauto.pl/impreza/klasyczny-wrzesien/
LOCATION:Zgierz
CATEGORIES:Zlot
END:VEVENT
BEGIN:VEVENT
DTSTART;TZID=Europe/Helsinki:20200927T080000
DTEND;TZID=Europe/Helsinki:20200927T170000
DTSTAMP:20260423T143732
CREATED:20200108T213844Z
LAST-MODIFIED:20200108T213844Z
UID:71158-1601193600-1601226000@klassikauto.pl
SUMMARY:Oldtimerbazar
DESCRIPTION:
URL:https://klassikauto.pl/impreza/oldtimerbazar-24/
LOCATION:Wrocław\, Wrocław\, Poland
CATEGORIES:Aukcja
END:VEVENT
BEGIN:VEVENT
DTSTART;TZID=Europe/Helsinki:20200927T080000
DTEND;TZID=Europe/Helsinki:20200927T170000
DTSTAMP:20260423T143732
CREATED:20200407T172716Z
LAST-MODIFIED:20200407T172716Z
UID:72640-1601193600-1601226000@klassikauto.pl
SUMMARY:Závěr sezony Oldtimer clubu Helfštýn
DESCRIPTION:
URL:https://klassikauto.pl/impreza/zaver-sezony-oldtimer-clubu-helfstyn/
LOCATION:Lipník\, Czechy
CATEGORIES:Zlot
END:VEVENT
BEGIN:VEVENT
DTSTART;TZID=Europe/Helsinki:20200928T080000
DTEND;TZID=Europe/Helsinki:20200928T170000
DTSTAMP:20260423T143732
CREATED:20200820T092752Z
LAST-MODIFIED:20200820T093501Z
UID:74275-1601280000-1601312400@klassikauto.pl
SUMMARY:Americke stroje
DESCRIPTION:
URL:https://klassikauto.pl/impreza/americke-stroje/
LOCATION:Trmice\, Czechy
CATEGORIES:Zlot
END:VEVENT
BEGIN:VEVENT
DTSTART;TZID=Europe/Helsinki:20200928T080000
DTEND;TZID=Europe/Helsinki:20200928T170000
DTSTAMP:20260423T143732
CREATED:20200820T093042Z
LAST-MODIFIED:20200820T093042Z
UID:74278-1601280000-1601312400@klassikauto.pl
SUMMARY:Svatováclavská jízda historických vozidel
DESCRIPTION:
URL:https://klassikauto.pl/impreza/svatovaclavska-jizda-historickych-vozidel/
LOCATION:Novy Jicin\, Czechy
CATEGORIES:Zlot
END:VEVENT
BEGIN:VEVENT
DTSTART;TZID=Europe/Helsinki:20201002T080000
DTEND;TZID=Europe/Helsinki:20201004T170000
DTSTAMP:20260423T143732
CREATED:20200322T114529Z
LAST-MODIFIED:20200322T114529Z
UID:72291-1601625600-1601830800@klassikauto.pl
SUMMARY:16. Vinobraní s Mercedesy 2020 Zaječí
DESCRIPTION:
URL:https://klassikauto.pl/impreza/16-vinobrani-s-mercedesy-2020-zajeci/
LOCATION:Zaječí\, Czechy
CATEGORIES:Zlot
END:VEVENT
BEGIN:VEVENT
DTSTART;TZID=Europe/Helsinki:20201003T080000
DTEND;TZID=Europe/Helsinki:20201003T170000
DTSTAMP:20260423T143732
CREATED:20200407T172927Z
LAST-MODIFIED:20200407T172927Z
UID:72643-1601712000-1601744400@klassikauto.pl
SUMMARY:Ondřejovská Osmička - Memoriál Jana Novotného
DESCRIPTION:
URL:https://klassikauto.pl/impreza/ondrejovska-osmicka-memorial-jana-novotneho/
LOCATION:Ondřejov\, Czechy
CATEGORIES:Zlot
END:VEVENT
BEGIN:VEVENT
DTSTART;TZID=Europe/Helsinki:20201003T090000
DTEND;TZID=Europe/Helsinki:20201003T180000
DTSTAMP:20260423T143732
CREATED:20200823T093407Z
LAST-MODIFIED:20200823T093407Z
UID:74339-1601715600-1601748000@klassikauto.pl
SUMMARY:18. Int.Histo Neandertal und Oldtimertag
DESCRIPTION:
URL:https://klassikauto.pl/impreza/18-int-histo-neandertal-und-oldtimertag/
LOCATION:Mettmann\, Niemcy
CATEGORIES:Zlot
END:VEVENT
BEGIN:VEVENT
DTSTART;TZID=Europe/Helsinki:20201011T080000
DTEND;TZID=Europe/Helsinki:20201011T170000
DTSTAMP:20260423T143732
CREATED:20200820T094614Z
LAST-MODIFIED:20200820T094614Z
UID:74283-1602403200-1602435600@klassikauto.pl
SUMMARY:Sraz veteránů v Kovozoo - ukončení motoristické sezóny
DESCRIPTION:
URL:https://klassikauto.pl/impreza/sraz-veteranu-v-kovozoo-ukonceni-motoristicke-sezony/
LOCATION:Staré Město\, Czechy
CATEGORIES:Zlot
END:VEVENT
BEGIN:VEVENT
DTSTART;TZID=Europe/Helsinki:20201022T080000
DTEND;TZID=Europe/Helsinki:20201025T170000
DTSTAMP:20260423T143732
CREATED:20200407T174440Z
LAST-MODIFIED:20200407T174440Z
UID:72652-1603353600-1603645200@klassikauto.pl
SUMMARY:1000 Miglia 2020
DESCRIPTION:
URL:https://klassikauto.pl/impreza/1000-miglia-2020/
LOCATION:Włochy
CATEGORIES:Rajd
END:VEVENT
BEGIN:VEVENT
DTSTART;TZID=Europe/Helsinki:20201023T080000
DTEND;TZID=Europe/Helsinki:20201025T170000
DTSTAMP:20260423T143732
CREATED:20200820T100701Z
LAST-MODIFIED:20200820T100701Z
UID:74286-1603440000-1603645200@klassikauto.pl
SUMMARY:Retro Motor Show 2020 - Targi Pojazdów Zabytkowych
DESCRIPTION:
URL:https://klassikauto.pl/impreza/retro-motor-show-2020-targi-pojazdow-zabytkowych/
LOCATION:Poznań
CATEGORIES:Targi
END:VEVENT
BEGIN:VEVENT
DTSTART;TZID=Europe/Helsinki:20201113T100000
DTEND;TZID=Europe/Helsinki:20201115T180000
DTSTAMP:20260423T143732
CREATED:20200110T154802Z
LAST-MODIFIED:20200110T154802Z
UID:71222-1605261600-1605463200@klassikauto.pl
SUMMARY:Warsaw Motor Show 2020
DESCRIPTION:
URL:https://klassikauto.pl/impreza/warsaw-motor-show-2020/
LOCATION:Warszawa
CATEGORIES:Targi
END:VEVENT
BEGIN:VEVENT
DTSTART;TZID=Europe/Helsinki:20201118T080000
DTEND;TZID=Europe/Helsinki:20201122T170000
DTSTAMP:20260423T143732
CREATED:20200320T174805Z
LAST-MODIFIED:20200320T174805Z
UID:72205-1605686400-1606064400@klassikauto.pl
SUMMARY:Motorworld Classics Berlin 2020
DESCRIPTION:
URL:https://klassikauto.pl/impreza/motorworld-classics-berlin-2020/
LOCATION:Berlin
CATEGORIES:Targi
END:VEVENT
BEGIN:VEVENT
DTSTART;TZID=Europe/Helsinki:20201122T080000
DTEND;TZID=Europe/Helsinki:20201122T170000
DTSTAMP:20260423T143732
CREATED:20200108T213944Z
LAST-MODIFIED:20200108T213944Z
UID:71161-1606032000-1606064400@klassikauto.pl
SUMMARY:Oldtimerbazar
DESCRIPTION:
URL:https://klassikauto.pl/impreza/oldtimerbazar-25/
LOCATION:Wrocław\, Wrocław\, Poland
CATEGORIES:Aukcja
END:VEVENT
END:VCALENDAR
<!-- RunCloud Hub 2026-04-23 13:37:32 -->