BEGIN:VCALENDAR
VERSION:2.0
PRODID:-//KlassikAuto.pl - ECPv6.7.0//NONSGML v1.0//EN
CALSCALE:GREGORIAN
METHOD:PUBLISH
X-WR-CALNAME:KlassikAuto.pl
X-ORIGINAL-URL:https://klassikauto.pl
X-WR-CALDESC:Wydarzenia dla KlassikAuto.pl
REFRESH-INTERVAL;VALUE=DURATION:PT1H
X-Robots-Tag:noindex
X-PUBLISHED-TTL:PT1H
BEGIN:VTIMEZONE
TZID:Europe/Helsinki
BEGIN:DAYLIGHT
TZOFFSETFROM:+0200
TZOFFSETTO:+0300
TZNAME:EEST
DTSTART:20200329T010000
END:DAYLIGHT
BEGIN:STANDARD
TZOFFSETFROM:+0300
TZOFFSETTO:+0200
TZNAME:EET
DTSTART:20201025T010000
END:STANDARD
END:VTIMEZONE
BEGIN:VEVENT
DTSTART;TZID=Europe/Helsinki:20200911T080000
DTEND;TZID=Europe/Helsinki:20200912T170000
DTSTAMP:20260423T143908
CREATED:20200407T172035Z
LAST-MODIFIED:20200407T172044Z
UID:72631-1599811200-1599930000@klassikauto.pl
SUMMARY:11. ročník Historic Jizera 2020
DESCRIPTION:
URL:https://klassikauto.pl/impreza/11-rocnik-historic-jizera-2020/
LOCATION:Železný Brod\, Czechy
CATEGORIES:Rajd
END:VEVENT
BEGIN:VEVENT
DTSTART;TZID=Europe/Helsinki:20200911T080000
DTEND;TZID=Europe/Helsinki:20200912T170000
DTSTAMP:20260423T143908
CREATED:20200823T131250Z
LAST-MODIFIED:20200823T131250Z
UID:74368-1599811200-1599930000@klassikauto.pl
SUMMARY:Rajd Śląska 2020
DESCRIPTION:
URL:https://klassikauto.pl/impreza/rajd-slaska-2020/
LOCATION:Chorzów
CATEGORIES:Rajd
END:VEVENT
BEGIN:VEVENT
DTSTART;TZID=Europe/Helsinki:20200911T080000
DTEND;TZID=Europe/Helsinki:20200913T170000
DTSTAMP:20260423T143908
CREATED:20200206T173434Z
LAST-MODIFIED:20200818T090538Z
UID:71604-1599811200-1600016400@klassikauto.pl
SUMMARY:8 Majówka Rezerwy 126p
DESCRIPTION:
URL:https://klassikauto.pl/impreza/8-majowka-rezerwy-126p/
LOCATION:Zarzecze
CATEGORIES:Zlot
END:VEVENT
BEGIN:VEVENT
DTSTART;TZID=Europe/Helsinki:20200911T080000
DTEND;TZID=Europe/Helsinki:20200913T170000
DTSTAMP:20260423T143908
CREATED:20200819T180954Z
LAST-MODIFIED:20200819T180954Z
UID:74260-1599811200-1600016400@klassikauto.pl
SUMMARY:Jeep Jamboree 2020
DESCRIPTION:Zlot samochodów marki JEEP produkowanych do 1965 r.
URL:https://klassikauto.pl/impreza/jeep-jamboree-2020/
LOCATION:Borovinka u Koněšína\, Czechy
CATEGORIES:Zlot
END:VEVENT
BEGIN:VEVENT
DTSTART;TZID=Europe/Helsinki:20200911T080000
DTEND;TZID=Europe/Helsinki:20200913T170000
DTSTAMP:20260423T143908
CREATED:20200823T093132Z
LAST-MODIFIED:20200823T093132Z
UID:74337-1599811200-1600016400@klassikauto.pl
SUMMARY:Concours d´Elegance Tegernsee 2020
DESCRIPTION:
URL:https://klassikauto.pl/impreza/concours-delegance-tegernsee-2020/
LOCATION:Gmund\, Niemcy
CATEGORIES:Zlot
END:VEVENT
BEGIN:VEVENT
DTSTART;TZID=Europe/Helsinki:20200912T080000
DTEND;TZID=Europe/Helsinki:20200913T170000
DTSTAMP:20260423T143908
CREATED:20200206T175547Z
LAST-MODIFIED:20200823T131552Z
UID:71621-1599897600-1600016400@klassikauto.pl
SUMMARY:2nd Moto Piknik
DESCRIPTION:
URL:https://klassikauto.pl/impreza/2nd-moto-piknik/
LOCATION:Nowy Sącz
CATEGORIES:Zlot
END:VEVENT
BEGIN:VEVENT
DTSTART;TZID=Europe/Helsinki:20200912T080000
DTEND;TZID=Europe/Helsinki:20200913T170000
DTSTAMP:20260423T143908
CREATED:20200210T183340Z
LAST-MODIFIED:20200210T183340Z
UID:71794-1599897600-1600016400@klassikauto.pl
SUMMARY:Technorama Hieldesheim
DESCRIPTION:
URL:https://klassikauto.pl/impreza/technorama-hieldesheim/
LOCATION:Hildesheim
CATEGORIES:Targi
END:VEVENT
BEGIN:VEVENT
DTSTART;TZID=Europe/Helsinki:20200912T080000
DTEND;TZID=Europe/Helsinki:20200913T170000
DTSTAMP:20260423T143908
CREATED:20200820T101332Z
LAST-MODIFIED:20200820T101332Z
UID:74288-1599897600-1600016400@klassikauto.pl
SUMMARY:Auto Nostalgia 2020 - Targi Pojazdów Zabytkowych
DESCRIPTION:
URL:https://klassikauto.pl/impreza/auto-nostalgia-2020-targi-pojazdow-zabytkowych/
LOCATION:Warszawa
CATEGORIES:Targi
END:VEVENT
BEGIN:VEVENT
DTSTART;TZID=Europe/Helsinki:20200913T080000
DTEND;TZID=Europe/Helsinki:20200913T170000
DTSTAMP:20260423T143908
CREATED:20200407T172207Z
LAST-MODIFIED:20200407T172207Z
UID:72633-1599984000-1600016400@klassikauto.pl
SUMMARY:Auto-moto-burza Valy
DESCRIPTION:
URL:https://klassikauto.pl/impreza/auto-moto-burza-valy-7/
LOCATION:Valy u Přelouče\, Czechy
CATEGORIES:Aukcja
END:VEVENT
BEGIN:VEVENT
DTSTART;TZID=Europe/Helsinki:20200913T100000
DTEND;TZID=Europe/Helsinki:20200914T170000
DTSTAMP:20260423T143908
CREATED:20200818T092144Z
LAST-MODIFIED:20200818T092144Z
UID:74229-1599991200-1600102800@klassikauto.pl
SUMMARY:MotoPiknik Tokarnia 2020 / Zakończenie sezonu 2020
DESCRIPTION:
URL:https://klassikauto.pl/impreza/motopiknik-tokarnia-2020-zakonczenie-sezonu-2020/
LOCATION:Tokarnia
CATEGORIES:Zlot
END:VEVENT
BEGIN:VEVENT
DTSTART;TZID=Europe/Helsinki:20200913T110000
DTEND;TZID=Europe/Helsinki:20200913T160000
DTSTAMP:20260423T143908
CREATED:20200206T173230Z
LAST-MODIFIED:20200818T092622Z
UID:71602-1599994800-1600012800@klassikauto.pl
SUMMARY:Konecki Motopiknik - Edycja III
DESCRIPTION:
URL:https://klassikauto.pl/impreza/konecki-motopiknik-edycja-iii/
LOCATION:Końskie
CATEGORIES:Zlot
END:VEVENT
BEGIN:VEVENT
DTSTART;TZID=Europe/Helsinki:20200918T080000
DTEND;TZID=Europe/Helsinki:20200920T170000
DTSTAMP:20260423T143908
CREATED:20200818T093913Z
LAST-MODIFIED:20200818T093913Z
UID:74240-1600416000-1600621200@klassikauto.pl
SUMMARY:II Małopolski Zlot Mustangów
DESCRIPTION:
URL:https://klassikauto.pl/impreza/ii-malopolski-zlot-mustangow/
LOCATION:Miedziana Góra
CATEGORIES:Zlot
END:VEVENT
BEGIN:VEVENT
DTSTART;TZID=Europe/Helsinki:20200918T080000
DTEND;TZID=Europe/Helsinki:20200920T170000
DTSTAMP:20260423T143908
CREATED:20200819T181841Z
LAST-MODIFIED:20200819T181841Z
UID:74263-1600416000-1600621200@klassikauto.pl
SUMMARY:1. Liptovský sraz historických vozidel
DESCRIPTION:
URL:https://klassikauto.pl/impreza/1-liptovsky-sraz-historickych-vozidel/
LOCATION:Liptovská teplá\, Słowacja
CATEGORIES:Zlot
END:VEVENT
BEGIN:VEVENT
DTSTART;TZID=Europe/Helsinki:20200918T080000
DTEND;TZID=Europe/Helsinki:20200920T170000
DTSTAMP:20260423T143908
CREATED:20200819T182103Z
LAST-MODIFIED:20200819T182103Z
UID:74266-1600416000-1600621200@klassikauto.pl
SUMMARY:Zlatohorské ukončení sezony
DESCRIPTION:
URL:https://klassikauto.pl/impreza/zlatohorske-ukonceni-sezony/
LOCATION:Zlote Hory\, Czechy
CATEGORIES:Zlot
END:VEVENT
BEGIN:VEVENT
DTSTART;TZID=Europe/Helsinki:20200919T073000
DTEND;TZID=Europe/Helsinki:20200919T190000
DTSTAMP:20260423T143908
CREATED:20200322T113422Z
LAST-MODIFIED:20200322T113422Z
UID:72282-1600500600-1600542000@klassikauto.pl
SUMMARY:20 lat od zakończenia produkcji Fiata 126p
DESCRIPTION:zawody na Motodromie
URL:https://klassikauto.pl/impreza/20-lat-od-zakonczenia-produkcji-fiata-126p/
LOCATION:Łódź
CATEGORIES:Zlot
END:VEVENT
BEGIN:VEVENT
DTSTART;TZID=Europe/Helsinki:20200919T080000
DTEND;TZID=Europe/Helsinki:20200919T170000
DTSTAMP:20260423T143908
CREATED:20200407T172340Z
LAST-MODIFIED:20200407T172340Z
UID:72635-1600502400-1600534800@klassikauto.pl
SUMMARY:3. ročník sraz autoveteránů Předměřice n. Labem
DESCRIPTION:
URL:https://klassikauto.pl/impreza/3-rocnik-sraz-autoveteranu-predmerice-n-labem/
LOCATION:Předměřice n. Labem\, Czechy
CATEGORIES:Zlot
END:VEVENT
BEGIN:VEVENT
DTSTART;TZID=Europe/Helsinki:20200919T080000
DTEND;TZID=Europe/Helsinki:20200919T170000
DTSTAMP:20260423T143908
CREATED:20200819T182321Z
LAST-MODIFIED:20200819T182321Z
UID:74269-1600502400-1600534800@klassikauto.pl
SUMMARY:Historici v Roudnici - 18. ročník
DESCRIPTION:
URL:https://klassikauto.pl/impreza/historici-v-roudnici-18-rocnik/
LOCATION:Roudnice nad Labem\, Czechy
CATEGORIES:Zlot
END:VEVENT
BEGIN:VEVENT
DTSTART;TZID=Europe/Helsinki:20200919T090000
DTEND;TZID=Europe/Helsinki:20200919T173000
DTSTAMP:20260423T143908
CREATED:20200820T102246Z
LAST-MODIFIED:20200820T102246Z
UID:74300-1600506000-1600536600@klassikauto.pl
SUMMARY:Tata ma grata\, rajd dla dzieciaka edycja 2
DESCRIPTION:
URL:https://klassikauto.pl/impreza/tata-ma-grata-rajd-dla-dzieciaka-edycja-2/
LOCATION:Piastów
CATEGORIES:Rajd
END:VEVENT
BEGIN:VEVENT
DTSTART;TZID=Europe/Helsinki:20200919T120000
DTEND;TZID=Europe/Helsinki:20200919T200000
DTSTAMP:20260423T143908
CREATED:20200818T191241Z
LAST-MODIFIED:20200818T191241Z
UID:74258-1600516800-1600545600@klassikauto.pl
SUMMARY:Drugie Spotkanie Koneserów Amerykańskiej Motoryzacji
DESCRIPTION:
URL:https://klassikauto.pl/impreza/drugie-spotkanie-koneserow-amerykanskiej-motoryzacji/
LOCATION:Warszawa
CATEGORIES:Zlot
END:VEVENT
BEGIN:VEVENT
DTSTART;TZID=Europe/Helsinki:20200920T080000
DTEND;TZID=Europe/Helsinki:20200920T170000
DTSTAMP:20260423T143908
CREATED:20200108T213721Z
LAST-MODIFIED:20200108T213757Z
UID:71154-1600588800-1600621200@klassikauto.pl
SUMMARY:Oldtimerbazar
DESCRIPTION:
URL:https://klassikauto.pl/impreza/oldtimebazar/
LOCATION:Sosnowiec
CATEGORIES:Aukcja
END:VEVENT
BEGIN:VEVENT
DTSTART;TZID=Europe/Helsinki:20200920T080000
DTEND;TZID=Europe/Helsinki:20200920T170000
DTSTAMP:20260423T143908
CREATED:20200823T132420Z
LAST-MODIFIED:20200823T132420Z
UID:74371-1600588800-1600621200@klassikauto.pl
SUMMARY:Zlot Samochodów Modyfikowanych
DESCRIPTION:
URL:https://klassikauto.pl/impreza/zlot-samochodow-modyfikowanych/
LOCATION:Andrychów
CATEGORIES:Zlot
END:VEVENT
BEGIN:VEVENT
DTSTART;TZID=Europe/Helsinki:20200920T090000
DTEND;TZID=Europe/Helsinki:20200920T173000
DTSTAMP:20260423T143908
CREATED:20200322T101721Z
LAST-MODIFIED:20200322T101721Z
UID:72244-1600592400-1600623000@klassikauto.pl
SUMMARY:VIII Tarnogórski Zlot Pojazdów Zabytkowych
DESCRIPTION:
URL:https://klassikauto.pl/impreza/viii-tarnogorski-zlot-pojazdow-zabytkowych/
LOCATION:Tarnowskie Góry
CATEGORIES:Zlot
END:VEVENT
BEGIN:VEVENT
DTSTART;TZID=Europe/Helsinki:20200920T100000
DTEND;TZID=Europe/Helsinki:20200920T140000
DTSTAMP:20260423T143908
CREATED:20200110T152921Z
LAST-MODIFIED:20200110T152921Z
UID:71202-1600596000-1600610400@klassikauto.pl
SUMMARY:Giełda Modeli Samochodowych
DESCRIPTION:
URL:https://klassikauto.pl/impreza/gielda-modeli-samochodowych-3/
LOCATION:Warszawa
CATEGORIES:Aukcja
END:VEVENT
BEGIN:VEVENT
DTSTART;TZID=Europe/Helsinki:20200920T100000
DTEND;TZID=Europe/Helsinki:20200920T180000
DTSTAMP:20260423T143908
CREATED:20200818T091822Z
LAST-MODIFIED:20200818T091822Z
UID:74227-1600596000-1600624800@klassikauto.pl
SUMMARY:XII Zlot Zabytkowych Pojazdów w Nowym Sączu
DESCRIPTION:
URL:https://klassikauto.pl/impreza/xii-zlot-zabytkowych-pojazdow-w-nowym-saczu/
LOCATION:Miasteczko Galicyjskie w Nowym Sączu
CATEGORIES:Zlot
END:VEVENT
BEGIN:VEVENT
DTSTART;TZID=Europe/Helsinki:20200920T100000
DTEND;TZID=Europe/Helsinki:20200920T190000
DTSTAMP:20260423T143908
CREATED:20200320T174437Z
LAST-MODIFIED:20200823T131806Z
UID:72203-1600596000-1600628400@klassikauto.pl
SUMMARY:Moto Show Andrychów 2020
DESCRIPTION:
URL:https://klassikauto.pl/impreza/moto-show-andrychow-2020/
LOCATION:Andrychów
CATEGORIES:Zlot
END:VEVENT
BEGIN:VEVENT
DTSTART;TZID=Europe/Helsinki:20200920T140000
DTEND;TZID=Europe/Helsinki:20200920T170000
DTSTAMP:20260423T143908
CREATED:20200818T091140Z
LAST-MODIFIED:20200818T091140Z
UID:74224-1600610400-1600621200@klassikauto.pl
SUMMARY:II Zlot Pojazdów Zabytkowych Pokaż Swoje Cacko
DESCRIPTION:
URL:https://klassikauto.pl/impreza/ii-zlot-pojazdow-zabytkowych-pokaz-swoje-cacko/
LOCATION:Moszczanka
CATEGORIES:Zlot
END:VEVENT
BEGIN:VEVENT
DTSTART;TZID=Europe/Helsinki:20200920T140000
DTEND;TZID=Europe/Helsinki:20200920T180000
DTSTAMP:20260423T143908
CREATED:20200108T211958Z
LAST-MODIFIED:20200823T133000Z
UID:71137-1600610400-1600624800@klassikauto.pl
SUMMARY:II Zlot Pojazdów Zabytkowych "Majówka w Dwójce"
DESCRIPTION:
URL:https://klassikauto.pl/impreza/ii-zlot-pojazdow-zabytkowych-majowka-w-dwojce/
LOCATION:Dąbrowa Tarnowska
CATEGORIES:Zlot
END:VEVENT
BEGIN:VEVENT
DTSTART;TZID=Europe/Helsinki:20200924T080000
DTEND;TZID=Europe/Helsinki:20200927T170000
DTSTAMP:20260423T143908
CREATED:20200820T101624Z
LAST-MODIFIED:20200820T101624Z
UID:74294-1600934400-1601226000@klassikauto.pl
SUMMARY:Bałtycki Rajd I Runda MPMZ
DESCRIPTION:
URL:https://klassikauto.pl/impreza/baltycki-rajd-i-runda-mpmz/
LOCATION:Łeba
CATEGORIES:Rajd
END:VEVENT
BEGIN:VEVENT
DTSTART;TZID=Europe/Helsinki:20200925T080000
DTEND;TZID=Europe/Helsinki:20200927T170000
DTSTAMP:20260423T143908
CREATED:20200818T090928Z
LAST-MODIFIED:20200818T090928Z
UID:74221-1601020800-1601226000@klassikauto.pl
SUMMARY:1 Bieszczadzki Charytatywny Rajd Malucha
DESCRIPTION:
URL:https://klassikauto.pl/impreza/1-bieszczadzki-charytatywny-rajd-malucha/
LOCATION:Diabla Góra
CATEGORIES:Rajd
END:VEVENT
BEGIN:VEVENT
DTSTART;TZID=Europe/Helsinki:20200926T080000
DTEND;TZID=Europe/Helsinki:20200926T170000
DTSTAMP:20260423T143908
CREATED:20200407T172455Z
LAST-MODIFIED:20200407T172455Z
UID:72638-1601107200-1601139600@klassikauto.pl
SUMMARY:Auto moto velo burza v Hobšovicích
DESCRIPTION:
URL:https://klassikauto.pl/impreza/auto-moto-velo-burza-v-hobsovicich-3/
LOCATION:Hobšovice\, Czechy
CATEGORIES:Aukcja
END:VEVENT
END:VCALENDAR
<!-- RunCloud Hub 2026-04-23 13:39:08 -->