BEGIN:VCALENDAR
VERSION:2.0
PRODID:-//KlassikAuto.pl - ECPv6.7.0//NONSGML v1.0//EN
CALSCALE:GREGORIAN
METHOD:PUBLISH
X-WR-CALNAME:KlassikAuto.pl
X-ORIGINAL-URL:https://klassikauto.pl
X-WR-CALDESC:Wydarzenia dla KlassikAuto.pl
REFRESH-INTERVAL;VALUE=DURATION:PT1H
X-Robots-Tag:noindex
X-PUBLISHED-TTL:PT1H
BEGIN:VTIMEZONE
TZID:Europe/Helsinki
BEGIN:DAYLIGHT
TZOFFSETFROM:+0200
TZOFFSETTO:+0300
TZNAME:EEST
DTSTART:20190331T010000
END:DAYLIGHT
BEGIN:STANDARD
TZOFFSETFROM:+0300
TZOFFSETTO:+0200
TZNAME:EET
DTSTART:20191027T010000
END:STANDARD
END:VTIMEZONE
BEGIN:VEVENT
DTSTART;TZID=Europe/Helsinki:20190913T080000
DTEND;TZID=Europe/Helsinki:20190929T170000
DTSTAMP:20260424T115956
CREATED:20181113T161036Z
LAST-MODIFIED:20181113T161036Z
UID:63210-1568361600-1569776400@klassikauto.pl
SUMMARY:In the spotlight: French Coachbuilders of the 30's - wystawa
DESCRIPTION:
URL:https://klassikauto.pl/impreza/in-the-spotlight-french-coachbuilders-of-the-30s-wystawa/
LOCATION:Muzeum Autoworld\, Bruksela\, Belgia
CATEGORIES:Wystawa
END:VEVENT
BEGIN:VEVENT
DTSTART;TZID=Europe/Helsinki:20190914T080000
DTEND;TZID=Europe/Helsinki:20190922T170000
DTSTAMP:20260424T115956
CREATED:20190904T201403Z
LAST-MODIFIED:20190904T202853Z
UID:69342-1568448000-1569171600@klassikauto.pl
SUMMARY:67. IAA - Internationale Automobil Ausstellung
DESCRIPTION:
URL:https://klassikauto.pl/impreza/67-iaa-internaionale-automobil-ausstellung/
LOCATION:Frankfurt\, Niemcy
CATEGORIES:Wystawa
END:VEVENT
BEGIN:VEVENT
DTSTART;TZID=Europe/Helsinki:20190919T080000
DTEND;TZID=Europe/Helsinki:20190922T170000
DTSTAMP:20260424T115956
CREATED:20190217T115815Z
LAST-MODIFIED:20190217T115815Z
UID:65324-1568880000-1569171600@klassikauto.pl
SUMMARY:III Rajd Motocykli Zabytkowych Rybnickiego Okręgu Węglowego
DESCRIPTION:
URL:https://klassikauto.pl/impreza/iii-rajd-motocykli-zabytkowych-rybnickiego-okregu-weglowego/
LOCATION:Rybnik
CATEGORIES:Rajd
END:VEVENT
BEGIN:VEVENT
DTSTART;TZID=Europe/Helsinki:20190919T180000
DTEND;TZID=Europe/Helsinki:20190919T210000
DTSTAMP:20260424T115956
CREATED:20190904T181747Z
LAST-MODIFIED:20190904T181747Z
UID:69250-1568916000-1568926800@klassikauto.pl
SUMMARY:Polska motoryzacja zrodziła się na Grochowie
DESCRIPTION:
URL:https://klassikauto.pl/impreza/polska-motoryzacja-zrodzila-sie-na-grochowie/
LOCATION:Grochów
CATEGORIES:Wystawa
END:VEVENT
BEGIN:VEVENT
DTSTART;TZID=Europe/Helsinki:20190920T080000
DTEND;TZID=Europe/Helsinki:20190922T170000
DTSTAMP:20260424T115956
CREATED:20190807T185512Z
LAST-MODIFIED:20190807T185524Z
UID:68669-1568966400-1569171600@klassikauto.pl
SUMMARY:8 FOTOrajd
DESCRIPTION:Częstochowski Ruch Klasyków
URL:https://klassikauto.pl/impreza/8-fotorajd/
LOCATION:Poraj
CATEGORIES:Zlot
END:VEVENT
BEGIN:VEVENT
DTSTART;TZID=Europe/Helsinki:20190921T080000
DTEND;TZID=Europe/Helsinki:20190921T170000
DTSTAMP:20260424T115956
CREATED:20190103T152601Z
LAST-MODIFIED:20190103T152601Z
UID:64266-1569052800-1569085200@klassikauto.pl
SUMMARY:ADAC  Reifen - Ritter Rallye Hinterland
DESCRIPTION:Youngtimer Rallye Trophy
URL:https://klassikauto.pl/impreza/adac-reifen-ritter-rallye-hinterland/
LOCATION:Niemcy
CATEGORIES:Rajd
END:VEVENT
BEGIN:VEVENT
DTSTART;TZID=Europe/Helsinki:20190921T080000
DTEND;TZID=Europe/Helsinki:20190921T170000
DTSTAMP:20260424T115956
CREATED:20190807T192005Z
LAST-MODIFIED:20190807T192005Z
UID:68699-1569052800-1569085200@klassikauto.pl
SUMMARY:W Łodzi też jest fajnie
DESCRIPTION:19 lat od zakończenia produkcji Fiata 126p
URL:https://klassikauto.pl/impreza/w-lodzi-tez-jest-fajnie/
LOCATION:Sochaczew
CATEGORIES:Zlot
END:VEVENT
BEGIN:VEVENT
DTSTART;TZID=Europe/Helsinki:20190921T080000
DTEND;TZID=Europe/Helsinki:20190922T170000
DTSTAMP:20260424T115956
CREATED:20190904T195413Z
LAST-MODIFIED:20190904T195413Z
UID:69330-1569052800-1569171600@klassikauto.pl
SUMMARY:6. ClassicCars-Saisonabschluss
DESCRIPTION:
URL:https://klassikauto.pl/impreza/6-classiccars-saisonabschluss/
LOCATION:Marwitz\, Niemcy
CATEGORIES:Zlot
END:VEVENT
BEGIN:VEVENT
DTSTART;TZID=Europe/Helsinki:20190921T130000
DTEND;TZID=Europe/Helsinki:20190921T180000
DTSTAMP:20260424T115956
CREATED:20190904T194929Z
LAST-MODIFIED:20190904T194929Z
UID:69325-1569070800-1569088800@klassikauto.pl
SUMMARY:Auto Moto Show 2019 na letišti Staňkov
DESCRIPTION:
URL:https://klassikauto.pl/impreza/auto-moto-show-2019-na-letisti-stankov/
LOCATION:Stankov
CATEGORIES:Zlot
END:VEVENT
BEGIN:VEVENT
DTSTART;TZID=Europe/Helsinki:20190922T080000
DTEND;TZID=Europe/Helsinki:20190922T170000
DTSTAMP:20260424T115956
CREATED:20181225T105241Z
LAST-MODIFIED:20181225T105241Z
UID:63912-1569139200-1569171600@klassikauto.pl
SUMMARY:Oldtimerbazar
DESCRIPTION:
URL:https://klassikauto.pl/impreza/oldtimerbazar-15/
LOCATION:Sosnowiec
CATEGORIES:Aukcja
END:VEVENT
BEGIN:VEVENT
DTSTART;TZID=Europe/Helsinki:20190922T080000
DTEND;TZID=Europe/Helsinki:20190922T170000
DTSTAMP:20260424T115956
CREATED:20190625T085035Z
LAST-MODIFIED:20190625T085035Z
UID:67814-1569139200-1569171600@klassikauto.pl
SUMMARY:10. Schermbecker Oldtimertag
DESCRIPTION:
URL:https://klassikauto.pl/impreza/10-schermbecker-oldtimertag/
LOCATION:Schermbeck\, Niemcy
CATEGORIES:Zlot
END:VEVENT
BEGIN:VEVENT
DTSTART;TZID=Europe/Helsinki:20190922T080000
DTEND;TZID=Europe/Helsinki:20190922T170000
DTSTAMP:20260424T115956
CREATED:20190904T181554Z
LAST-MODIFIED:20190904T181554Z
UID:69248-1569139200-1569171600@klassikauto.pl
SUMMARY:Tata ma grata\, rajd dla dzieciaka!
DESCRIPTION:
URL:https://klassikauto.pl/impreza/tata-ma-grata-rajd-dla-dzieciaka/
LOCATION:Piastów
CATEGORIES:Rajd
END:VEVENT
BEGIN:VEVENT
DTSTART;TZID=Europe/Helsinki:20190922T080000
DTEND;TZID=Europe/Helsinki:20190922T170000
DTSTAMP:20260424T115956
CREATED:20190904T183732Z
LAST-MODIFIED:20190904T183732Z
UID:69273-1569139200-1569171600@klassikauto.pl
SUMMARY:III Skoczowski Rally Sprint
DESCRIPTION:
URL:https://klassikauto.pl/impreza/iii-skoczowski-rally-sprint/
LOCATION:Ochaby
CATEGORIES:Rajd
END:VEVENT
BEGIN:VEVENT
DTSTART;TZID=Europe/Helsinki:20190922T090000
DTEND;TZID=Europe/Helsinki:20190922T160000
DTSTAMP:20260424T115956
CREATED:20190904T183920Z
LAST-MODIFIED:20190904T183920Z
UID:69277-1569142800-1569168000@klassikauto.pl
SUMMARY:3 Turystyczny Rajd Bielskich Klasyków Nocą
DESCRIPTION:
URL:https://klassikauto.pl/impreza/3-turystyczny-rajd-bielskich-klasykow-noca/
CATEGORIES:Rajd
END:VEVENT
BEGIN:VEVENT
DTSTART;TZID=Europe/Helsinki:20190922T100000
DTEND;TZID=Europe/Helsinki:20190922T170000
DTSTAMP:20260424T115956
CREATED:20181113T171011Z
LAST-MODIFIED:20181113T171011Z
UID:63270-1569146400-1569171600@klassikauto.pl
SUMMARY:V Jesienny Pokaz Klasyków (Alwernia 2019)
DESCRIPTION:
URL:https://klassikauto.pl/impreza/v-jesienny-pokaz-klasykow-alwernia-2019/
LOCATION:Alwernia
CATEGORIES:Zlot
END:VEVENT
BEGIN:VEVENT
DTSTART;TZID=Europe/Helsinki:20190922T100000
DTEND;TZID=Europe/Helsinki:20190922T180000
DTSTAMP:20260424T115956
CREATED:20190904T185248Z
LAST-MODIFIED:20190904T185248Z
UID:69286-1569146400-1569175200@klassikauto.pl
SUMMARY:VII Tarnogórski Zlot Pojazdów Zabytkowych
DESCRIPTION:
URL:https://klassikauto.pl/impreza/vii-tarnogorski-zlot-pojazdow-zabytkowych/
LOCATION:Tarnowskie Góry
CATEGORIES:Zlot
END:VEVENT
BEGIN:VEVENT
DTSTART;TZID=Europe/Helsinki:20190926T080000
DTEND;TZID=Europe/Helsinki:20190929T170000
DTSTAMP:20260424T115956
CREATED:20190312T193836Z
LAST-MODIFIED:20190312T193836Z
UID:65836-1569484800-1569776400@klassikauto.pl
SUMMARY:Beiersbronn Classic 2019
DESCRIPTION:
URL:https://klassikauto.pl/impreza/beiersbronn-classic-2019/
LOCATION:Baiersbronn \, Niemcy
CATEGORIES:Rajd
END:VEVENT
BEGIN:VEVENT
DTSTART;TZID=Europe/Helsinki:20190927T080000
DTEND;TZID=Europe/Helsinki:20190929T170000
DTSTAMP:20260424T115956
CREATED:20190512T182645Z
LAST-MODIFIED:20190512T182645Z
UID:66744-1569571200-1569776400@klassikauto.pl
SUMMARY:XV Zlot MB Silesia Club Poland
DESCRIPTION:
URL:https://klassikauto.pl/impreza/xv-zlot-mb-silesia-club-poland/
LOCATION:Szymocice
CATEGORIES:Zlot
END:VEVENT
BEGIN:VEVENT
DTSTART;TZID=Europe/Helsinki:20190928T080000
DTEND;TZID=Europe/Helsinki:20190928T160000
DTSTAMP:20260424T115956
CREATED:20190904T190433Z
LAST-MODIFIED:20190904T190433Z
UID:69295-1569657600-1569686400@klassikauto.pl
SUMMARY:Brno–Soběšice 2019
DESCRIPTION:
URL:https://klassikauto.pl/impreza/brno-sobesice-2019/
LOCATION:Brno\, Czechy
CATEGORIES:Rajd
END:VEVENT
BEGIN:VEVENT
DTSTART;TZID=Europe/Helsinki:20190928T080000
DTEND;TZID=Europe/Helsinki:20190929T170000
DTSTAMP:20260424T115956
CREATED:20181113T171110Z
LAST-MODIFIED:20181113T171110Z
UID:63273-1569657600-1569776400@klassikauto.pl
SUMMARY:Youngtimer's Show 2019
DESCRIPTION:
URL:https://klassikauto.pl/impreza/youngtimers-show-2019/
CATEGORIES:Zlot
END:VEVENT
BEGIN:VEVENT
DTSTART;TZID=Europe/Helsinki:20190928T080000
DTEND;TZID=Europe/Helsinki:20190929T170000
DTSTAMP:20260424T115956
CREATED:20190624T083200Z
LAST-MODIFIED:20190624T083200Z
UID:67744-1569657600-1569776400@klassikauto.pl
SUMMARY:3 Małomiasteczkowy Zlot Fiata126p I Klasyków PRL
DESCRIPTION:
URL:https://klassikauto.pl/impreza/3-malomiasteczkowy-zlot-fiata126p-i-klasykow-prl/
LOCATION:Olza
CATEGORIES:Zlot
END:VEVENT
BEGIN:VEVENT
DTSTART;TZID=Europe/Helsinki:20190928T083000
DTEND;TZID=Europe/Helsinki:20190928T160000
DTSTAMP:20260424T115956
CREATED:20190807T184220Z
LAST-MODIFIED:20190807T184220Z
UID:68650-1569659400-1569686400@klassikauto.pl
SUMMARY:Köln Historic 2019
DESCRIPTION:
URL:https://klassikauto.pl/impreza/koln-historic-2019/
LOCATION:Kolonia\, Niemcy
CATEGORIES:Zlot
END:VEVENT
BEGIN:VEVENT
DTSTART;TZID=Europe/Helsinki:20190928T090000
DTEND;TZID=Europe/Helsinki:20190928T160000
DTSTAMP:20260424T115956
CREATED:20190904T191839Z
LAST-MODIFIED:20190904T191839Z
UID:69303-1569661200-1569686400@klassikauto.pl
SUMMARY:Jesienny Rajd 20-lecia
DESCRIPTION:
URL:https://klassikauto.pl/impreza/jesienny-rajd-20-lecia/
LOCATION:Gdynia
CATEGORIES:Rajd
END:VEVENT
BEGIN:VEVENT
DTSTART;TZID=Europe/Helsinki:20190928T100000
DTEND;TZID=Europe/Helsinki:20190928T170000
DTSTAMP:20260424T115956
CREATED:20190625T082726Z
LAST-MODIFIED:20190625T082726Z
UID:67798-1569664800-1569690000@klassikauto.pl
SUMMARY:6. Gunzenhäuser Klassikertag
DESCRIPTION:
URL:https://klassikauto.pl/impreza/6-gunzenhauser-klassikertag/
LOCATION:Gunzenhausen\, Niemcy
CATEGORIES:Zlot
END:VEVENT
BEGIN:VEVENT
DTSTART;TZID=Europe/Helsinki:20190929T080000
DTEND;TZID=Europe/Helsinki:20190929T170000
DTSTAMP:20260424T115956
CREATED:20181225T105316Z
LAST-MODIFIED:20181225T105316Z
UID:63914-1569744000-1569776400@klassikauto.pl
SUMMARY:Oldtimerbazar
DESCRIPTION:
URL:https://klassikauto.pl/impreza/oldtimerbazar-16/
LOCATION:Wrocław\, Wrocław\, Poland
CATEGORIES:Aukcja
END:VEVENT
BEGIN:VEVENT
DTSTART;TZID=Europe/Helsinki:20190929T090000
DTEND;TZID=Europe/Helsinki:20190929T160000
DTSTAMP:20260424T115956
CREATED:20181113T163944Z
LAST-MODIFIED:20181113T163944Z
UID:63240-1569747600-1569772800@klassikauto.pl
SUMMARY:X ClassicMania - Edycja Jubileuszowa (Zlot Sosnowiec)
DESCRIPTION:
URL:https://klassikauto.pl/impreza/x-classicmania-edycja-jubileuszowa-zlot-sosnowiec/
LOCATION:Sosnowiec
CATEGORIES:Zlot
END:VEVENT
BEGIN:VEVENT
DTSTART;TZID=Europe/Helsinki:20190929T090000
DTEND;TZID=Europe/Helsinki:20190929T170000
DTSTAMP:20260424T115956
CREATED:20190807T192138Z
LAST-MODIFIED:20230831T193318Z
UID:68701-1569747600-1569776400@klassikauto.pl
SUMMARY:II Rajd Gruchota
DESCRIPTION:
URL:https://klassikauto.pl/impreza/ii-rajd-gruchota/
LOCATION:Warszawa
CATEGORIES:Rajd
END:VEVENT
BEGIN:VEVENT
DTSTART;TZID=Europe/Helsinki:20191002T080000
DTEND;TZID=Europe/Helsinki:20191005T170000
DTSTAMP:20260424T115956
CREATED:20190807T184909Z
LAST-MODIFIED:20190807T184909Z
UID:68661-1570003200-1570294800@klassikauto.pl
SUMMARY:3. Sauerland Klassik 2019
DESCRIPTION:
URL:https://klassikauto.pl/impreza/3-sauerland-klassik-2019/
LOCATION:Attendorn\, Niemcy
CATEGORIES:Rajd
END:VEVENT
BEGIN:VEVENT
DTSTART;TZID=Europe/Helsinki:20191004T080000
DTEND;TZID=Europe/Helsinki:20191006T170000
DTSTAMP:20260424T115956
CREATED:20190904T192521Z
LAST-MODIFIED:20190904T192521Z
UID:69312-1570176000-1570381200@klassikauto.pl
SUMMARY:VI Jesienny Rajd Pojazdów Zabytkowych AW Dolsk
DESCRIPTION:
URL:https://klassikauto.pl/impreza/vi-jesienny-rajd-pojazdow-zabytkowych-aw-dolsk/
LOCATION:Dolsk
CATEGORIES:Rajd
END:VEVENT
BEGIN:VEVENT
DTSTART;TZID=Europe/Helsinki:20191005T080000
DTEND;TZID=Europe/Helsinki:20191006T170000
DTSTAMP:20260424T115956
CREATED:20190807T184345Z
LAST-MODIFIED:20190807T184345Z
UID:68653-1570262400-1570381200@klassikauto.pl
SUMMARY:Kölner Autoschau
DESCRIPTION:
URL:https://klassikauto.pl/impreza/kolner-autoschau/
LOCATION:Kolonia\, Niemcy
CATEGORIES:Wystawa,Zlot
END:VEVENT
END:VCALENDAR
<!-- RunCloud Hub 2026-04-24 10:59:56 -->