BEGIN:VCALENDAR
VERSION:2.0
PRODID:-//KlassikAuto.pl - ECPv6.7.0//NONSGML v1.0//EN
CALSCALE:GREGORIAN
METHOD:PUBLISH
X-WR-CALNAME:KlassikAuto.pl
X-ORIGINAL-URL:https://klassikauto.pl
X-WR-CALDESC:Wydarzenia dla KlassikAuto.pl
REFRESH-INTERVAL;VALUE=DURATION:PT1H
X-Robots-Tag:noindex
X-PUBLISHED-TTL:PT1H
BEGIN:VTIMEZONE
TZID:Europe/Helsinki
BEGIN:DAYLIGHT
TZOFFSETFROM:+0200
TZOFFSETTO:+0300
TZNAME:EEST
DTSTART:20190331T010000
END:DAYLIGHT
BEGIN:STANDARD
TZOFFSETFROM:+0300
TZOFFSETTO:+0200
TZNAME:EET
DTSTART:20191027T010000
END:STANDARD
END:VTIMEZONE
BEGIN:VEVENT
DTSTART;TZID=Europe/Helsinki:20190705T080000
DTEND;TZID=Europe/Helsinki:20190901T170000
DTSTAMP:20260424T135534
CREATED:20181113T160913Z
LAST-MODIFIED:20181113T160913Z
UID:63207-1562313600-1567357200@klassikauto.pl
SUMMARY:Expostion: Citroën 100th anniversary - wystawa
DESCRIPTION:
URL:https://klassikauto.pl/impreza/expostion-citroen-100th-anniversary-wystawa/
LOCATION:Muzeum Autoworld\, Bruksela\, Belgia
CATEGORIES:Wystawa
END:VEVENT
BEGIN:VEVENT
DTSTART;TZID=Europe/Helsinki:20190731T080000
DTEND;TZID=Europe/Helsinki:20190731T170000
DTSTAMP:20260424T135534
CREATED:20190625T094201Z
LAST-MODIFIED:20190625T094201Z
UID:67847-1564560000-1564592400@klassikauto.pl
SUMMARY:Vol.6 - Bydgoskie Klasyki Nocą
DESCRIPTION:
URL:https://klassikauto.pl/impreza/vol-6-bydgoskie-klasyki-noca/
LOCATION:Bydgoszcz
CATEGORIES:Zlot
END:VEVENT
BEGIN:VEVENT
DTSTART;TZID=Europe/Helsinki:20190802T080000
DTEND;TZID=Europe/Helsinki:20190804T170000
DTSTAMP:20260424T135534
CREATED:20190213T191353Z
LAST-MODIFIED:20190213T191353Z
UID:65131-1564732800-1564938000@klassikauto.pl
SUMMARY:V Piknik Pin Up Time
DESCRIPTION:
URL:https://klassikauto.pl/impreza/v-piknik-pin-up-time/
LOCATION:Siedlce
CATEGORIES:Zlot
END:VEVENT
BEGIN:VEVENT
DTSTART;TZID=Europe/Helsinki:20190802T080000
DTEND;TZID=Europe/Helsinki:20190804T170000
DTSTAMP:20260424T135534
CREATED:20190217T094706Z
LAST-MODIFIED:20190217T094706Z
UID:65214-1564732800-1564938000@klassikauto.pl
SUMMARY:Zlot VW Gar Bus
DESCRIPTION:
URL:https://klassikauto.pl/impreza/zlot-vw-gar-bus-2/
LOCATION:Joniec
CATEGORIES:Zlot
END:VEVENT
BEGIN:VEVENT
DTSTART;TZID=Europe/Helsinki:20190802T080000
DTEND;TZID=Europe/Helsinki:20190804T170000
DTSTAMP:20260424T135534
CREATED:20190217T112924Z
LAST-MODIFIED:20190217T112924Z
UID:65296-1564732800-1564938000@klassikauto.pl
SUMMARY:VII Wałbrzyski Międzynarodowy Rajd Pojazdów Zabytkowych
DESCRIPTION:
URL:https://klassikauto.pl/impreza/vii-walbrzyski-miedzynarodowy-rajd-pojazdow-zabytkowych/
LOCATION:Wałbrzych
CATEGORIES:Rajd
END:VEVENT
BEGIN:VEVENT
DTSTART;TZID=Europe/Helsinki:20190802T080000
DTEND;TZID=Europe/Helsinki:20190804T170000
DTSTAMP:20260424T135534
CREATED:20190304T182026Z
LAST-MODIFIED:20190304T182026Z
UID:65634-1564732800-1564938000@klassikauto.pl
SUMMARY:Classic Days Schloss Dyck
DESCRIPTION:Festiwal Klasycznej Motoryzacji
URL:https://klassikauto.pl/impreza/classic-days-schloss-dyck-2/
LOCATION:Jüchen\, Niemcy
CATEGORIES:Zlot
END:VEVENT
BEGIN:VEVENT
DTSTART;TZID=Europe/Helsinki:20190802T120000
DTEND;TZID=Europe/Helsinki:20190804T120000
DTSTAMP:20260424T135534
CREATED:20190103T124444Z
LAST-MODIFIED:20190103T124444Z
UID:64177-1564747200-1564920000@klassikauto.pl
SUMMARY:Zlot VW Gar Bus
DESCRIPTION:
URL:https://klassikauto.pl/impreza/zlot-vw-gar-bus/
LOCATION:Joniec
CATEGORIES:Zlot
END:VEVENT
BEGIN:VEVENT
DTSTART;TZID=Europe/Helsinki:20190802T160000
DTEND;TZID=Europe/Helsinki:20190804T180000
DTSTAMP:20260424T135534
CREATED:20190103T125537Z
LAST-MODIFIED:20190103T125537Z
UID:64187-1564761600-1564941600@klassikauto.pl
SUMMARY:Underground Circle 2k19 by Low Silesia
DESCRIPTION:
URL:https://klassikauto.pl/impreza/underground-circle-2k19-by-low-silesia/
LOCATION:Lubin
CATEGORIES:Zlot
END:VEVENT
BEGIN:VEVENT
DTSTART;TZID=Europe/Helsinki:20190803T080000
DTEND;TZID=Europe/Helsinki:20190804T170000
DTSTAMP:20260424T135534
CREATED:20190125T184515Z
LAST-MODIFIED:20190125T184515Z
UID:64573-1564819200-1564938000@klassikauto.pl
SUMMARY:IV Międzynarodowy Festival CABRIO POLAND 2019
DESCRIPTION:
URL:https://klassikauto.pl/impreza/iv-miedzynarodowy-festival-cabrio-poland-2019/
LOCATION:Poznań
CATEGORIES:Zlot
END:VEVENT
BEGIN:VEVENT
DTSTART;TZID=Europe/Helsinki:20190803T080000
DTEND;TZID=Europe/Helsinki:20190804T170000
DTSTAMP:20260424T135534
CREATED:20190217T112736Z
LAST-MODIFIED:20190217T112736Z
UID:65294-1564819200-1564938000@klassikauto.pl
SUMMARY:XI Zlot Pojazdów Zabytkowych „RETRO”
DESCRIPTION:
URL:https://klassikauto.pl/impreza/xi-zlot-pojazdow-zabytkowych-retro/
LOCATION:Miasteczko Galicyjskie w Nowym Sączu
CATEGORIES:Zlot
END:VEVENT
BEGIN:VEVENT
DTSTART;TZID=Europe/Helsinki:20190803T080000
DTEND;TZID=Europe/Helsinki:20190804T170000
DTSTAMP:20260424T135534
CREATED:20190312T173846Z
LAST-MODIFIED:20190312T173846Z
UID:65812-1564819200-1564938000@klassikauto.pl
SUMMARY:VI Ogólnopolski Zlot Samochodów i Motocykli Zabytkowych
DESCRIPTION:
URL:https://klassikauto.pl/impreza/vi-ogolnopolski-zlot-samochodow-i-motocykli-zabytkowych/
LOCATION:Mszana Dolna
CATEGORIES:Zlot
END:VEVENT
BEGIN:VEVENT
DTSTART;TZID=Europe/Helsinki:20190803T080000
DTEND;TZID=Europe/Helsinki:20190804T170000
DTSTAMP:20260424T135534
CREATED:20190625T094402Z
LAST-MODIFIED:20190625T094402Z
UID:67849-1564819200-1564938000@klassikauto.pl
SUMMARY:Zlot Aut Amerykańskich
DESCRIPTION:
URL:https://klassikauto.pl/impreza/zlot-aut-amerykanskich/
LOCATION:Chełmno
CATEGORIES:Zlot
END:VEVENT
BEGIN:VEVENT
DTSTART;TZID=Europe/Helsinki:20190803T180000
DTEND;TZID=Europe/Helsinki:20190803T200000
DTSTAMP:20260424T135534
CREATED:20190807T190403Z
LAST-MODIFIED:20190807T190403Z
UID:68681-1564855200-1564862400@klassikauto.pl
SUMMARY:Luźne spotkanie Mercedes Benz South Side Crew ! :)
DESCRIPTION:
URL:https://klassikauto.pl/impreza/luzne-spotkanie-mercedes-benz-south-side-crew/
LOCATION:Dąbrowa Górnicza
CATEGORIES:Zlot
END:VEVENT
BEGIN:VEVENT
DTSTART;TZID=Europe/Helsinki:20190804T080000
DTEND;TZID=Europe/Helsinki:20190804T170000
DTSTAMP:20260424T135534
CREATED:20190624T090820Z
LAST-MODIFIED:20190624T090820Z
UID:67771-1564905600-1564938000@klassikauto.pl
SUMMARY:Stary Pojazd i Może II
DESCRIPTION:
URL:https://klassikauto.pl/impreza/stary-pojazd-i-moze-ii/
LOCATION:Warszawa
CATEGORIES:Rajd
END:VEVENT
BEGIN:VEVENT
DTSTART;TZID=Europe/Helsinki:20190804T120000
DTEND;TZID=Europe/Helsinki:20190804T190000
DTSTAMP:20260424T135534
CREATED:20190807T190707Z
LAST-MODIFIED:20190807T190707Z
UID:68685-1564920000-1564945200@klassikauto.pl
SUMMARY:Radomskie Klasyki na Święcie Żelaza i Stali
DESCRIPTION:
URL:https://klassikauto.pl/impreza/radomskie-klasyki-na-swiecie-zelaza-i-stali/
LOCATION:Chlewiska
CATEGORIES:Zlot
END:VEVENT
BEGIN:VEVENT
DTSTART;TZID=Europe/Helsinki:20190807T120000
DTEND;TZID=Europe/Helsinki:20190807T230000
DTSTAMP:20260424T135534
CREATED:20190807T193954Z
LAST-MODIFIED:20190807T193954Z
UID:68724-1565179200-1565218800@klassikauto.pl
SUMMARY:Car Show Tuning&Classic
DESCRIPTION:
URL:https://klassikauto.pl/impreza/car-show-tuningclassic/
LOCATION:Siewierz
CATEGORIES:Zlot
END:VEVENT
BEGIN:VEVENT
DTSTART;TZID=Europe/Helsinki:20190809T080000
DTEND;TZID=Europe/Helsinki:20190811T170000
DTSTAMP:20260424T135534
CREATED:20190312T182701Z
LAST-MODIFIED:20190312T182732Z
UID:65823-1565337600-1565542800@klassikauto.pl
SUMMARY:Bertha-Benz-Fahrt 2019
DESCRIPTION:Dwudniowy zjazd pojazdów i przejazd oryginalną trasą pionierskiej jazdy automobilem Berty Benz z sierpnia 1888 roku. \nTrasa z: Mannheim do Pforzheim \n 
URL:https://klassikauto.pl/impreza/bertha-benz-fahrt-2019/
LOCATION:Mannheim
CATEGORIES:Zlot
END:VEVENT
BEGIN:VEVENT
DTSTART;TZID=Europe/Helsinki:20190809T080000
DTEND;TZID=Europe/Helsinki:20190811T170000
DTSTAMP:20260424T135534
CREATED:20190625T091756Z
LAST-MODIFIED:20190625T091756Z
UID:67831-1565337600-1565542800@klassikauto.pl
SUMMARY:Zlot GarBusów Garbobranie 2019
DESCRIPTION:
URL:https://klassikauto.pl/impreza/zlot-garbusow-garbobranie-2019/
LOCATION:Zielona Góra
CATEGORIES:Zlot
END:VEVENT
BEGIN:VEVENT
DTSTART;TZID=Europe/Helsinki:20190809T080000
DTEND;TZID=Europe/Helsinki:20190811T170000
DTSTAMP:20260424T135534
CREATED:20190807T195830Z
LAST-MODIFIED:20190807T195830Z
UID:68736-1565337600-1565542800@klassikauto.pl
SUMMARY:XXI Bieszczadzki Rajd Pojazdów Zabytkowych Zagórz 2019
DESCRIPTION:
URL:https://klassikauto.pl/impreza/xxi-bieszczadzki-rajd-pojazdow-zabytkowych-zagorz-2019/
LOCATION:Zagórz
CATEGORIES:Rajd
END:VEVENT
BEGIN:VEVENT
DTSTART;TZID=Europe/Helsinki:20190809T080000
DTEND;TZID=Europe/Helsinki:20190811T170000
DTSTAMP:20260424T135534
CREATED:20190807T200635Z
LAST-MODIFIED:20190807T200635Z
UID:68747-1565337600-1565542800@klassikauto.pl
SUMMARY:47. AvD-Oldtimer-Grand-Prix
DESCRIPTION:
URL:https://klassikauto.pl/impreza/47-avd-oldtimer-grand-prix/
LOCATION:Nuerburgring\, Niemcy
CATEGORIES:Rajd
END:VEVENT
BEGIN:VEVENT
DTSTART;TZID=Europe/Helsinki:20190809T160000
DTEND;TZID=Europe/Helsinki:20190811T120000
DTSTAMP:20260424T135534
CREATED:20190103T130006Z
LAST-MODIFIED:20190103T130006Z
UID:64193-1565366400-1565524800@klassikauto.pl
SUMMARY:Beskidzka Integracja 2019
DESCRIPTION:
URL:https://klassikauto.pl/impreza/beskidzka-integracja-2019/
LOCATION:Istebna
CATEGORIES:Zlot
END:VEVENT
BEGIN:VEVENT
DTSTART;TZID=Europe/Helsinki:20190810T080000
DTEND;TZID=Europe/Helsinki:20190810T170000
DTSTAMP:20260424T135534
CREATED:20190103T152500Z
LAST-MODIFIED:20190103T152500Z
UID:64263-1565424000-1565456400@klassikauto.pl
SUMMARY:ADAC Rallye Oberehe
DESCRIPTION:Youngtimer Rallye Trophy
URL:https://klassikauto.pl/impreza/adac-rallye-oberehe/
LOCATION:Niemcy
CATEGORIES:Rajd
END:VEVENT
BEGIN:VEVENT
DTSTART;TZID=Europe/Helsinki:20190810T080000
DTEND;TZID=Europe/Helsinki:20190810T170000
DTSTAMP:20260424T135534
CREATED:20190103T161743Z
LAST-MODIFIED:20190103T161743Z
UID:64314-1565424000-1565456400@klassikauto.pl
SUMMARY:Oldtimerrallye 2019
DESCRIPTION:
URL:https://klassikauto.pl/impreza/oldtimerrallye-2019/
LOCATION:Altena\, Niemcy
CATEGORIES:Rajd
END:VEVENT
BEGIN:VEVENT
DTSTART;TZID=Europe/Helsinki:20190810T080000
DTEND;TZID=Europe/Helsinki:20190810T220000
DTSTAMP:20260424T135534
CREATED:20190807T194529Z
LAST-MODIFIED:20190807T194609Z
UID:68726-1565424000-1565474400@klassikauto.pl
SUMMARY:5. Historische Rallye Burg Altena
DESCRIPTION:
URL:https://klassikauto.pl/impreza/5-historische-rallye-burg-altena/
LOCATION:Altena\, Niemcy
CATEGORIES:Rajd
END:VEVENT
BEGIN:VEVENT
DTSTART;TZID=Europe/Helsinki:20190810T080000
DTEND;TZID=Europe/Helsinki:20190811T170000
DTSTAMP:20260424T135534
CREATED:20190512T183009Z
LAST-MODIFIED:20190512T183009Z
UID:66749-1565424000-1565542800@klassikauto.pl
SUMMARY:I Zlot Starów 660
DESCRIPTION:
URL:https://klassikauto.pl/impreza/i-zlot-starow-660/
LOCATION:Jaworzno
CATEGORIES:Zlot
END:VEVENT
BEGIN:VEVENT
DTSTART;TZID=Europe/Helsinki:20190810T080000
DTEND;TZID=Europe/Helsinki:20190811T170000
DTSTAMP:20260424T135534
CREATED:20190807T194757Z
LAST-MODIFIED:20190807T194757Z
UID:68732-1565424000-1565542800@klassikauto.pl
SUMMARY:Netter Klassik-Treff
DESCRIPTION:
URL:https://klassikauto.pl/impreza/netter-klassik-treff/
LOCATION:Dortmund\, Niemcy
CATEGORIES:Zlot
END:VEVENT
BEGIN:VEVENT
DTSTART;TZID=Europe/Helsinki:20190810T090000
DTEND;TZID=Europe/Helsinki:20190810T150000
DTSTAMP:20260424T135534
CREATED:20190807T185857Z
LAST-MODIFIED:20190807T185857Z
UID:68675-1565427600-1565449200@klassikauto.pl
SUMMARY:Oldtimer Parade 2019
DESCRIPTION:
URL:https://klassikauto.pl/impreza/oldtimer-parade-2019/
LOCATION:Kravare\, Czechy
CATEGORIES:Zlot
END:VEVENT
BEGIN:VEVENT
DTSTART;TZID=Europe/Helsinki:20190810T110000
DTEND;TZID=Europe/Helsinki:20190810T180000
DTSTAMP:20260424T135534
CREATED:20190807T192316Z
LAST-MODIFIED:20190807T192316Z
UID:68703-1565434800-1565460000@klassikauto.pl
SUMMARY:Natłok 2019! I Węgrowski Zlot Pojazdów Zabytkowych
DESCRIPTION:
URL:https://klassikauto.pl/impreza/natlok-2019-i-wegrowski-zlot-pojazdow-zabytkowych/
LOCATION:Węgrów
CATEGORIES:Zlot
END:VEVENT
BEGIN:VEVENT
DTSTART;TZID=Europe/Helsinki:20190811T090000
DTEND;TZID=Europe/Helsinki:20190811T180000
DTSTAMP:20260424T135534
CREATED:20190625T094812Z
LAST-MODIFIED:20190625T094812Z
UID:67854-1565514000-1565546400@klassikauto.pl
SUMMARY:Summer Moto Meeting 2k19
DESCRIPTION:
URL:https://klassikauto.pl/impreza/summer-moto-meeting-2k19/
LOCATION:Grudziądz
CATEGORIES:Zlot
END:VEVENT
BEGIN:VEVENT
DTSTART;TZID=Europe/Helsinki:20190811T103000
DTEND;TZID=Europe/Helsinki:20190811T190000
DTSTAMP:20260424T135534
CREATED:20190807T191417Z
LAST-MODIFIED:20190807T191417Z
UID:68694-1565519400-1565550000@klassikauto.pl
SUMMARY:V Retro Moto Show
DESCRIPTION:
URL:https://klassikauto.pl/impreza/v-retro-moto-show/
LOCATION:Sadowne
CATEGORIES:Zlot
END:VEVENT
END:VCALENDAR
<!-- RunCloud Hub 2026-04-24 12:55:34 -->