BEGIN:VCALENDAR
VERSION:2.0
PRODID:-//KlassikAuto.pl - ECPv6.7.0//NONSGML v1.0//EN
CALSCALE:GREGORIAN
METHOD:PUBLISH
X-WR-CALNAME:KlassikAuto.pl
X-ORIGINAL-URL:https://klassikauto.pl
X-WR-CALDESC:Wydarzenia dla KlassikAuto.pl
REFRESH-INTERVAL;VALUE=DURATION:PT1H
X-Robots-Tag:noindex
X-PUBLISHED-TTL:PT1H
BEGIN:VTIMEZONE
TZID:Europe/Helsinki
BEGIN:DAYLIGHT
TZOFFSETFROM:+0200
TZOFFSETTO:+0300
TZNAME:EEST
DTSTART:20190331T010000
END:DAYLIGHT
BEGIN:STANDARD
TZOFFSETFROM:+0300
TZOFFSETTO:+0200
TZNAME:EET
DTSTART:20191027T010000
END:STANDARD
END:VTIMEZONE
BEGIN:VEVENT
DTSTART;TZID=Europe/Helsinki:20190705T080000
DTEND;TZID=Europe/Helsinki:20190901T170000
DTSTAMP:20260424T155919
CREATED:20181113T160913Z
LAST-MODIFIED:20181113T160913Z
UID:63207-1562313600-1567357200@klassikauto.pl
SUMMARY:Expostion: Citroën 100th anniversary - wystawa
DESCRIPTION:
URL:https://klassikauto.pl/impreza/expostion-citroen-100th-anniversary-wystawa/
LOCATION:Muzeum Autoworld\, Bruksela\, Belgia
CATEGORIES:Wystawa
END:VEVENT
BEGIN:VEVENT
DTSTART;TZID=Europe/Helsinki:20190710T080000
DTEND;TZID=Europe/Helsinki:20190714T170000
DTSTAMP:20260424T155919
CREATED:20190217T111133Z
LAST-MODIFIED:20190217T111133Z
UID:65284-1562745600-1563123600@klassikauto.pl
SUMMARY:42 Beskidzki Rajd Pojazdów Zabytkowych
DESCRIPTION:
URL:https://klassikauto.pl/impreza/42-beskidzki-rajd-pojazdow-zabytkowych/
LOCATION:Jaworze
CATEGORIES:Rajd
END:VEVENT
BEGIN:VEVENT
DTSTART;TZID=Europe/Helsinki:20190711T080000
DTEND;TZID=Europe/Helsinki:20190713T170000
DTSTAMP:20260424T155919
CREATED:20190304T180432Z
LAST-MODIFIED:20190304T180432Z
UID:65628-1562832000-1563037200@klassikauto.pl
SUMMARY:Rally Heidelberg Historic 2019
DESCRIPTION:
URL:https://klassikauto.pl/impreza/rally-heidelberg-historic-2019/
LOCATION:Heildelberg\, Niemcy
CATEGORIES:Rajd
END:VEVENT
BEGIN:VEVENT
DTSTART;TZID=Europe/Helsinki:20190711T080000
DTEND;TZID=Europe/Helsinki:20190714T170000
DTSTAMP:20260424T155919
CREATED:20190217T111313Z
LAST-MODIFIED:20190217T111313Z
UID:65287-1562832000-1563123600@klassikauto.pl
SUMMARY:X Rajd Pojazdów Zabytkowych
DESCRIPTION:Rajd motocyklowy
URL:https://klassikauto.pl/impreza/x-rajd-pojazdow-zabytkowych/
LOCATION:Lutocin
CATEGORIES:Rajd
END:VEVENT
BEGIN:VEVENT
DTSTART;TZID=Europe/Helsinki:20190712T080000
DTEND;TZID=Europe/Helsinki:20190714T170000
DTSTAMP:20260424T155919
CREATED:20190213T192559Z
LAST-MODIFIED:20190213T192559Z
UID:65136-1562918400-1563123600@klassikauto.pl
SUMMARY:Piknik Rodzinny Miłośników Pojazdów Zabytkowych w Tucholi
DESCRIPTION:
URL:https://klassikauto.pl/impreza/piknik-rodzinny-milosnikow-pojazdow-zabytkowych-w-tucholi/
LOCATION:Tuchola
CATEGORIES:Zlot
END:VEVENT
BEGIN:VEVENT
DTSTART;TZID=Europe/Helsinki:20190712T080000
DTEND;TZID=Europe/Helsinki:20190714T170000
DTSTAMP:20260424T155919
CREATED:20190304T180234Z
LAST-MODIFIED:20190304T180234Z
UID:65625-1562918400-1563123600@klassikauto.pl
SUMMARY:Oldtimer-Meeting Baden-Baden
DESCRIPTION:
URL:https://klassikauto.pl/impreza/oldtimer-meeting-baden-baden-2/
LOCATION:Baden Baden
CATEGORIES:Zlot
END:VEVENT
BEGIN:VEVENT
DTSTART;TZID=Europe/Helsinki:20190712T080000
DTEND;TZID=Europe/Helsinki:20190714T170000
DTSTAMP:20260424T155919
CREATED:20190625T083134Z
LAST-MODIFIED:20190625T083134Z
UID:67801-1562918400-1563123600@klassikauto.pl
SUMMARY:4. Pyrmonter Wirtschaftswunder
DESCRIPTION:
URL:https://klassikauto.pl/impreza/4-pyrmonter-wirtschaftswunder/
LOCATION:Bad Pyrmont\, Niemcy
CATEGORIES:Zlot
END:VEVENT
BEGIN:VEVENT
DTSTART;TZID=Europe/Helsinki:20190712T080000
DTEND;TZID=Europe/Helsinki:20190714T170000
DTSTAMP:20260424T155919
CREATED:20190625T083622Z
LAST-MODIFIED:20190625T083622Z
UID:67804-1562918400-1563123600@klassikauto.pl
SUMMARY:23. Internationale Treffen für alle luftgekühlten VW und Porsche
DESCRIPTION:
URL:https://klassikauto.pl/impreza/23-internationale-treffen-fur-alle-luftgekuhlten-vw-und-porsche/
LOCATION:Mannheim
CATEGORIES:Zlot
END:VEVENT
BEGIN:VEVENT
DTSTART;TZID=Europe/Helsinki:20190713T080000
DTEND;TZID=Europe/Helsinki:20190713T170000
DTSTAMP:20260424T155919
CREATED:20190213T181109Z
LAST-MODIFIED:20190213T181109Z
UID:65101-1563004800-1563037200@klassikauto.pl
SUMMARY:X. Slánský okruh
DESCRIPTION:
URL:https://klassikauto.pl/impreza/x-slansky-okruh/
LOCATION:Slany\, Czechy
CATEGORIES:Zlot
END:VEVENT
BEGIN:VEVENT
DTSTART;TZID=Europe/Helsinki:20190713T080000
DTEND;TZID=Europe/Helsinki:20190713T170000
DTSTAMP:20260424T155919
CREATED:20190513T183832Z
LAST-MODIFIED:20190513T183832Z
UID:66796-1563004800-1563037200@klassikauto.pl
SUMMARY:IX.Chebská veterán rallye
DESCRIPTION:
URL:https://klassikauto.pl/impreza/ix-chebska-veteran-rallye/
LOCATION:Cheb\, Czechy
CATEGORIES:Rajd
END:VEVENT
BEGIN:VEVENT
DTSTART;TZID=Europe/Helsinki:20190713T140000
DTEND;TZID=Europe/Helsinki:20190713T190000
DTSTAMP:20260424T155919
CREATED:20190625T093622Z
LAST-MODIFIED:20190625T093622Z
UID:67839-1563026400-1563044400@klassikauto.pl
SUMMARY:Klasyczne spotkanie pod Wiatrakiem i przejazd na Piknik rodzinny
DESCRIPTION:
URL:https://klassikauto.pl/impreza/klasyczne-spotkanie-pod-wiatrakiem-i-przejazd-na-piknik-rodzinny/
LOCATION:Budzisław Kościelny
CATEGORIES:Rajd,Zlot
END:VEVENT
BEGIN:VEVENT
DTSTART;TZID=Europe/Helsinki:20190714T080000
DTEND;TZID=Europe/Helsinki:20190714T150000
DTSTAMP:20260424T155919
CREATED:20190321T184322Z
LAST-MODIFIED:20190321T184322Z
UID:65914-1563091200-1563116400@klassikauto.pl
SUMMARY:V Wakacyjny Zlot Pojazdów Zabytkowych
DESCRIPTION:
URL:https://klassikauto.pl/impreza/v-wakacyjny-zlot-pojazdow-zabytkowych/
LOCATION:Tarnów
CATEGORIES:Zlot
END:VEVENT
BEGIN:VEVENT
DTSTART;TZID=Europe/Helsinki:20190714T080000
DTEND;TZID=Europe/Helsinki:20190714T170000
DTSTAMP:20260424T155919
CREATED:20190213T192701Z
LAST-MODIFIED:20190213T192701Z
UID:65140-1563091200-1563123600@klassikauto.pl
SUMMARY:XVIII Wystawa Pojazdów Zabytkowych w Tucholi
DESCRIPTION:
URL:https://klassikauto.pl/impreza/xviii-wystawa-pojazdow-zabytkowych-w-tucholi/
LOCATION:Tuchola
CATEGORIES:Wystawa
END:VEVENT
BEGIN:VEVENT
DTSTART;TZID=Europe/Helsinki:20190714T080000
DTEND;TZID=Europe/Helsinki:20190714T170000
DTSTAMP:20260424T155919
CREATED:20190217T112125Z
LAST-MODIFIED:20190217T112125Z
UID:65290-1563091200-1563123600@klassikauto.pl
SUMMARY:IV Wystawa Pojazdów Zabytkowych na Rynku
DESCRIPTION:
URL:https://klassikauto.pl/impreza/iv-wystawa-pojazdow-zabytkowych-na-rynku/
LOCATION:Bytów
CATEGORIES:Wystawa
END:VEVENT
BEGIN:VEVENT
DTSTART;TZID=Europe/Helsinki:20190714T080000
DTEND;TZID=Europe/Helsinki:20190714T170000
DTSTAMP:20260424T155919
CREATED:20190625T084159Z
LAST-MODIFIED:20190625T084213Z
UID:67806-1563091200-1563123600@klassikauto.pl
SUMMARY:NOSW Niederrhein Classic 2019
DESCRIPTION:NOSW – Die Niederrheinische Oldtimergemeinschaft Schermbeck & Westfalen e.V. im ADAC
URL:https://klassikauto.pl/impreza/nosw-niederrhein-classic-2019/
LOCATION:Voerde\, Niemcy
END:VEVENT
BEGIN:VEVENT
DTSTART;TZID=Europe/Helsinki:20190714T080000
DTEND;TZID=Europe/Helsinki:20190714T170000
DTSTAMP:20260424T155919
CREATED:20190625T095349Z
LAST-MODIFIED:20190625T095349Z
UID:67859-1563091200-1563123600@klassikauto.pl
SUMMARY:Zlot Fiata 126p Retro Rynek
DESCRIPTION:
URL:https://klassikauto.pl/impreza/zlot-fiata-126p-retro-rynek/
LOCATION:Wschowa
CATEGORIES:Zlot
END:VEVENT
BEGIN:VEVENT
DTSTART;TZID=Europe/Helsinki:20190714T080000
DTEND;TZID=Europe/Helsinki:20190714T170000
DTSTAMP:20260424T155919
CREATED:20190807T182633Z
LAST-MODIFIED:20190807T182633Z
UID:68641-1563091200-1563123600@klassikauto.pl
SUMMARY:VI Rajd "Retro po sąsiedzku"
DESCRIPTION:
URL:https://klassikauto.pl/impreza/vi-rajd-retro-po-sasiedzku/
LOCATION:Wisła
CATEGORIES:Rajd
END:VEVENT
BEGIN:VEVENT
DTSTART;TZID=Europe/Helsinki:20190714T120000
DTEND;TZID=Europe/Helsinki:20190714T150000
DTSTAMP:20260424T155919
CREATED:20190423T154221Z
LAST-MODIFIED:20190423T154221Z
UID:66416-1563105600-1563116400@klassikauto.pl
SUMMARY:Spot KRK Polanica Zdrój
DESCRIPTION:
URL:https://klassikauto.pl/impreza/spot-krk-polanica-zdroj/
LOCATION:Polanica Zdrój
CATEGORIES:Zlot
END:VEVENT
BEGIN:VEVENT
DTSTART;TZID=Europe/Helsinki:20190719T080000
DTEND;TZID=Europe/Helsinki:20190721T170000
DTSTAMP:20260424T155919
CREATED:20190512T190830Z
LAST-MODIFIED:20190512T190830Z
UID:66768-1563523200-1563728400@klassikauto.pl
SUMMARY:VIII Olsztyński Zlot Miłośników Pojazdów PRL
DESCRIPTION:
URL:https://klassikauto.pl/impreza/viii-olsztynski-zlot-milosnikow-pojazdow-prl/
LOCATION:Olsztyn
CATEGORIES:Zlot
END:VEVENT
BEGIN:VEVENT
DTSTART;TZID=Europe/Helsinki:20190719T120000
DTEND;TZID=Europe/Helsinki:20190720T120000
DTSTAMP:20260424T155919
CREATED:20181225T170327Z
LAST-MODIFIED:20181225T170605Z
UID:63975-1563537600-1563624000@klassikauto.pl
SUMMARY:Zlot Weteranów Szos - Historia na kołach 2019
DESCRIPTION:
URL:https://klassikauto.pl/impreza/zlot-weteranow-szos-historia-na-kolach-2019/
LOCATION:Starogard Gdański
CATEGORIES:Zlot
END:VEVENT
BEGIN:VEVENT
DTSTART;TZID=Europe/Helsinki:20190720T080000
DTEND;TZID=Europe/Helsinki:20190720T170000
DTSTAMP:20260424T155919
CREATED:20190209T112607Z
LAST-MODIFIED:20190209T134810Z
UID:64870-1563609600-1563642000@klassikauto.pl
SUMMARY:LCTM 2K19 - III edycja
DESCRIPTION:Organizator: Low Cars Team Małdyty
URL:https://klassikauto.pl/impreza/lctm-2k19-iii-edycja/
LOCATION:Małdyty
CATEGORIES:Rajd
END:VEVENT
BEGIN:VEVENT
DTSTART;TZID=Europe/Helsinki:20190720T080000
DTEND;TZID=Europe/Helsinki:20190720T170000
DTSTAMP:20260424T155919
CREATED:20190209T114213Z
LAST-MODIFIED:20190209T114213Z
UID:64883-1563609600-1563642000@klassikauto.pl
SUMMARY:Veteráni na Broďáku- 2.ročník
DESCRIPTION:
URL:https://klassikauto.pl/impreza/veterani-na-brodaku-2-rocnik/
LOCATION:Červený Kostelec
CATEGORIES:Zlot
END:VEVENT
BEGIN:VEVENT
DTSTART;TZID=Europe/Helsinki:20190720T080000
DTEND;TZID=Europe/Helsinki:20190720T170000
DTSTAMP:20260424T155919
CREATED:20190512T182827Z
LAST-MODIFIED:20190512T182827Z
UID:66747-1563609600-1563642000@klassikauto.pl
SUMMARY:Rally Sprint Bielsko-Biała 2019
DESCRIPTION:
URL:https://klassikauto.pl/impreza/rally-sprint-bielsko-biala-2019/
LOCATION:Bielsko-Biała
CATEGORIES:Rajd
END:VEVENT
BEGIN:VEVENT
DTSTART;TZID=Europe/Helsinki:20190720T080000
DTEND;TZID=Europe/Helsinki:20190720T170000
DTSTAMP:20260424T155919
CREATED:20190624T083513Z
LAST-MODIFIED:20190624T083513Z
UID:67749-1563609600-1563642000@klassikauto.pl
SUMMARY:I Gołuchowski Zlot Pojazdów Zabytkowych
DESCRIPTION:
URL:https://klassikauto.pl/impreza/i-goluchowski-zlot-pojazdow-zabytkowych/
LOCATION:Gołuchów
CATEGORIES:Zlot
END:VEVENT
BEGIN:VEVENT
DTSTART;TZID=Europe/Helsinki:20190720T080000
DTEND;TZID=Europe/Helsinki:20190720T170000
DTSTAMP:20260424T155919
CREATED:20190624T090445Z
LAST-MODIFIED:20190624T090445Z
UID:67767-1563609600-1563642000@klassikauto.pl
SUMMARY:II zlot Ford Mazovia
DESCRIPTION:
URL:https://klassikauto.pl/impreza/ii-zlot-ford-mazovia/
LOCATION:Piaseczno
CATEGORIES:Zlot
END:VEVENT
BEGIN:VEVENT
DTSTART;TZID=Europe/Helsinki:20190720T080000
DTEND;TZID=Europe/Helsinki:20190721T170000
DTSTAMP:20260424T155919
CREATED:20190209T135351Z
LAST-MODIFIED:20190209T135351Z
UID:64964-1563609600-1563728400@klassikauto.pl
SUMMARY:I Ogólnopolski Zlot "BG-tek" - Poznajmy się!
DESCRIPTION:
URL:https://klassikauto.pl/impreza/i-ogolnopolski-zlot-bg-tek-poznajmy-sie/
LOCATION:Tomaszów Mazowiecki
CATEGORIES:Zlot
END:VEVENT
BEGIN:VEVENT
DTSTART;TZID=Europe/Helsinki:20190720T080000
DTEND;TZID=Europe/Helsinki:20190721T170000
DTSTAMP:20260424T155919
CREATED:20190624T082821Z
LAST-MODIFIED:20190624T082821Z
UID:67742-1563609600-1563728400@klassikauto.pl
SUMMARY:Zlot Pojazdów Amerykańskich
DESCRIPTION:
URL:https://klassikauto.pl/impreza/zlot-pojazdow-amerykanskich/
LOCATION:Bielsko-Biała
CATEGORIES:Zlot
END:VEVENT
BEGIN:VEVENT
DTSTART;TZID=Europe/Helsinki:20190720T080000
DTEND;TZID=Europe/Helsinki:20190721T170000
DTSTAMP:20260424T155919
CREATED:20190625T102255Z
LAST-MODIFIED:20190625T102255Z
UID:67867-1563609600-1563728400@klassikauto.pl
SUMMARY:16.US Car Treffen am CentrO Oberhausen
DESCRIPTION:
URL:https://klassikauto.pl/impreza/16-us-car-treffen-am-centro-oberhausen/
LOCATION:Oberhausen\, Niemcy
CATEGORIES:Zlot
END:VEVENT
BEGIN:VEVENT
DTSTART;TZID=Europe/Helsinki:20190720T100000
DTEND;TZID=Europe/Helsinki:20190721T190000
DTSTAMP:20260424T155919
CREATED:20190103T130200Z
LAST-MODIFIED:20190103T130200Z
UID:64197-1563616800-1563735600@klassikauto.pl
SUMMARY:Moto Show Bielsko-Biała 2019
DESCRIPTION:
URL:https://klassikauto.pl/impreza/moto-show-bielsko-biala-2019/
LOCATION:Bielsko-Biała
END:VEVENT
BEGIN:VEVENT
DTSTART;TZID=Europe/Helsinki:20190720T150000
DTEND;TZID=Europe/Helsinki:20190720T220000
DTSTAMP:20260424T155919
CREATED:20190209T122205Z
LAST-MODIFIED:20190209T122205Z
UID:64903-1563634800-1563660000@klassikauto.pl
SUMMARY:Auto Moto Fest - second edition
DESCRIPTION:
URL:https://klassikauto.pl/impreza/auto-moto-fest-second-edition/
LOCATION:Teresin
CATEGORIES:Zlot
END:VEVENT
END:VCALENDAR
<!-- RunCloud Hub 2026-04-24 14:59:19 -->