BEGIN:VCALENDAR
VERSION:2.0
PRODID:-//KlassikAuto.pl - ECPv6.7.0//NONSGML v1.0//EN
CALSCALE:GREGORIAN
METHOD:PUBLISH
X-WR-CALNAME:KlassikAuto.pl
X-ORIGINAL-URL:https://klassikauto.pl
X-WR-CALDESC:Wydarzenia dla KlassikAuto.pl
REFRESH-INTERVAL;VALUE=DURATION:PT1H
X-Robots-Tag:noindex
X-PUBLISHED-TTL:PT1H
BEGIN:VTIMEZONE
TZID:Europe/Helsinki
BEGIN:DAYLIGHT
TZOFFSETFROM:+0200
TZOFFSETTO:+0300
TZNAME:EEST
DTSTART:20190331T010000
END:DAYLIGHT
BEGIN:STANDARD
TZOFFSETFROM:+0300
TZOFFSETTO:+0200
TZNAME:EET
DTSTART:20191027T010000
END:STANDARD
END:VTIMEZONE
BEGIN:VEVENT
DTSTART;TZID=Europe/Helsinki:20190501T080000
DTEND;TZID=Europe/Helsinki:20190630T170000
DTSTAMP:20260424T175010
CREATED:20181113T160759Z
LAST-MODIFIED:20181113T160759Z
UID:63205-1556697600-1561914000@klassikauto.pl
SUMMARY:In the spotlight: Bentley 100th Anniversary - wystawa
DESCRIPTION:
URL:https://klassikauto.pl/impreza/in-the-spotlight-bentley-100th-anniversary-wystawa/
LOCATION:Muzeum Autoworld\, Bruksela\, Belgia
CATEGORIES:Wystawa
END:VEVENT
BEGIN:VEVENT
DTSTART;TZID=Europe/Helsinki:20190626T080000
DTEND;TZID=Europe/Helsinki:20190630T170000
DTSTAMP:20260424T175010
CREATED:20190209T150309Z
LAST-MODIFIED:20190209T150309Z
UID:64987-1561536000-1561914000@klassikauto.pl
SUMMARY:Mustang Race 2019
DESCRIPTION:
URL:https://klassikauto.pl/impreza/mustang-race-2019/
CATEGORIES:Rajd
END:VEVENT
BEGIN:VEVENT
DTSTART;TZID=Europe/Helsinki:20190627T080000
DTEND;TZID=Europe/Helsinki:20190629T170000
DTSTAMP:20260424T175010
CREATED:20190218T185504Z
LAST-MODIFIED:20190218T185504Z
UID:65349-1561622400-1561827600@klassikauto.pl
SUMMARY:14. Donau Classic
DESCRIPTION:
URL:https://klassikauto.pl/impreza/14-donau-classic/
LOCATION:Ingolstadt
CATEGORIES:Rajd
END:VEVENT
BEGIN:VEVENT
DTSTART;TZID=Europe/Helsinki:20190627T080000
DTEND;TZID=Europe/Helsinki:20190630T170000
DTSTAMP:20260424T175010
CREATED:20181113T162449Z
LAST-MODIFIED:20181113T162449Z
UID:63224-1561622400-1561914000@klassikauto.pl
SUMMARY:Elégance et Automobile
DESCRIPTION:
URL:https://klassikauto.pl/impreza/elegance-et-automobile/
LOCATION:Monte Carlo\, Monaco
CATEGORIES:Rajd,Targi,Wystawa
END:VEVENT
BEGIN:VEVENT
DTSTART;TZID=Europe/Helsinki:20190627T090000
DTEND;TZID=Europe/Helsinki:20190627T230000
DTSTAMP:20260424T175010
CREATED:20190125T195635Z
LAST-MODIFIED:20190125T195635Z
UID:64613-1561626000-1561676400@klassikauto.pl
SUMMARY:30 tka Kultowego Ikarusa -  Z Kultowym Ikarusem
DESCRIPTION:
URL:https://klassikauto.pl/impreza/30-tka-kultowego-ikarusa-z-kultowym-ikarusem/
LOCATION:Gdańsk
CATEGORIES:Zlot
END:VEVENT
BEGIN:VEVENT
DTSTART;TZID=Europe/Helsinki:20190628T080000
DTEND;TZID=Europe/Helsinki:20190630T170000
DTSTAMP:20260424T175010
CREATED:20190125T195421Z
LAST-MODIFIED:20190125T195421Z
UID:64611-1561708800-1561914000@klassikauto.pl
SUMMARY:XV Nadmorski Zlot Garbusów & C.o. Niechorze
DESCRIPTION:
URL:https://klassikauto.pl/impreza/xv-nadmorski-zlot-garbusow-c-o-niechorze/
LOCATION:Niechorze
CATEGORIES:Zlot
END:VEVENT
BEGIN:VEVENT
DTSTART;TZID=Europe/Helsinki:20190628T080000
DTEND;TZID=Europe/Helsinki:20190630T170000
DTSTAMP:20260424T175010
CREATED:20190217T110437Z
LAST-MODIFIED:20190217T110437Z
UID:65276-1561708800-1561914000@klassikauto.pl
SUMMARY:XVI Międzynarodowy Rajd Pojazdów Zabytkowych IKAR 2019 „Z Karkonoszem w bagażniku”
DESCRIPTION:Start: Pałac Spiż-Miłków\, woj. dolnośląskie
URL:https://klassikauto.pl/impreza/xvi-miedzynarodowy-rajd-pojazdow-zabytkowych-ikar-2019-z-karkonoszem-w-bagazniku/
LOCATION:Miłków
CATEGORIES:Rajd
END:VEVENT
BEGIN:VEVENT
DTSTART;TZID=Europe/Helsinki:20190628T080000
DTEND;TZID=Europe/Helsinki:20190701T170000
DTSTAMP:20260424T175010
CREATED:20190304T180756Z
LAST-MODIFIED:20190304T180756Z
UID:65631-1561708800-1562000400@klassikauto.pl
SUMMARY:Mega Zlot Wszystkich Citroenów – Szreniawa 2019
DESCRIPTION:Z okazji 100 lecia marki organizujemy Mega Zlot Posiadaczy Citroenów. Na zlot zaproszone są WSZYSTKIE POJAZDY MARKI\, niezależnie od wieku i stanu technicznego.\nMiejsce:  Muzeum Narodowe Rolnictwa i Przemysłu Spożywczego w Szreniawie
URL:https://klassikauto.pl/impreza/mega-zlot-wszystkich-citroenow-szreniawa-2019/
LOCATION:Szreniawa
CATEGORIES:Zlot
END:VEVENT
BEGIN:VEVENT
DTSTART;TZID=Europe/Helsinki:20190628T120000
DTEND;TZID=Europe/Helsinki:20190630T100000
DTSTAMP:20260424T175010
CREATED:20190103T134657Z
LAST-MODIFIED:20190103T134657Z
UID:64215-1561723200-1561888800@klassikauto.pl
SUMMARY:Strážov Classic Rallye
DESCRIPTION:
URL:https://klassikauto.pl/impreza/strazov-classic-rallye/
LOCATION:Powaska Bystrzyca\, Słowacja
CATEGORIES:Rajd
END:VEVENT
BEGIN:VEVENT
DTSTART;TZID=Europe/Helsinki:20190628T160000
DTEND;TZID=Europe/Helsinki:20190628T200000
DTSTAMP:20260424T175010
CREATED:20190308T164614Z
LAST-MODIFIED:20190308T164614Z
UID:65673-1561737600-1561752000@klassikauto.pl
SUMMARY:VII Merc- Integra 2019
DESCRIPTION:
URL:https://klassikauto.pl/impreza/vii-merc-integra-2019/
LOCATION:Somianka
CATEGORIES:Zlot
END:VEVENT
BEGIN:VEVENT
DTSTART;TZID=Europe/Helsinki:20190629T080000
DTEND;TZID=Europe/Helsinki:20190629T170000
DTSTAMP:20260424T175010
CREATED:20190423T163530Z
LAST-MODIFIED:20190423T163530Z
UID:66446-1561795200-1561827600@klassikauto.pl
SUMMARY:Antonin "Moto Mania" 2019
DESCRIPTION:
URL:https://klassikauto.pl/impreza/antonin-moto-mania-2019/
LOCATION:Antonin
CATEGORIES:Zlot
END:VEVENT
BEGIN:VEVENT
DTSTART;TZID=Europe/Helsinki:20190629T080000
DTEND;TZID=Europe/Helsinki:20190629T170000
DTSTAMP:20260424T175010
CREATED:20190513T171217Z
LAST-MODIFIED:20190513T171217Z
UID:66770-1561795200-1561827600@klassikauto.pl
SUMMARY:XXXI ročník jízdy do vrchu \,\,KNOVÍZ-OLŠANY"
DESCRIPTION:
URL:https://klassikauto.pl/impreza/xxxi-rocnik-jizdy-do-vrchu-knoviz-olsany/
LOCATION:Knovíz – Olšany\, Czechy
CATEGORIES:Rajd
END:VEVENT
BEGIN:VEVENT
DTSTART;TZID=Europe/Helsinki:20190629T080000
DTEND;TZID=Europe/Helsinki:20190629T170000
DTSTAMP:20260424T175010
CREATED:20190513T175921Z
LAST-MODIFIED:20190513T175921Z
UID:66794-1561795200-1561827600@klassikauto.pl
SUMMARY:Classic sraz s jízdou veteránů Goldberg
DESCRIPTION:
URL:https://klassikauto.pl/impreza/classic-sraz-s-jizdou-veteranu-goldberg/
CATEGORIES:Zlot
END:VEVENT
BEGIN:VEVENT
DTSTART;TZID=Europe/Helsinki:20190629T080000
DTEND;TZID=Europe/Helsinki:20190629T170000
DTSTAMP:20260424T175010
CREATED:20190624T091202Z
LAST-MODIFIED:20190624T091202Z
UID:67776-1561795200-1561827600@klassikauto.pl
SUMMARY:Wystawa Motocykli i Pojazdów Zabytkowych na Zamku W CIECHANOWIE
DESCRIPTION:
URL:https://klassikauto.pl/impreza/wystawa-motocykli-i-pojazdow-zabytkowych-na-zamku-w-ciechanowie/
LOCATION:Ciechanów
CATEGORIES:Wystawa
END:VEVENT
BEGIN:VEVENT
DTSTART;TZID=Europe/Helsinki:20190629T080000
DTEND;TZID=Europe/Helsinki:20190629T170000
DTSTAMP:20260424T175010
CREATED:20190625T093950Z
LAST-MODIFIED:20190625T093950Z
UID:67845-1561795200-1561827600@klassikauto.pl
SUMMARY:VII Rajd Pojazdów Zabytkowych Drogami Ziemi Nadnoteckiej
DESCRIPTION:
URL:https://klassikauto.pl/impreza/vii-rajd-pojazdow-zabytkowych-drogami-ziemi-nadnoteckiej/
LOCATION:Trzcianka
CATEGORIES:Rajd
END:VEVENT
BEGIN:VEVENT
DTSTART;TZID=Europe/Helsinki:20190629T080000
DTEND;TZID=Europe/Helsinki:20190630T170000
DTSTAMP:20260424T175010
CREATED:20190217T110613Z
LAST-MODIFIED:20190217T110613Z
UID:65279-1561795200-1561914000@klassikauto.pl
SUMMARY:IX Biłgorajski Ogólnopolski Zlot Pojazdów Zabytkowych
DESCRIPTION:
URL:https://klassikauto.pl/impreza/ix-bilgorajski-ogolnopolski-zlot-pojazdow-zabytkowych/
LOCATION:Biłgoraj
CATEGORIES:Zlot
END:VEVENT
BEGIN:VEVENT
DTSTART;TZID=Europe/Helsinki:20190629T080000
DTEND;TZID=Europe/Helsinki:20190630T170000
DTSTAMP:20260424T175010
CREATED:20190217T114528Z
LAST-MODIFIED:20190217T114528Z
UID:65310-1561795200-1561914000@klassikauto.pl
SUMMARY:Moto Weteran Bazar 2019
DESCRIPTION:
URL:https://klassikauto.pl/impreza/moto-weteran-bazar-2019/
LOCATION:Łódź
CATEGORIES:Aukcja
END:VEVENT
BEGIN:VEVENT
DTSTART;TZID=Europe/Helsinki:20190629T080000
DTEND;TZID=Europe/Helsinki:20190630T170000
DTSTAMP:20260424T175010
CREATED:20190513T175602Z
LAST-MODIFIED:20190513T175602Z
UID:66791-1561795200-1561914000@klassikauto.pl
SUMMARY:Sraz majitelů historických a amerických vozidel
DESCRIPTION:
URL:https://klassikauto.pl/impreza/sraz-majitelu-historickych-a-americkych-vozidel/
LOCATION:Most\, Czechy
CATEGORIES:Zlot
END:VEVENT
BEGIN:VEVENT
DTSTART;TZID=Europe/Helsinki:20190629T080000
DTEND;TZID=Europe/Helsinki:20190630T170000
DTSTAMP:20260424T175010
CREATED:20190625T095012Z
LAST-MODIFIED:20190625T095012Z
UID:67856-1561795200-1561914000@klassikauto.pl
SUMMARY:Summer Cars Weekend Show
DESCRIPTION:
URL:https://klassikauto.pl/impreza/summer-cars-weekend-show/
LOCATION:Sompolno
CATEGORIES:Zlot
END:VEVENT
BEGIN:VEVENT
DTSTART;TZID=Europe/Helsinki:20190629T080000
DTEND;TZID=Europe/Helsinki:20190701T170000
DTSTAMP:20260424T175010
CREATED:20181225T190050Z
LAST-MODIFIED:20181225T190057Z
UID:64029-1561795200-1562000400@klassikauto.pl
SUMMARY:American Cars Mania - VII Międzynarodowy Zlot Samochodów Amerykańskich
DESCRIPTION:
URL:https://klassikauto.pl/impreza/american-cars-mania-vii-miedzynarodowe-zlot-samochodow-amerykanskich/
LOCATION:Oleśnica
CATEGORIES:Zlot
END:VEVENT
BEGIN:VEVENT
DTSTART;TZID=Europe/Helsinki:20190629T093000
DTEND;TZID=Europe/Helsinki:20190630T180000
DTSTAMP:20260424T175010
CREATED:20190304T172614Z
LAST-MODIFIED:20190304T172614Z
UID:65619-1561800600-1561917600@klassikauto.pl
SUMMARY:Classic & Youngtimer Show 2019
DESCRIPTION:
URL:https://klassikauto.pl/impreza/classic-youngtimer-show-2019/
LOCATION:Kielce
CATEGORIES:Targi
END:VEVENT
BEGIN:VEVENT
DTSTART;TZID=Europe/Helsinki:20190629T120000
DTEND;TZID=Europe/Helsinki:20190703T120000
DTSTAMP:20260424T175010
CREATED:20181113T170858Z
LAST-MODIFIED:20181113T170858Z
UID:63268-1561809600-1562155200@klassikauto.pl
SUMMARY:ZŁOMBOL 2019 // 13 EDYCJA
DESCRIPTION:
URL:https://klassikauto.pl/impreza/zlombol-2019-13-edycja/
LOCATION:Katowice
CATEGORIES:Zlot
END:VEVENT
BEGIN:VEVENT
DTSTART;TZID=Europe/Helsinki:20190629T150000
DTEND;TZID=Europe/Helsinki:20190629T220000
DTSTAMP:20260424T175010
CREATED:20190304T171821Z
LAST-MODIFIED:20190304T171821Z
UID:65612-1561820400-1561845600@klassikauto.pl
SUMMARY:Ratujmy Klasyki 2
DESCRIPTION:
URL:https://klassikauto.pl/impreza/ratujmy-klasyki-2/
LOCATION:Kąty Wrocławskie
CATEGORIES:Zlot
END:VEVENT
BEGIN:VEVENT
DTSTART;TZID=Europe/Helsinki:20190630T080000
DTEND;TZID=Europe/Helsinki:20190630T170000
DTSTAMP:20260424T175010
CREATED:20190209T142333Z
LAST-MODIFIED:20190209T142333Z
UID:64980-1561881600-1561914000@klassikauto.pl
SUMMARY:IX Rajd Najstarsze Pojazdy Świata Szlakiem Wazy z Bronocic
DESCRIPTION:
URL:https://klassikauto.pl/impreza/ix-rajd-najstarsze-pojazdy-swiata-szlakiem-wazy-z-bronocic/
LOCATION:Kazimierza Wielka
CATEGORIES:Rajd
END:VEVENT
BEGIN:VEVENT
DTSTART;TZID=Europe/Helsinki:20190630T080000
DTEND;TZID=Europe/Helsinki:20190630T170000
DTSTAMP:20260424T175010
CREATED:20190624T085859Z
LAST-MODIFIED:20190624T085859Z
UID:67763-1561881600-1561914000@klassikauto.pl
SUMMARY:Festa Kieleckich Klasyków
DESCRIPTION:
URL:https://klassikauto.pl/impreza/festa-kieleckich-klasykow/
LOCATION:Kielce
CATEGORIES:Zlot
END:VEVENT
BEGIN:VEVENT
DTSTART;TZID=Europe/Helsinki:20190630T090000
DTEND;TZID=Europe/Helsinki:20190630T200000
DTSTAMP:20260424T175010
CREATED:20190321T184550Z
LAST-MODIFIED:20190321T184550Z
UID:65916-1561885200-1561924800@klassikauto.pl
SUMMARY:V Zlot Pojazdów Zabytkowych w Lanckoronie
DESCRIPTION:
URL:https://klassikauto.pl/impreza/v-zlot-pojazdow-zabytkowych-w-lanckoronie/
LOCATION:Lanckorona
CATEGORIES:Zlot
END:VEVENT
BEGIN:VEVENT
DTSTART;TZID=Europe/Helsinki:20190701T080000
DTEND;TZID=Europe/Helsinki:20190707T170000
DTSTAMP:20260424T175010
CREATED:20190209T150904Z
LAST-MODIFIED:20190209T151102Z
UID:64991-1561968000-1562518800@klassikauto.pl
SUMMARY:2019 - FIVA World Rally\, Andorra
DESCRIPTION:Rajd: Andora\, Francja\, Hiszpaia
URL:https://klassikauto.pl/impreza/2019-fiva-world-rally-andorra/
CATEGORIES:Rajd
END:VEVENT
BEGIN:VEVENT
DTSTART;TZID=Europe/Helsinki:20190701T080000
DTEND;TZID=Europe/Helsinki:20190707T170000
DTSTAMP:20260424T175010
CREATED:20190308T181956Z
LAST-MODIFIED:20190308T181956Z
UID:65707-1561968000-1562518800@klassikauto.pl
SUMMARY:XXII Międzynarodowy Zlot Historycznych Pojazdów Wojskowych
DESCRIPTION:
URL:https://klassikauto.pl/impreza/xxii-miedzynarodowy-zlot-historycznych-pojazdow-wojskowych/
LOCATION:Darłowo
CATEGORIES:Zlot
END:VEVENT
BEGIN:VEVENT
DTSTART;TZID=Europe/Helsinki:20190703T080000
DTEND;TZID=Europe/Helsinki:20190707T170000
DTSTAMP:20260424T175010
CREATED:20190103T154526Z
LAST-MODIFIED:20190103T154526Z
UID:64286-1562140800-1562518800@klassikauto.pl
SUMMARY:ADAC Deutschland Klassik 2019
DESCRIPTION:
URL:https://klassikauto.pl/impreza/adac-deutschland-klassik-2019/
LOCATION:Wolfsburg\, Niemcy
CATEGORIES:Rajd
END:VEVENT
BEGIN:VEVENT
DTSTART;TZID=Europe/Helsinki:20190704T080000
DTEND;TZID=Europe/Helsinki:20190706T170000
DTSTAMP:20260424T175010
CREATED:20190103T142014Z
LAST-MODIFIED:20190103T142530Z
UID:64234-1562227200-1562432400@klassikauto.pl
SUMMARY:22. Silvretta Classic Rallye Montafon
DESCRIPTION:
URL:https://klassikauto.pl/impreza/22-silvretta-classic-rallye-montafon/
LOCATION:Montafon\, Austria
CATEGORIES:Rajd
END:VEVENT
END:VCALENDAR
<!-- RunCloud Hub 2026-04-24 16:50:10 -->