BEGIN:VCALENDAR
VERSION:2.0
PRODID:-//KlassikAuto.pl - ECPv6.7.0//NONSGML v1.0//EN
CALSCALE:GREGORIAN
METHOD:PUBLISH
X-WR-CALNAME:KlassikAuto.pl
X-ORIGINAL-URL:https://klassikauto.pl
X-WR-CALDESC:Wydarzenia dla KlassikAuto.pl
REFRESH-INTERVAL;VALUE=DURATION:PT1H
X-Robots-Tag:noindex
X-PUBLISHED-TTL:PT1H
BEGIN:VTIMEZONE
TZID:Europe/Helsinki
BEGIN:DAYLIGHT
TZOFFSETFROM:+0200
TZOFFSETTO:+0300
TZNAME:EEST
DTSTART:20190331T010000
END:DAYLIGHT
BEGIN:STANDARD
TZOFFSETFROM:+0300
TZOFFSETTO:+0200
TZNAME:EET
DTSTART:20191027T010000
END:STANDARD
END:VTIMEZONE
BEGIN:VEVENT
DTSTART;TZID=Europe/Helsinki:20190427T080000
DTEND;TZID=Europe/Helsinki:20190505T170000
DTSTAMP:20260424T204343
CREATED:20190209T123744Z
LAST-MODIFIED:20190209T123809Z
UID:64916-1556352000-1557075600@klassikauto.pl
SUMMARY:Majówka Klasyków 2019
DESCRIPTION:
URL:https://klassikauto.pl/impreza/majowka-klasykow-2019/
LOCATION:Komańcza
CATEGORIES:Zlot
END:VEVENT
BEGIN:VEVENT
DTSTART;TZID=Europe/Helsinki:20190428T080000
DTEND;TZID=Europe/Helsinki:20190504T170000
DTSTAMP:20260424T204343
CREATED:20190304T170217Z
LAST-MODIFIED:20190304T170217Z
UID:65599-1556438400-1556989200@klassikauto.pl
SUMMARY:XIX Tatrzański Zlot Pojazdów Zabytkowych
DESCRIPTION:
URL:https://klassikauto.pl/impreza/xix-tatrzanski-zlot-pojazdow-zabytkowych/
LOCATION:Zakopane
CATEGORIES:Zlot
END:VEVENT
BEGIN:VEVENT
DTSTART;TZID=Europe/Helsinki:20190430T120000
DTEND;TZID=Europe/Helsinki:20190504T150000
DTSTAMP:20260424T204343
CREATED:20190209T124039Z
LAST-MODIFIED:20190209T124039Z
UID:64920-1556625600-1556982000@klassikauto.pl
SUMMARY:XXVII Zlot Świętokrzyski Klubu Mercedes-Benz W201 & W124
DESCRIPTION:
URL:https://klassikauto.pl/impreza/xxvii-zlot-swietokrzyski-klubu-mercedes-benz-w201-w124/
LOCATION:Chęciny
CATEGORIES:Zlot
END:VEVENT
BEGIN:VEVENT
DTSTART;TZID=Europe/Helsinki:20190501T080000
DTEND;TZID=Europe/Helsinki:20190505T170000
DTSTAMP:20260424T204343
CREATED:20190125T183632Z
LAST-MODIFIED:20190125T183632Z
UID:64564-1556697600-1557075600@klassikauto.pl
SUMMARY:Majówka - BBQ TIME
DESCRIPTION:
URL:https://klassikauto.pl/impreza/majowka-bbq-time/
LOCATION:Grudziądz
CATEGORIES:Zlot
END:VEVENT
BEGIN:VEVENT
DTSTART;TZID=Europe/Helsinki:20190501T080000
DTEND;TZID=Europe/Helsinki:20190505T170000
DTSTAMP:20260424T204343
CREATED:20190308T165820Z
LAST-MODIFIED:20190404T185908Z
UID:65680-1556697600-1557075600@klassikauto.pl
SUMMARY:III Rajd 94 Oktany
DESCRIPTION:Organizator:  Stowarzyszenie 94 Oktany \nZapisy: Joanna Chmielewska tel. 504 134  222
URL:https://klassikauto.pl/impreza/iii-rajd-94-oktany/
LOCATION:Zieleniec
CATEGORIES:Rajd
END:VEVENT
BEGIN:VEVENT
DTSTART;TZID=Europe/Helsinki:20190501T080000
DTEND;TZID=Europe/Helsinki:20190630T170000
DTSTAMP:20260424T204343
CREATED:20181113T160759Z
LAST-MODIFIED:20181113T160759Z
UID:63205-1556697600-1561914000@klassikauto.pl
SUMMARY:In the spotlight: Bentley 100th Anniversary - wystawa
DESCRIPTION:
URL:https://klassikauto.pl/impreza/in-the-spotlight-bentley-100th-anniversary-wystawa/
LOCATION:Muzeum Autoworld\, Bruksela\, Belgia
CATEGORIES:Wystawa
END:VEVENT
BEGIN:VEVENT
DTSTART;TZID=Europe/Helsinki:20190503T080000
DTEND;TZID=Europe/Helsinki:20190505T170000
DTSTAMP:20260424T204343
CREATED:20190213T174455Z
LAST-MODIFIED:20190213T174455Z
UID:65076-1556870400-1557075600@klassikauto.pl
SUMMARY:XV Zlot Garbatych Bolidów & C.o. Radzyń 2019
DESCRIPTION:
URL:https://klassikauto.pl/impreza/xv-zlot-garbatych-bolidow-c-o-radzyn-2019/
LOCATION:Radzyń
CATEGORIES:Zlot
END:VEVENT
BEGIN:VEVENT
DTSTART;TZID=Europe/Helsinki:20190503T080000
DTEND;TZID=Europe/Helsinki:20190505T170000
DTSTAMP:20260424T204343
CREATED:20190312T192453Z
LAST-MODIFIED:20190312T192453Z
UID:65828-1556870400-1557075600@klassikauto.pl
SUMMARY:Setkání italských automobilů 2019
DESCRIPTION:
URL:https://klassikauto.pl/impreza/setkani-italskych-automobilu-2019/
LOCATION:Bílá\, Czechy
CATEGORIES:Zlot
END:VEVENT
BEGIN:VEVENT
DTSTART;TZID=Europe/Helsinki:20190503T090000
DTEND;TZID=Europe/Helsinki:20190503T180000
DTSTAMP:20260424T204343
CREATED:20190217T100148Z
LAST-MODIFIED:20190217T100148Z
UID:65223-1556874000-1556906400@klassikauto.pl
SUMMARY:V Maluchowa Majówka - zlot Fiata 126p
DESCRIPTION:
URL:https://klassikauto.pl/impreza/v-maluchowa-majowka-zlot-fiata-126p/
LOCATION:Łagów
CATEGORIES:Zlot
END:VEVENT
BEGIN:VEVENT
DTSTART;TZID=Europe/Helsinki:20190503T100000
DTEND;TZID=Europe/Helsinki:20190503T200000
DTSTAMP:20260424T204343
CREATED:20190423T164700Z
LAST-MODIFIED:20190423T164700Z
UID:66452-1556877600-1556913600@klassikauto.pl
SUMMARY:Klasyczna Majówka 2019
DESCRIPTION:
URL:https://klassikauto.pl/impreza/klasyczna-majowka-2019/
LOCATION:Biała Podlaska
CATEGORIES:Zlot
END:VEVENT
BEGIN:VEVENT
DTSTART;TZID=Europe/Helsinki:20190503T120000
DTEND;TZID=Europe/Helsinki:20190503T160000
DTSTAMP:20260424T204343
CREATED:20190321T184810Z
LAST-MODIFIED:20190321T184810Z
UID:65918-1556884800-1556899200@klassikauto.pl
SUMMARY:Majówka PRL
DESCRIPTION:
URL:https://klassikauto.pl/impreza/majowka-prl/
LOCATION:Bydgoszcz
CATEGORIES:Zlot
END:VEVENT
BEGIN:VEVENT
DTSTART;VALUE=DATE:20190504
DTEND;VALUE=DATE:20190505
DTSTAMP:20260424T204343
CREATED:20190103T122323Z
LAST-MODIFIED:20190103T122323Z
UID:64158-1556928000-1557014399@klassikauto.pl
SUMMARY:MotoMajówka 2k19 na Wyspie !
DESCRIPTION:
URL:https://klassikauto.pl/impreza/motomajowka-2k19-na-wyspie/
LOCATION:Lublin
CATEGORIES:Zlot
END:VEVENT
BEGIN:VEVENT
DTSTART;TZID=Europe/Helsinki:20190504T080000
DTEND;TZID=Europe/Helsinki:20190505T170000
DTSTAMP:20260424T204343
CREATED:20181225T172953Z
LAST-MODIFIED:20181225T172953Z
UID:63999-1556956800-1557075600@klassikauto.pl
SUMMARY:Technorama\, Ulm
DESCRIPTION:
URL:https://klassikauto.pl/impreza/technorama-ulm-2/
LOCATION:Ulm
CATEGORIES:Wystawa
END:VEVENT
BEGIN:VEVENT
DTSTART;TZID=Europe/Helsinki:20190504T090000
DTEND;TZID=Europe/Helsinki:20190504T190000
DTSTAMP:20260424T204343
CREATED:20190125T182643Z
LAST-MODIFIED:20190125T182643Z
UID:64555-1556960400-1556996400@klassikauto.pl
SUMMARY:Klasyczne Rozpoczęcie Sezonu\, Brzesko 2019
DESCRIPTION:
URL:https://klassikauto.pl/impreza/klasyczne-rozpoczecie-sezonu-brzesko-2019/
LOCATION:Brzesko
CATEGORIES:Zlot
END:VEVENT
BEGIN:VEVENT
DTSTART;TZID=Europe/Helsinki:20190504T100000
DTEND;TZID=Europe/Helsinki:20190504T220000
DTSTAMP:20260424T204343
CREATED:20190103T131752Z
LAST-MODIFIED:20190103T131752Z
UID:64210-1556964000-1557007200@klassikauto.pl
SUMMARY:Majówka z BMW 2019
DESCRIPTION:
URL:https://klassikauto.pl/impreza/majowka-z-bmw-2019/
LOCATION:Toruń
CATEGORIES:Zlot
END:VEVENT
BEGIN:VEVENT
DTSTART;TZID=Europe/Helsinki:20190504T100000
DTEND;TZID=Europe/Helsinki:20190505T100000
DTSTAMP:20260424T204343
CREATED:20190209T124843Z
LAST-MODIFIED:20190209T124913Z
UID:64925-1556964000-1557050400@klassikauto.pl
SUMMARY:III Ogólnopolski Konkurs Orki Zabytkowymi Traktorami
DESCRIPTION:
URL:https://klassikauto.pl/impreza/iii-ogolnopolski-konkurs-orki-zabytkowymi-traktorami/
LOCATION:Lubecko
CATEGORIES:Zlot
END:VEVENT
BEGIN:VEVENT
DTSTART;TZID=Europe/Helsinki:20190505T100000
DTEND;TZID=Europe/Helsinki:20190505T160000
DTSTAMP:20260424T204343
CREATED:20190125T182341Z
LAST-MODIFIED:20190125T182341Z
UID:64553-1557050400-1557072000@klassikauto.pl
SUMMARY:2.Klasyczna Gorlicka Majówka 2019
DESCRIPTION:
URL:https://klassikauto.pl/impreza/2-klasyczna-gorlicka-majowka-2019/
LOCATION:Gorlice
CATEGORIES:Zlot
END:VEVENT
BEGIN:VEVENT
DTSTART;TZID=Europe/Helsinki:20190508T080000
DTEND;TZID=Europe/Helsinki:20190508T170000
DTSTAMP:20260424T204343
CREATED:20190209T155939Z
LAST-MODIFIED:20190209T155939Z
UID:65030-1557302400-1557334800@klassikauto.pl
SUMMARY:Zlot - Habrovanské otevírání šoupátek
DESCRIPTION:19 zlot samochodów wyprodukowanych do 1965 r. \nUwzględniane są także auta wyprodukowane do 1982 r.
URL:https://klassikauto.pl/impreza/zlot-habrovanske-otevirani-soupatek/
CATEGORIES:Zlot
END:VEVENT
BEGIN:VEVENT
DTSTART;TZID=Europe/Helsinki:20190508T080000
DTEND;TZID=Europe/Helsinki:20190508T170000
DTSTAMP:20260424T204343
CREATED:20190209T160201Z
LAST-MODIFIED:20190209T160201Z
UID:65032-1557302400-1557334800@klassikauto.pl
SUMMARY:XIV. ročník \,\,Stopou slánského Oriona
DESCRIPTION:Rajd i wystawa
URL:https://klassikauto.pl/impreza/xiv-rocnik-stopou-slanskeho-oriona/
CATEGORIES:Rajd,Wystawa
END:VEVENT
BEGIN:VEVENT
DTSTART;TZID=Europe/Helsinki:20190509T080000
DTEND;TZID=Europe/Helsinki:20190511T170000
DTSTAMP:20260424T204343
CREATED:20181225T194309Z
LAST-MODIFIED:20181225T194309Z
UID:64050-1557388800-1557594000@klassikauto.pl
SUMMARY:42. International Rallye Wiesbaden
DESCRIPTION:
URL:https://klassikauto.pl/impreza/42-international-rallye-wiesbaden/
LOCATION:Wiesbaden\, Niemcy
CATEGORIES:Rajd
END:VEVENT
BEGIN:VEVENT
DTSTART;TZID=Europe/Helsinki:20190509T080000
DTEND;TZID=Europe/Helsinki:20190512T170000
DTSTAMP:20260424T204343
CREATED:20181225T184038Z
LAST-MODIFIED:20181225T184038Z
UID:64027-1557388800-1557680400@klassikauto.pl
SUMMARY:Arabella Classic
DESCRIPTION:
URL:https://klassikauto.pl/impreza/arabella-classic/
LOCATION:Salzburg
CATEGORIES:Rajd
END:VEVENT
BEGIN:VEVENT
DTSTART;TZID=Europe/Helsinki:20190509T080000
DTEND;TZID=Europe/Helsinki:20190512T170000
DTSTAMP:20260424T204343
CREATED:20190103T140603Z
LAST-MODIFIED:20190103T140603Z
UID:64222-1557388800-1557680400@klassikauto.pl
SUMMARY:I Runda Mistrzostw Polski Pojazdów Zabytkowych
DESCRIPTION:
URL:https://klassikauto.pl/impreza/i-runda-mistrzostw-polski-pojazdow-zabytkowych/
LOCATION:Stalowa Wola\, Poland
CATEGORIES:Rajd
END:VEVENT
BEGIN:VEVENT
DTSTART;TZID=Europe/Helsinki:20190509T080000
DTEND;TZID=Europe/Helsinki:20190512T170000
DTSTAMP:20260424T204343
CREATED:20190209T141143Z
LAST-MODIFIED:20190209T141505Z
UID:64970-1557388800-1557680400@klassikauto.pl
SUMMARY:Targa Florio\, Historic Rally Classic
DESCRIPTION:
URL:https://klassikauto.pl/impreza/targa-florio-histori-rally-classic/
LOCATION:Palermo
CATEGORIES:Rajd
END:VEVENT
BEGIN:VEVENT
DTSTART;TZID=Europe/Helsinki:20190510T080000
DTEND;TZID=Europe/Helsinki:20190512T170000
DTSTAMP:20260424T204343
CREATED:20181225T192011Z
LAST-MODIFIED:20181225T192011Z
UID:64039-1557475200-1557680400@klassikauto.pl
SUMMARY:XXIV Mazowiecki Rajd Weteranów Szos Magnet 2019 - II runda MPPZ
DESCRIPTION:
URL:https://klassikauto.pl/impreza/xxiv-mazowiecki-rajd-weteranow-szos-magnet-2019-ii-runda-mppz/
LOCATION:Mińsk Mazowiecki
CATEGORIES:Rajd
END:VEVENT
BEGIN:VEVENT
DTSTART;TZID=Europe/Helsinki:20190510T080000
DTEND;TZID=Europe/Helsinki:20190512T170000
DTSTAMP:20260424T204343
CREATED:20181225T194621Z
LAST-MODIFIED:20181225T194621Z
UID:64052-1557475200-1557680400@klassikauto.pl
SUMMARY:Motorworld Classic Bodense
DESCRIPTION:
URL:https://klassikauto.pl/impreza/motorworld-classic-bodense/
LOCATION:Bodense
CATEGORIES:Targi
END:VEVENT
BEGIN:VEVENT
DTSTART;TZID=Europe/Helsinki:20190510T080000
DTEND;TZID=Europe/Helsinki:20190512T170000
DTSTAMP:20260424T204343
CREATED:20190125T183435Z
LAST-MODIFIED:20190125T183435Z
UID:64561-1557475200-1557680400@klassikauto.pl
SUMMARY:VIII Zlot Samochodów Amerykańskich i Zabytkowych
DESCRIPTION:
URL:https://klassikauto.pl/impreza/viii-zlot-samochodow-amerykanskich-i-zabytkowych/
LOCATION:Grudziądz
CATEGORIES:Zlot
END:VEVENT
BEGIN:VEVENT
DTSTART;TZID=Europe/Helsinki:20190510T080000
DTEND;TZID=Europe/Helsinki:20190512T170000
DTSTAMP:20260424T204343
CREATED:20190125T184807Z
LAST-MODIFIED:20190125T184807Z
UID:64577-1557475200-1557680400@klassikauto.pl
SUMMARY:Wyprawa CABRIO POLAND - Bajeczne Podlasie
DESCRIPTION:
URL:https://klassikauto.pl/impreza/wyprawa-cabrio-poland-bajeczne-podlasie/
LOCATION:Poznań
CATEGORIES:Zlot
END:VEVENT
BEGIN:VEVENT
DTSTART;TZID=Europe/Helsinki:20190510T160000
DTEND;TZID=Europe/Helsinki:20190512T160000
DTSTAMP:20260424T204343
CREATED:20190209T121858Z
LAST-MODIFIED:20190209T121858Z
UID:64900-1557504000-1557676800@klassikauto.pl
SUMMARY:Wartburgi na Relaksie - Spotkanie Wartburg Polska i przyjaciół
DESCRIPTION:
URL:https://klassikauto.pl/impreza/wartburgi-na-relaksie-spotkanie-wartburg-polska-i-przyjaciol/
LOCATION:Wiśniowa Góra
CATEGORIES:Zlot
END:VEVENT
BEGIN:VEVENT
DTSTART;TZID=Europe/Helsinki:20190510T170000
DTEND;TZID=Europe/Helsinki:20190512T120000
DTSTAMP:20260424T204343
CREATED:20190209T125053Z
LAST-MODIFIED:20190209T125053Z
UID:64928-1557507600-1557662400@klassikauto.pl
SUMMARY:French Rules 2019 - Największy Zlot Aut Francuskich w PL
DESCRIPTION:
URL:https://klassikauto.pl/impreza/french-rules-2019-najwiekszy-zlot-aut-francuskich-w-pl/
LOCATION:Żerków\, wielkopolskie
CATEGORIES:Zlot
END:VEVENT
BEGIN:VEVENT
DTSTART;TZID=Europe/Helsinki:20190511T080000
DTEND;TZID=Europe/Helsinki:20190511T170000
DTSTAMP:20260424T204343
CREATED:20190125T192330Z
LAST-MODIFIED:20190125T192330Z
UID:64598-1557561600-1557594000@klassikauto.pl
SUMMARY:MotoLegendy PRL Rozpoczęcie sezonu 2019
DESCRIPTION:
URL:https://klassikauto.pl/impreza/motolegendy-prl-rozpoczecie-sezonu-2019/
LOCATION:Krynica
CATEGORIES:Zlot
END:VEVENT
END:VCALENDAR
<!-- RunCloud Hub 2026-04-24 19:43:43 -->