BEGIN:VCALENDAR
VERSION:2.0
PRODID:-//KlassikAuto.pl - ECPv6.7.0//NONSGML v1.0//EN
CALSCALE:GREGORIAN
METHOD:PUBLISH
X-WR-CALNAME:KlassikAuto.pl
X-ORIGINAL-URL:https://klassikauto.pl
X-WR-CALDESC:Wydarzenia dla KlassikAuto.pl
REFRESH-INTERVAL;VALUE=DURATION:PT1H
X-Robots-Tag:noindex
X-PUBLISHED-TTL:PT1H
BEGIN:VTIMEZONE
TZID:Europe/Helsinki
BEGIN:DAYLIGHT
TZOFFSETFROM:+0200
TZOFFSETTO:+0300
TZNAME:EEST
DTSTART:20180325T010000
END:DAYLIGHT
BEGIN:STANDARD
TZOFFSETFROM:+0300
TZOFFSETTO:+0200
TZNAME:EET
DTSTART:20181028T010000
END:STANDARD
END:VTIMEZONE
BEGIN:VEVENT
DTSTART;VALUE=DATE:20180101
DTEND;VALUE=DATE:20180701
DTSTAMP:20260425T173211
CREATED:20180415T112652Z
LAST-MODIFIED:20180415T112652Z
UID:59320-1514764800-1530403199@klassikauto.pl
SUMMARY:Samochodem na wycieczkę i inne rozrywki lat 60-tych - wystawa
DESCRIPTION:Słoweńskie Muzeum Techniki\,  Bratysława
URL:https://klassikauto.pl/impreza/samochodem-na-wycieczke-i-inne-rozrywki-lat-60-tych-wystawa/
LOCATION:Bratysława\, Słowacja
END:VEVENT
BEGIN:VEVENT
DTSTART;TZID=Europe/Helsinki:20180505T080000
DTEND;TZID=Europe/Helsinki:20180701T170000
DTSTAMP:20260425T173211
CREATED:20180308T090424Z
LAST-MODIFIED:20180308T090446Z
UID:56296-1525507200-1530464400@klassikauto.pl
SUMMARY:Wystawa – The Belgians at Le Mans\, Muzeum Autoworld
DESCRIPTION:
URL:https://klassikauto.pl/impreza/wystawa-the-belgians-at-le-mans-muzeum-autoworld/
LOCATION:Belgia
END:VEVENT
BEGIN:VEVENT
DTSTART;VALUE=DATE:20180622
DTEND;VALUE=DATE:20180625
DTSTAMP:20260425T173211
CREATED:20180415T095843Z
LAST-MODIFIED:20180415T095843Z
UID:59293-1529625600-1529884799@klassikauto.pl
SUMMARY:VII Olsztyński Zlot Miłośników Pojazdów PRL
DESCRIPTION:
URL:https://klassikauto.pl/impreza/vii-olsztynski-zlot-milosnikow-pojazdow-prl/
LOCATION:Olsztyn
END:VEVENT
BEGIN:VEVENT
DTSTART;TZID=Europe/Helsinki:20180622T080000
DTEND;TZID=Europe/Helsinki:20180624T170000
DTSTAMP:20260425T173211
CREATED:20180308T101921Z
LAST-MODIFIED:20180308T101921Z
UID:56527-1529654400-1529859600@klassikauto.pl
SUMMARY:Zlot Żuka
DESCRIPTION:
URL:https://klassikauto.pl/impreza/zlot-zuka/
LOCATION:Duszniki
END:VEVENT
BEGIN:VEVENT
DTSTART;TZID=Europe/Helsinki:20180622T080000
DTEND;TZID=Europe/Helsinki:20180624T170000
DTSTAMP:20260425T173211
CREATED:20180308T102002Z
LAST-MODIFIED:20180308T102002Z
UID:56530-1529654400-1529859600@klassikauto.pl
SUMMARY:III Nadmorski Zlot Busowo-Garbusowy
DESCRIPTION:
URL:https://klassikauto.pl/impreza/iii-nadmorski-zlot-busowo-garbusowy/
LOCATION:Białogóra
END:VEVENT
BEGIN:VEVENT
DTSTART;TZID=Europe/Helsinki:20180622T080000
DTEND;TZID=Europe/Helsinki:20180624T170000
DTSTAMP:20260425T173211
CREATED:20180308T102042Z
LAST-MODIFIED:20180308T102042Z
UID:56533-1529654400-1529859600@klassikauto.pl
SUMMARY:ADAC Sachenring Classic
DESCRIPTION:
URL:https://klassikauto.pl/impreza/adac-sachenring-classic/
END:VEVENT
BEGIN:VEVENT
DTSTART;TZID=Europe/Helsinki:20180622T080000
DTEND;TZID=Europe/Helsinki:20180624T170000
DTSTAMP:20260425T173211
CREATED:20180308T102124Z
LAST-MODIFIED:20180308T102124Z
UID:56535-1529654400-1529859600@klassikauto.pl
SUMMARY:XVIII Jubileuszowy Zlot VW Garbusa & CO
DESCRIPTION:
URL:https://klassikauto.pl/impreza/xviii-jubileuszowy-zlot-vw-garbusa-co/
LOCATION:Przybrodzin
END:VEVENT
BEGIN:VEVENT
DTSTART;TZID=Europe/Helsinki:20180623T080000
DTEND;TZID=Europe/Helsinki:20180624T170000
DTSTAMP:20260425T173211
CREATED:20180308T102443Z
LAST-MODIFIED:20180308T102443Z
UID:56545-1529740800-1529859600@klassikauto.pl
SUMMARY:Profi Auto Show
DESCRIPTION:
URL:https://klassikauto.pl/impreza/profi-auto-show/
LOCATION:Katowice
END:VEVENT
BEGIN:VEVENT
DTSTART;TZID=Europe/Helsinki:20180623T080000
DTEND;TZID=Europe/Helsinki:20180624T170000
DTSTAMP:20260425T173211
CREATED:20180308T102529Z
LAST-MODIFIED:20180506T060132Z
UID:56548-1529740800-1529859600@klassikauto.pl
SUMMARY:V Ogólnopolski Zlot Samochodów Zabytkowych\, Kultowych i Motocykli
DESCRIPTION:
URL:https://klassikauto.pl/impreza/v-ogolnopolski-zlot-samochodow-zabytkowych-kultowych-i-motocykli/
LOCATION:Sułkowice \, Sucha Beskidzka\, Jordanów
END:VEVENT
BEGIN:VEVENT
DTSTART;TZID=Europe/Helsinki:20180623T080000
DTEND;TZID=Europe/Helsinki:20180624T170000
DTSTAMP:20260425T173211
CREATED:20180308T102626Z
LAST-MODIFIED:20180308T102626Z
UID:56551-1529740800-1529859600@klassikauto.pl
SUMMARY:Players Classic Show 2018
DESCRIPTION:
URL:https://klassikauto.pl/impreza/players-classic-show-2018/
LOCATION:Goodwood
END:VEVENT
BEGIN:VEVENT
DTSTART;VALUE=DATE:20180624
DTEND;VALUE=DATE:20180625
DTSTAMP:20260425T173211
CREATED:20180308T102706Z
LAST-MODIFIED:20180308T102712Z
UID:56554-1529798400-1529884799@klassikauto.pl
SUMMARY:Klasyk Fest 2018
DESCRIPTION:
URL:https://klassikauto.pl/impreza/klasyk-fest-2018/
LOCATION:Tychy
END:VEVENT
BEGIN:VEVENT
DTSTART;VALUE=DATE:20180624
DTEND;VALUE=DATE:20180625
DTSTAMP:20260425T173211
CREATED:20180308T102755Z
LAST-MODIFIED:20180308T102755Z
UID:56557-1529798400-1529884799@klassikauto.pl
SUMMARY:VIII Rajd Najstarsze Pojazdy Świata Szlakiem Wazy z Bronocic
DESCRIPTION:
URL:https://klassikauto.pl/impreza/viii-rajd-najstarsze-pojazdy-swiata-szlakiem-wazy-z-bronocic/
LOCATION:Kazimierza Wielka
END:VEVENT
BEGIN:VEVENT
DTSTART;VALUE=DATE:20180624
DTEND;VALUE=DATE:20180625
DTSTAMP:20260425T173211
CREATED:20180308T102841Z
LAST-MODIFIED:20180308T102841Z
UID:56559-1529798400-1529884799@klassikauto.pl
SUMMARY:Konkursowa Jazda Samochodem Rajd Lasowiak
DESCRIPTION:Runda Mistrzostw Okręgu Rzeszowskiego w KJS
URL:https://klassikauto.pl/impreza/konkursowa-jazda-samochodem-rajd-lasowiak/
END:VEVENT
BEGIN:VEVENT
DTSTART;VALUE=DATE:20180624
DTEND;VALUE=DATE:20180625
DTSTAMP:20260425T173211
CREATED:20180415T111418Z
LAST-MODIFIED:20180415T111418Z
UID:59310-1529798400-1529884799@klassikauto.pl
SUMMARY:VII Zlot Pojazdów Zabytkowych w Oławie
DESCRIPTION:
URL:https://klassikauto.pl/impreza/vii-zlot-pojazdow-zabytkowych-w-olawie/
LOCATION:Oława
END:VEVENT
BEGIN:VEVENT
DTSTART;TZID=Europe/Helsinki:20180624T100000
DTEND;TZID=Europe/Helsinki:20180624T220000
DTSTAMP:20260425T173211
CREATED:20180509T172031Z
LAST-MODIFIED:20180509T172031Z
UID:59965-1529834400-1529877600@klassikauto.pl
SUMMARY:XI Międzynarodowy Zlot Pojazdów Zabytkowych
DESCRIPTION:
URL:https://klassikauto.pl/impreza/xi-miedzynarodowy-zlot-pojazdow-zabytkowych/
LOCATION:Zabełków
END:VEVENT
BEGIN:VEVENT
DTSTART;TZID=Europe/Helsinki:20180624T113000
DTEND;TZID=Europe/Helsinki:20180624T170000
DTSTAMP:20260425T173211
CREATED:20180601T180036Z
LAST-MODIFIED:20180601T180232Z
UID:60313-1529839800-1529859600@klassikauto.pl
SUMMARY:Rajd o Błękitną Wstęgę Olzy
DESCRIPTION:
URL:https://klassikauto.pl/impreza/rajd-o-blekitna-wstege-olzy/
LOCATION:Cieszyn
END:VEVENT
BEGIN:VEVENT
DTSTART;TZID=Europe/Helsinki:20180627T080000
DTEND;TZID=Europe/Helsinki:20180630T170000
DTSTAMP:20260425T173211
CREATED:20180308T102955Z
LAST-MODIFIED:20180308T102955Z
UID:56561-1530086400-1530378000@klassikauto.pl
SUMMARY:Mustang Race 2018
DESCRIPTION:
URL:https://klassikauto.pl/impreza/mustang-race-2018/
LOCATION:Zamek Książ\, Legnica\, Lubuskie\, Szczecin
END:VEVENT
BEGIN:VEVENT
DTSTART;TZID=Europe/Helsinki:20180627T080000
DTEND;TZID=Europe/Helsinki:20180701T170000
DTSTAMP:20260425T173211
CREATED:20180308T103101Z
LAST-MODIFIED:20180308T103101Z
UID:56564-1530086400-1530464400@klassikauto.pl
SUMMARY:ADAC Deutschland Klassik
DESCRIPTION:www.adac.de
URL:https://klassikauto.pl/impreza/adac-deutschland-klassik/
LOCATION:Bamberg\, Niemcy
END:VEVENT
BEGIN:VEVENT
DTSTART;VALUE=DATE:20180629
DTEND;VALUE=DATE:20180630
DTSTAMP:20260425T173211
CREATED:20180308T103147Z
LAST-MODIFIED:20180308T103147Z
UID:56567-1530230400-1530316799@klassikauto.pl
SUMMARY:XIV Nadmorski Zlot Garbusów
DESCRIPTION:
URL:https://klassikauto.pl/impreza/xiv-nadmorski-zlot-garbusow/
LOCATION:Niechorze
END:VEVENT
BEGIN:VEVENT
DTSTART;VALUE=DATE:20180629
DTEND;VALUE=DATE:20180630
DTSTAMP:20260425T173211
CREATED:20180308T103245Z
LAST-MODIFIED:20180308T103245Z
UID:56570-1530230400-1530316799@klassikauto.pl
SUMMARY:Zvolen 2018 – Traditional International Fiat 126 Meeting
DESCRIPTION:
URL:https://klassikauto.pl/impreza/zvolen-2018-traditional-international-fiat-126-meeting/
LOCATION:Zwoleń\, Słowacja
END:VEVENT
BEGIN:VEVENT
DTSTART;VALUE=DATE:20180629
DTEND;VALUE=DATE:20180702
DTSTAMP:20260425T173211
CREATED:20180415T121103Z
LAST-MODIFIED:20180415T121631Z
UID:59368-1530230400-1530489599@klassikauto.pl
SUMMARY:Przylot Os\, 2018
DESCRIPTION:
URL:https://klassikauto.pl/impreza/przylot-os-2018/
LOCATION:Czersk
END:VEVENT
BEGIN:VEVENT
DTSTART;TZID=Europe/Helsinki:20180629T080000
DTEND;TZID=Europe/Helsinki:20180701T170000
DTSTAMP:20260425T173211
CREATED:20180308T103329Z
LAST-MODIFIED:20180308T103329Z
UID:56573-1530259200-1530464400@klassikauto.pl
SUMMARY:American Cars Mania
DESCRIPTION:
URL:https://klassikauto.pl/impreza/american-cars-mania/
LOCATION:Oleśnica
END:VEVENT
BEGIN:VEVENT
DTSTART;TZID=Europe/Helsinki:20180629T200000
DTEND;TZID=Europe/Helsinki:20180629T230000
DTSTAMP:20260425T173211
CREATED:20180509T165233Z
LAST-MODIFIED:20180509T165233Z
UID:59952-1530302400-1530313200@klassikauto.pl
SUMMARY:Spot Low Biała - Klasyczny Czwartek BKN
DESCRIPTION:
URL:https://klassikauto.pl/impreza/spot-low-biala-klasyczny-czwartek-bkn/
END:VEVENT
BEGIN:VEVENT
DTSTART;VALUE=DATE:20180630
DTEND;VALUE=DATE:20180701
DTSTAMP:20260425T173211
CREATED:20180308T103449Z
LAST-MODIFIED:20180308T103507Z
UID:56579-1530316800-1530403199@klassikauto.pl
SUMMARY:XXX. ročník jízdy do vrchu \,\,KNOVÍZ-OLŠANY”
DESCRIPTION:
URL:https://klassikauto.pl/impreza/xxx-rocnik-jizdy-do-vrchu-knoviz-olsany/
LOCATION:Olsany\, Czechy
END:VEVENT
BEGIN:VEVENT
DTSTART;VALUE=DATE:20180630
DTEND;VALUE=DATE:20180701
DTSTAMP:20260425T173211
CREATED:20180308T103604Z
LAST-MODIFIED:20180308T103604Z
UID:56582-1530316800-1530403199@klassikauto.pl
SUMMARY:4 Wystawa Motocykli i Pojazdów Zabytkowych na Zamku
DESCRIPTION:
URL:https://klassikauto.pl/impreza/4-wystawa-motocykli-i-pojazdow-zabytkowych-na-zamku/
LOCATION:Ciechanów
END:VEVENT
BEGIN:VEVENT
DTSTART;VALUE=DATE:20180630
DTEND;VALUE=DATE:20180701
DTSTAMP:20260425T173211
CREATED:20180308T103632Z
LAST-MODIFIED:20180308T103632Z
UID:56585-1530316800-1530403199@klassikauto.pl
SUMMARY:MotoFest Wałbrzych 2018
DESCRIPTION:
URL:https://klassikauto.pl/impreza/motofest-walbrzych-2018/
END:VEVENT
BEGIN:VEVENT
DTSTART;TZID=Europe/Helsinki:20180630T080000
DTEND;TZID=Europe/Helsinki:20180630T170000
DTSTAMP:20260425T173211
CREATED:20180308T103412Z
LAST-MODIFIED:20180308T103412Z
UID:56576-1530345600-1530378000@klassikauto.pl
SUMMARY:2 Rajdozlot Sądecki z Youngtimer
DESCRIPTION:
URL:https://klassikauto.pl/impreza/2-rajdozlot-sadecki-z-youngtimer/
LOCATION:Nowy Sącz – Gródek n/Dunajcem
END:VEVENT
BEGIN:VEVENT
DTSTART;TZID=Europe/Helsinki:20180630T080000
DTEND;TZID=Europe/Helsinki:20180701T170000
DTSTAMP:20260425T173211
CREATED:20180308T103713Z
LAST-MODIFIED:20180424T193307Z
UID:56587-1530345600-1530464400@klassikauto.pl
SUMMARY:IV Zlot Pojazdów Zabytkowych w Lanckoronie
DESCRIPTION:
URL:https://klassikauto.pl/impreza/iv-zlot-pojazdow-zabytkowych-w-lanckoronie/
LOCATION:Lanckorona
END:VEVENT
BEGIN:VEVENT
DTSTART;TZID=Europe/Helsinki:20180630T080000
DTEND;TZID=Europe/Helsinki:20180701T170000
DTSTAMP:20260425T173211
CREATED:20180415T095243Z
LAST-MODIFIED:20180415T095243Z
UID:59288-1530345600-1530464400@klassikauto.pl
SUMMARY:Moto Weteran Bazar\, Stadion SKS „START”
DESCRIPTION:
URL:https://klassikauto.pl/impreza/moto-weteran-bazar-stadion-sks-start-2/
LOCATION:Łódź
END:VEVENT
BEGIN:VEVENT
DTSTART;TZID=Europe/Helsinki:20180630T160000
DTEND;TZID=Europe/Helsinki:20180630T200000
DTSTAMP:20260425T173211
CREATED:20180415T120605Z
LAST-MODIFIED:20180415T120605Z
UID:59363-1530374400-1530388800@klassikauto.pl
SUMMARY:Spotkanie fanów motoryzacji #ratujmyklasyki
DESCRIPTION:
URL:https://klassikauto.pl/impreza/spotkanie-fanow-motoryzacji-ratujmyklasyki/
LOCATION:Wrocław\, Wrocław\, Poland
END:VEVENT
END:VCALENDAR
<!-- RunCloud Hub 2026-04-25 16:32:11 -->