BEGIN:VCALENDAR
VERSION:2.0
PRODID:-//KlassikAuto.pl - ECPv6.7.0//NONSGML v1.0//EN
CALSCALE:GREGORIAN
METHOD:PUBLISH
X-WR-CALNAME:KlassikAuto.pl
X-ORIGINAL-URL:https://klassikauto.pl
X-WR-CALDESC:Wydarzenia dla KlassikAuto.pl
REFRESH-INTERVAL;VALUE=DURATION:PT1H
X-Robots-Tag:noindex
X-PUBLISHED-TTL:PT1H
BEGIN:VTIMEZONE
TZID:Europe/Helsinki
BEGIN:DAYLIGHT
TZOFFSETFROM:+0200
TZOFFSETTO:+0300
TZNAME:EEST
DTSTART:20180325T010000
END:DAYLIGHT
BEGIN:STANDARD
TZOFFSETFROM:+0300
TZOFFSETTO:+0200
TZNAME:EET
DTSTART:20181028T010000
END:STANDARD
END:VTIMEZONE
BEGIN:VEVENT
DTSTART;VALUE=DATE:20180101
DTEND;VALUE=DATE:20180701
DTSTAMP:20260425T173211
CREATED:20180415T112652Z
LAST-MODIFIED:20180415T112652Z
UID:59320-1514764800-1530403199@klassikauto.pl
SUMMARY:Samochodem na wycieczkę i inne rozrywki lat 60-tych - wystawa
DESCRIPTION:Słoweńskie Muzeum Techniki\,  Bratysława
URL:https://klassikauto.pl/impreza/samochodem-na-wycieczke-i-inne-rozrywki-lat-60-tych-wystawa/
LOCATION:Bratysława\, Słowacja
END:VEVENT
BEGIN:VEVENT
DTSTART;TZID=Europe/Helsinki:20180505T080000
DTEND;TZID=Europe/Helsinki:20180701T170000
DTSTAMP:20260425T173211
CREATED:20180308T090424Z
LAST-MODIFIED:20180308T090446Z
UID:56296-1525507200-1530464400@klassikauto.pl
SUMMARY:Wystawa – The Belgians at Le Mans\, Muzeum Autoworld
DESCRIPTION:
URL:https://klassikauto.pl/impreza/wystawa-the-belgians-at-le-mans-muzeum-autoworld/
LOCATION:Belgia
END:VEVENT
BEGIN:VEVENT
DTSTART;TZID=Europe/Helsinki:20180601T080000
DTEND;TZID=Europe/Helsinki:20180617T170000
DTSTAMP:20260425T173211
CREATED:20180308T095313Z
LAST-MODIFIED:20180308T095313Z
UID:56441-1527840000-1529254800@klassikauto.pl
SUMMARY:Rumunia 2018-Wyprawa pojazdów zabytkowych
DESCRIPTION:
URL:https://klassikauto.pl/impreza/rumunia-2018-wyprawa-pojazdow-zabytkowych/
END:VEVENT
BEGIN:VEVENT
DTSTART;TZID=Europe/Helsinki:20180607T080000
DTEND;TZID=Europe/Helsinki:20180610T170000
DTSTAMP:20260425T173211
CREATED:20180308T095852Z
LAST-MODIFIED:20180308T095852Z
UID:56460-1528358400-1528650000@klassikauto.pl
SUMMARY:Classica Mierzęcin
DESCRIPTION:
URL:https://klassikauto.pl/impreza/classica-mierzecin/
END:VEVENT
BEGIN:VEVENT
DTSTART;TZID=Europe/Helsinki:20180608T080000
DTEND;TZID=Europe/Helsinki:20180610T170000
DTSTAMP:20260425T173211
CREATED:20180308T100409Z
LAST-MODIFIED:20180308T100409Z
UID:56477-1528444800-1528650000@klassikauto.pl
SUMMARY:XI Miedwiański Zlot Pojazdów Zabytkowych
DESCRIPTION:
URL:https://klassikauto.pl/impreza/xi-miedwianski-zlot-pojazdow-zabytkowych/
LOCATION:Stargard
END:VEVENT
BEGIN:VEVENT
DTSTART;TZID=Europe/Helsinki:20180608T080000
DTEND;TZID=Europe/Helsinki:20180610T170000
DTSTAMP:20260425T173211
CREATED:20180308T100453Z
LAST-MODIFIED:20180308T100453Z
UID:56480-1528444800-1528650000@klassikauto.pl
SUMMARY:Jubilejní XV. Mezinárodní sraz Fiatů 126p\,
DESCRIPTION:
URL:https://klassikauto.pl/impreza/jubilejni-xv-mezinarodni-sraz-fiatu-126p-2/
LOCATION:Chotevice\, Czechy
END:VEVENT
BEGIN:VEVENT
DTSTART;VALUE=DATE:20180609
DTEND;VALUE=DATE:20180611
DTSTAMP:20260425T173211
CREATED:20180402T142218Z
LAST-MODIFIED:20180402T142218Z
UID:59008-1528502400-1528675199@klassikauto.pl
SUMMARY:Festyn Motoryzacyjny na Skwerze Kościuszki w Gdyni
DESCRIPTION:
URL:https://klassikauto.pl/impreza/festyn-motoryzacyjny-na-skwerze-kosciuszki-w-gdyni/
LOCATION:Gdynia
END:VEVENT
BEGIN:VEVENT
DTSTART;TZID=Europe/Helsinki:20180609T080000
DTEND;TZID=Europe/Helsinki:20180610T170000
DTSTAMP:20260425T173211
CREATED:20180308T100717Z
LAST-MODIFIED:20180308T100717Z
UID:56488-1528531200-1528650000@klassikauto.pl
SUMMARY:Rajd Nadwiślański 2018
DESCRIPTION:
URL:https://klassikauto.pl/impreza/rajd-nadwislanski-2018/
LOCATION:Warszawa
END:VEVENT
BEGIN:VEVENT
DTSTART;VALUE=DATE:20180610
DTEND;VALUE=DATE:20180611
DTSTAMP:20260425T173211
CREATED:20180308T100758Z
LAST-MODIFIED:20180309T182913Z
UID:56490-1528588800-1528675199@klassikauto.pl
SUMMARY:Oldtimerbazar
DESCRIPTION:
URL:https://klassikauto.pl/impreza/oldtimerbazar-5/
LOCATION:Wrocław\, Wrocław\, Poland
CATEGORIES:Aukcja
END:VEVENT
BEGIN:VEVENT
DTSTART;VALUE=DATE:20180610
DTEND;VALUE=DATE:20180611
DTSTAMP:20260425T173211
CREATED:20180308T100851Z
LAST-MODIFIED:20180308T100851Z
UID:56492-1528588800-1528675199@klassikauto.pl
SUMMARY:Wehikuł Czasu Pilzno 2018 – Spotkanie Miłośników Motoryzacji
DESCRIPTION:
URL:https://klassikauto.pl/impreza/wehikul-czasu-pilzno-2018-spotkanie-milosnikow-motoryzacji/
LOCATION:Pilzno
END:VEVENT
BEGIN:VEVENT
DTSTART;TZID=Europe/Helsinki:20180610T080000
DTEND;TZID=Europe/Helsinki:20180610T170000
DTSTAMP:20260425T173211
CREATED:20180308T100938Z
LAST-MODIFIED:20180308T100938Z
UID:56495-1528617600-1528650000@klassikauto.pl
SUMMARY:IX Zlot Pojazdów Zabytkowych Mrowisko 2018
DESCRIPTION:
URL:https://klassikauto.pl/impreza/ix-zlot-pojazdow-zabytkowych-mrowisko-2018/
LOCATION:Siedlce
END:VEVENT
BEGIN:VEVENT
DTSTART;VALUE=DATE:20180614
DTEND;VALUE=DATE:20180618
DTSTAMP:20260425T173211
CREATED:20180509T171123Z
LAST-MODIFIED:20180509T171123Z
UID:59957-1528934400-1529279999@klassikauto.pl
SUMMARY:III Runda Mistrzostw Polski Pojazdów Zabytkowych.
DESCRIPTION:
URL:https://klassikauto.pl/impreza/iii-runda-mistrzostw-polski-pojazdow-zabytkowych/
LOCATION:Tarnów
END:VEVENT
BEGIN:VEVENT
DTSTART;VALUE=DATE:20180615
DTEND;VALUE=DATE:20180618
DTSTAMP:20260425T173211
CREATED:20180503T192321Z
LAST-MODIFIED:20180503T192321Z
UID:59754-1529020800-1529279999@klassikauto.pl
SUMMARY:III Zlot Mercedesa W123 "Beczkolandia 2018"
DESCRIPTION:
URL:https://klassikauto.pl/impreza/iii-zlot-mercedesa-w123-beczkolandia-2018/
LOCATION:Orońsko
END:VEVENT
BEGIN:VEVENT
DTSTART;TZID=Europe/Helsinki:20180615T080000
DTEND;TZID=Europe/Helsinki:20180616T170000
DTSTAMP:20260425T173211
CREATED:20180308T101027Z
LAST-MODIFIED:20180308T101027Z
UID:56498-1529049600-1529168400@klassikauto.pl
SUMMARY:7. Rallye Trifels Historic
DESCRIPTION:
URL:https://klassikauto.pl/impreza/7-rallye-trifels-historic/
LOCATION:Kaiserslautern\, Niemcy
END:VEVENT
BEGIN:VEVENT
DTSTART;TZID=Europe/Helsinki:20180615T080000
DTEND;TZID=Europe/Helsinki:20180617T170000
DTSTAMP:20260425T173211
CREATED:20180308T101057Z
LAST-MODIFIED:20180308T101057Z
UID:56501-1529049600-1529254800@klassikauto.pl
SUMMARY:Historic Trophy Nuerburgring
DESCRIPTION:
URL:https://klassikauto.pl/impreza/historic-trophy-nuerburgring/
END:VEVENT
BEGIN:VEVENT
DTSTART;TZID=Europe/Helsinki:20180615T080000
DTEND;TZID=Europe/Helsinki:20180617T170000
DTSTAMP:20260425T173211
CREATED:20180308T101135Z
LAST-MODIFIED:20180308T101135Z
UID:56503-1529049600-1529254800@klassikauto.pl
SUMMARY:Youngtimer Trophy 2018\, Nürburgring Classic
DESCRIPTION:
URL:https://klassikauto.pl/impreza/youngtimer-trophy-2018-nurburgring-classic/
LOCATION:Niemcy
END:VEVENT
BEGIN:VEVENT
DTSTART;TZID=Europe/Helsinki:20180615T080000
DTEND;TZID=Europe/Helsinki:20180617T170000
DTSTAMP:20260425T173211
CREATED:20180308T101216Z
LAST-MODIFIED:20180308T101216Z
UID:56505-1529049600-1529254800@klassikauto.pl
SUMMARY:Zlot Mercedesów „Mercedesem po Wiśle”
DESCRIPTION:
URL:https://klassikauto.pl/impreza/zlot-mercedesow-mercedesem-po-wisle/
LOCATION:Płock
END:VEVENT
BEGIN:VEVENT
DTSTART;VALUE=DATE:20180616
DTEND;VALUE=DATE:20180617
DTSTAMP:20260425T173211
CREATED:20180308T101310Z
LAST-MODIFIED:20180308T101310Z
UID:56508-1529107200-1529193599@klassikauto.pl
SUMMARY:IX Ogólnopolski Zlot Pojazdów „Moto Legendy PRL”
DESCRIPTION:
URL:https://klassikauto.pl/impreza/ix-ogolnopolski-zlot-pojazdow-moto-legendy-prl/
LOCATION:Gorlice
END:VEVENT
BEGIN:VEVENT
DTSTART;VALUE=DATE:20180616
DTEND;VALUE=DATE:20180617
DTSTAMP:20260425T173211
CREATED:20180308T101435Z
LAST-MODIFIED:20180309T183049Z
UID:56513-1529107200-1529193599@klassikauto.pl
SUMMARY:Classic Car Auction
DESCRIPTION:
URL:https://klassikauto.pl/impreza/classic-car-auction/
LOCATION:Dolder/ Zürich\, Szwajcaria
CATEGORIES:Aukcja
END:VEVENT
BEGIN:VEVENT
DTSTART;VALUE=DATE:20180616
DTEND;VALUE=DATE:20180618
DTSTAMP:20260425T173211
CREATED:20180506T054601Z
LAST-MODIFIED:20180506T054601Z
UID:59820-1529107200-1529279999@klassikauto.pl
SUMMARY:Festiwal klasyków motoryzacji Motolegends
DESCRIPTION:
URL:https://klassikauto.pl/impreza/festiwal-klasykow-motoryzacji-motolegends/
LOCATION:Sosnowiec
END:VEVENT
BEGIN:VEVENT
DTSTART;VALUE=DATE:20180616
DTEND;VALUE=DATE:20180618
DTSTAMP:20260425T173211
CREATED:20180526T054012Z
LAST-MODIFIED:20180526T054053Z
UID:60218-1529107200-1529279999@klassikauto.pl
SUMMARY:MotoLegends - Klasyki Na Nowo\, wystawa i targi
DESCRIPTION:
URL:https://klassikauto.pl/impreza/wystawa-motolegends/
LOCATION:Sosnowiec
END:VEVENT
BEGIN:VEVENT
DTSTART;TZID=Europe/Helsinki:20180616T080000
DTEND;TZID=Europe/Helsinki:20180616T170000
DTSTAMP:20260425T173211
CREATED:20180308T101351Z
LAST-MODIFIED:20180308T101351Z
UID:56510-1529136000-1529168400@klassikauto.pl
SUMMARY:IV Klasyczne Dni Knurowa
DESCRIPTION:
URL:https://klassikauto.pl/impreza/iv-klasyczne-dni-knurowa/
LOCATION:Knurów
END:VEVENT
BEGIN:VEVENT
DTSTART;TZID=Europe/Helsinki:20180616T080000
DTEND;TZID=Europe/Helsinki:20180617T170000
DTSTAMP:20260425T173211
CREATED:20180308T101520Z
LAST-MODIFIED:20180308T101520Z
UID:56516-1529136000-1529254800@klassikauto.pl
SUMMARY:Retro Classic
DESCRIPTION:
URL:https://klassikauto.pl/impreza/retro-classic/
LOCATION:Ludwigsburg
END:VEVENT
BEGIN:VEVENT
DTSTART;TZID=Europe/Helsinki:20180616T100000
DTEND;TZID=Europe/Helsinki:20180616T200000
DTSTAMP:20260425T173211
CREATED:20180509T162543Z
LAST-MODIFIED:20180509T162543Z
UID:59938-1529143200-1529179200@klassikauto.pl
SUMMARY:V Zlot Mazowiecki Alfa Romeo
DESCRIPTION:
URL:https://klassikauto.pl/impreza/v-zlot-mazowiecki-alfa-romeo/
LOCATION:Strzyżew Parcele
END:VEVENT
BEGIN:VEVENT
DTSTART;TZID=Europe/Helsinki:20180617T080000
DTEND;TZID=Europe/Helsinki:20180623T170000
DTSTAMP:20260425T173211
CREATED:20180308T101611Z
LAST-MODIFIED:20180308T101611Z
UID:56519-1529222400-1529773200@klassikauto.pl
SUMMARY:The Paris-Amsterdam Rally
DESCRIPTION:
URL:https://klassikauto.pl/impreza/the-paris-amsterdam-rally/
END:VEVENT
BEGIN:VEVENT
DTSTART;TZID=Europe/Helsinki:20180620T080000
DTEND;TZID=Europe/Helsinki:20180620T170000
DTSTAMP:20260425T173211
CREATED:20180509T174128Z
LAST-MODIFIED:20180509T174150Z
UID:59987-1529481600-1529514000@klassikauto.pl
SUMMARY:aukcja - Klassische Automobile & Motorräder
DESCRIPTION:aukcja w Oldtimer Galerie Toffen
URL:https://klassikauto.pl/impreza/klassische-automobile-motorrader/
LOCATION:Toffen\, Szwajcaria
CATEGORIES:Aukcja
END:VEVENT
BEGIN:VEVENT
DTSTART;TZID=Europe/Helsinki:20180621T080000
DTEND;TZID=Europe/Helsinki:20180623T170000
DTSTAMP:20260425T173211
CREATED:20180308T101755Z
LAST-MODIFIED:20180308T101755Z
UID:56521-1529568000-1529773200@klassikauto.pl
SUMMARY:13. Donau Classic
DESCRIPTION:
URL:https://klassikauto.pl/impreza/13-donau-classic/
LOCATION:Ingolstadt
END:VEVENT
BEGIN:VEVENT
DTSTART;VALUE=DATE:20180622
DTEND;VALUE=DATE:20180623
DTSTAMP:20260425T173211
CREATED:20180308T101840Z
LAST-MODIFIED:20180308T101840Z
UID:56524-1529625600-1529711999@klassikauto.pl
SUMMARY:Ogólnopolski XXXVIII Caravaningowe Świętjanki
DESCRIPTION:
URL:https://klassikauto.pl/impreza/ogolnopolski-xxxviii-caravaningowe-swietjanki/
LOCATION:Miedziana Góra
END:VEVENT
BEGIN:VEVENT
DTSTART;VALUE=DATE:20180622
DTEND;VALUE=DATE:20180625
DTSTAMP:20260425T173211
CREATED:20180415T095843Z
LAST-MODIFIED:20180415T095843Z
UID:59293-1529625600-1529884799@klassikauto.pl
SUMMARY:VII Olsztyński Zlot Miłośników Pojazdów PRL
DESCRIPTION:
URL:https://klassikauto.pl/impreza/vii-olsztynski-zlot-milosnikow-pojazdow-prl/
LOCATION:Olsztyn
END:VEVENT
BEGIN:VEVENT
DTSTART;TZID=Europe/Helsinki:20180622T080000
DTEND;TZID=Europe/Helsinki:20180624T170000
DTSTAMP:20260425T173211
CREATED:20180308T101921Z
LAST-MODIFIED:20180308T101921Z
UID:56527-1529654400-1529859600@klassikauto.pl
SUMMARY:Zlot Żuka
DESCRIPTION:
URL:https://klassikauto.pl/impreza/zlot-zuka/
LOCATION:Duszniki
END:VEVENT
END:VCALENDAR
<!-- RunCloud Hub 2026-04-25 16:32:11 -->