BEGIN:VCALENDAR
VERSION:2.0
PRODID:-//KlassikAuto.pl - ECPv6.7.0//NONSGML v1.0//EN
CALSCALE:GREGORIAN
METHOD:PUBLISH
X-WR-CALNAME:KlassikAuto.pl
X-ORIGINAL-URL:https://klassikauto.pl
X-WR-CALDESC:Wydarzenia dla KlassikAuto.pl
REFRESH-INTERVAL;VALUE=DURATION:PT1H
X-Robots-Tag:noindex
X-PUBLISHED-TTL:PT1H
BEGIN:VTIMEZONE
TZID:Europe/Helsinki
BEGIN:DAYLIGHT
TZOFFSETFROM:+0200
TZOFFSETTO:+0300
TZNAME:EEST
DTSTART:20180325T010000
END:DAYLIGHT
BEGIN:STANDARD
TZOFFSETFROM:+0300
TZOFFSETTO:+0200
TZNAME:EET
DTSTART:20181028T010000
END:STANDARD
END:VTIMEZONE
BEGIN:VEVENT
DTSTART;VALUE=DATE:20180101
DTEND;VALUE=DATE:20180701
DTSTAMP:20260425T184002
CREATED:20180415T112652Z
LAST-MODIFIED:20180415T112652Z
UID:59320-1514764800-1530403199@klassikauto.pl
SUMMARY:Samochodem na wycieczkę i inne rozrywki lat 60-tych - wystawa
DESCRIPTION:Słoweńskie Muzeum Techniki\,  Bratysława
URL:https://klassikauto.pl/impreza/samochodem-na-wycieczke-i-inne-rozrywki-lat-60-tych-wystawa/
LOCATION:Bratysława\, Słowacja
END:VEVENT
BEGIN:VEVENT
DTSTART;VALUE=DATE:20180407
DTEND;VALUE=DATE:20180511
DTSTAMP:20260425T184002
CREATED:20180408T095705Z
LAST-MODIFIED:20180408T100411Z
UID:59215-1523059200-1525996799@klassikauto.pl
SUMMARY:100 lat motoryzacji w Polsce
DESCRIPTION:Wystawa na terenie: Muzeum Hutnictwa Cynku Walcownia w Katowicach
URL:https://klassikauto.pl/impreza/100-lat-motoryzacji-w-polsce/
LOCATION:Katowice
CATEGORIES:Wystawa
END:VEVENT
BEGIN:VEVENT
DTSTART;VALUE=DATE:20180501
DTEND;VALUE=DATE:20180502
DTSTAMP:20260425T184002
CREATED:20180308T080158Z
LAST-MODIFIED:20180308T080158Z
UID:56280-1525132800-1525219199@klassikauto.pl
SUMMARY:Trzebinia w PRL – Wystawa Pojazdów: Klasyki PRL
DESCRIPTION:
URL:https://klassikauto.pl/impreza/trzebinia-w-prl-wystawa-pojazdow-klasyki-prl/
END:VEVENT
BEGIN:VEVENT
DTSTART;TZID=Europe/Helsinki:20180501T090000
DTEND;TZID=Europe/Helsinki:20180501T180000
DTSTAMP:20260425T184002
CREATED:20180503T191242Z
LAST-MODIFIED:20180503T191242Z
UID:59745-1525165200-1525197600@klassikauto.pl
SUMMARY:American Show Cars Rybnik
DESCRIPTION:
URL:https://klassikauto.pl/impreza/american-show-cars-rybnik/
LOCATION:Rybnik
END:VEVENT
BEGIN:VEVENT
DTSTART;TZID=Europe/Helsinki:20180501T130000
DTEND;TZID=Europe/Helsinki:20180501T160000
DTSTAMP:20260425T184002
CREATED:20180503T191141Z
LAST-MODIFIED:20180503T191141Z
UID:59742-1525179600-1525190400@klassikauto.pl
SUMMARY:Classic Cars Miechów - Old'n'Show 2018
DESCRIPTION:
URL:https://klassikauto.pl/impreza/classic-cars-miechow-oldnshow-2018/
LOCATION:Miechów
END:VEVENT
BEGIN:VEVENT
DTSTART;TZID=Europe/Helsinki:20180501T160000
DTEND;TZID=Europe/Helsinki:20180501T200000
DTSTAMP:20260425T184002
CREATED:20180421T090937Z
LAST-MODIFIED:20180421T090937Z
UID:59462-1525190400-1525204800@klassikauto.pl
SUMMARY:Majówka z DMK
DESCRIPTION:Organizator: Działacze Morotyzacyjni Koziegłowy
URL:https://klassikauto.pl/impreza/majowka-z-dmk/
LOCATION:Koziegłowy
END:VEVENT
BEGIN:VEVENT
DTSTART;VALUE=DATE:20180502
DTEND;VALUE=DATE:20180504
DTSTAMP:20260425T184002
CREATED:20180402T141641Z
LAST-MODIFIED:20180402T141641Z
UID:59004-1525219200-1525391999@klassikauto.pl
SUMMARY:XVI Rajd Pojazdów Zabytkowych „Zamek SIMP w Rydzynie 2018”
DESCRIPTION:3 maja 2018 r. odbędzie się seminarium nt. Zabytkowej motoryzacji i gala na rynku w Lesznie.\n.
URL:https://klassikauto.pl/impreza/xvi-rajd-pojazdow-zabytkowych-zamek-simp-w-rydzynie-2018/
LOCATION:Rydzyna
END:VEVENT
BEGIN:VEVENT
DTSTART;TZID=Europe/Helsinki:20180502T113000
DTEND;TZID=Europe/Helsinki:20180502T200000
DTSTAMP:20260425T184002
CREATED:20180422T181857Z
LAST-MODIFIED:20180422T181857Z
UID:59503-1525260600-1525291200@klassikauto.pl
SUMMARY:100 cabrioletów na 100-lecie Odzyskania Niepodległości
DESCRIPTION:Parada z okazji Roku Jubileuszowego
URL:https://klassikauto.pl/impreza/100-cabrioletow-na-100-lecie-odzyskania-niepodleglosci/
LOCATION:Poznań
END:VEVENT
BEGIN:VEVENT
DTSTART;VALUE=DATE:20180503
DTEND;VALUE=DATE:20180507
DTSTAMP:20260425T184002
CREATED:20180415T120327Z
LAST-MODIFIED:20180415T120327Z
UID:59361-1525305600-1525651199@klassikauto.pl
SUMMARY:Pierwszy Ogólnopolski Zlot Figaro Klub Polska
DESCRIPTION:
URL:https://klassikauto.pl/impreza/pierwszy-ogolnopolski-zlot-figaro-klub-polska/
LOCATION:Pokrzywna\, Opolskie
END:VEVENT
BEGIN:VEVENT
DTSTART;TZID=Europe/Helsinki:20180503T080000
DTEND;TZID=Europe/Helsinki:20180505T170000
DTSTAMP:20260425T184002
CREATED:20180308T080250Z
LAST-MODIFIED:20180308T080250Z
UID:56282-1525334400-1525539600@klassikauto.pl
SUMMARY:Targa Florio\, Historic Rally Classic
DESCRIPTION:
URL:https://klassikauto.pl/impreza/targa-florio-historic-rally-classic/
LOCATION:Palermo
END:VEVENT
BEGIN:VEVENT
DTSTART;TZID=Europe/Helsinki:20180503T080000
DTEND;TZID=Europe/Helsinki:20180506T170000
DTSTAMP:20260425T184002
CREATED:20180308T080347Z
LAST-MODIFIED:20180308T080347Z
UID:56285-1525334400-1525626000@klassikauto.pl
SUMMARY:Zlot VX Garbusa
DESCRIPTION:
URL:https://klassikauto.pl/impreza/zlot-vx-garbusa/
LOCATION:Radzyń
END:VEVENT
BEGIN:VEVENT
DTSTART;TZID=Europe/Helsinki:20180503T080000
DTEND;TZID=Europe/Helsinki:20180506T170000
DTSTAMP:20260425T184002
CREATED:20180308T090042Z
LAST-MODIFIED:20180308T090042Z
UID:56288-1525334400-1525626000@klassikauto.pl
SUMMARY:XXV Zlot Opolski Klubu MB w201w124.com
DESCRIPTION:
URL:https://klassikauto.pl/impreza/xxv-zlot-opolski-klubu-mb-w201w124-com/
LOCATION:Prudnik
END:VEVENT
BEGIN:VEVENT
DTSTART;TZID=Europe/Helsinki:20180503T090000
DTEND;TZID=Europe/Helsinki:20180503T200000
DTSTAMP:20260425T184002
CREATED:20180415T120837Z
LAST-MODIFIED:20180415T120837Z
UID:59366-1525338000-1525377600@klassikauto.pl
SUMMARY:3 Wałbrzyski Rajd Rodzinny
DESCRIPTION:
URL:https://klassikauto.pl/impreza/3-walbrzyski-rajd-rodzinny/
LOCATION:Wałbrzych
END:VEVENT
BEGIN:VEVENT
DTSTART;TZID=Europe/Helsinki:20180503T110000
DTEND;TZID=Europe/Helsinki:20180503T190000
DTSTAMP:20260425T184002
CREATED:20180424T191517Z
LAST-MODIFIED:20180424T191517Z
UID:59555-1525345200-1525374000@klassikauto.pl
SUMMARY:Roztoczańskie Klasyki 2018
DESCRIPTION:
URL:https://klassikauto.pl/impreza/roztoczanskie-klasyki-2018/
LOCATION:Tomaszów Lubelski
END:VEVENT
BEGIN:VEVENT
DTSTART;TZID=Europe/Helsinki:20180503T160000
DTEND;TZID=Europe/Helsinki:20180506T110000
DTSTAMP:20260425T184002
CREATED:20180308T090216Z
LAST-MODIFIED:20180402T161017Z
UID:56291-1525363200-1525604400@klassikauto.pl
SUMMARY:II Rajd 94 Oktany 2018
DESCRIPTION:
URL:https://klassikauto.pl/impreza/ii-rajd-94-oktany-2018/
LOCATION:Pokrzywna\, Opolskie
END:VEVENT
BEGIN:VEVENT
DTSTART;TZID=Europe/Helsinki:20180503T233000
DTEND;TZID=Europe/Helsinki:20180503T233000
DTSTAMP:20260425T184002
CREATED:20180424T194357Z
LAST-MODIFIED:20180424T194357Z
UID:59588-1525390200-1525390200@klassikauto.pl
SUMMARY:VI Piknik Pod Kominem
DESCRIPTION:
URL:https://klassikauto.pl/impreza/vi-piknik-pod-kominem/
LOCATION:Jasło
END:VEVENT
BEGIN:VEVENT
DTSTART;VALUE=DATE:20180505
DTEND;VALUE=DATE:20180506
DTSTAMP:20260425T184002
CREATED:20180308T090850Z
LAST-MODIFIED:20180308T090850Z
UID:56299-1525478400-1525564799@klassikauto.pl
SUMMARY:IV Maluchowa Majówka- Zlot 126p w Łagowie
DESCRIPTION:
URL:https://klassikauto.pl/impreza/iv-maluchowa-majowka-zlot-126p-w-lagowie/
LOCATION:Łagów
END:VEVENT
BEGIN:VEVENT
DTSTART;VALUE=DATE:20180505
DTEND;VALUE=DATE:20180506
DTSTAMP:20260425T184002
CREATED:20180308T090938Z
LAST-MODIFIED:20180308T090938Z
UID:56302-1525478400-1525564799@klassikauto.pl
SUMMARY:Klasyczna Gorlicka Majówka 2018
DESCRIPTION:
URL:https://klassikauto.pl/impreza/klasyczna-gorlicka-majowka-2018/
LOCATION:Gorlice
END:VEVENT
BEGIN:VEVENT
DTSTART;TZID=Europe/Helsinki:20180505T080000
DTEND;TZID=Europe/Helsinki:20180506T170000
DTSTAMP:20260425T184002
CREATED:20180308T090328Z
LAST-MODIFIED:20180308T090328Z
UID:56294-1525507200-1525626000@klassikauto.pl
SUMMARY:Technorama Ulm
DESCRIPTION:www.messen.de/de/159/ulm/technorama-ulm/info
URL:https://klassikauto.pl/impreza/technorama-ulm/
LOCATION:Niemcy
END:VEVENT
BEGIN:VEVENT
DTSTART;TZID=Europe/Helsinki:20180505T080000
DTEND;TZID=Europe/Helsinki:20180701T170000
DTSTAMP:20260425T184002
CREATED:20180308T090424Z
LAST-MODIFIED:20180308T090446Z
UID:56296-1525507200-1530464400@klassikauto.pl
SUMMARY:Wystawa – The Belgians at Le Mans\, Muzeum Autoworld
DESCRIPTION:
URL:https://klassikauto.pl/impreza/wystawa-the-belgians-at-le-mans-muzeum-autoworld/
LOCATION:Belgia
END:VEVENT
BEGIN:VEVENT
DTSTART;TZID=Europe/Helsinki:20180505T150000
DTEND;TZID=Europe/Helsinki:20180505T180000
DTSTAMP:20260425T184002
CREATED:20180503T190759Z
LAST-MODIFIED:20180503T190759Z
UID:59740-1525532400-1525543200@klassikauto.pl
SUMMARY:Moto Party Grill w RMC!
DESCRIPTION:
URL:https://klassikauto.pl/impreza/moto-party-grill-w-rmc/
LOCATION:Tychy
END:VEVENT
BEGIN:VEVENT
DTSTART;TZID=Europe/Helsinki:20180505T160000
DTEND;TZID=Europe/Helsinki:20180505T220000
DTSTAMP:20260425T184002
CREATED:20180501T055223Z
LAST-MODIFIED:20180501T055223Z
UID:59658-1525536000-1525557600@klassikauto.pl
SUMMARY:Otwarcie Sezonu Automobilklubu Krakowskiego
DESCRIPTION:
URL:https://klassikauto.pl/impreza/otwarcie-sezonu-automobilklubu-krakowskiego/
LOCATION:Kraków
END:VEVENT
BEGIN:VEVENT
DTSTART;TZID=Europe/Helsinki:20180506T080000
DTEND;TZID=Europe/Helsinki:20180515T170000
DTSTAMP:20260425T184002
CREATED:20180308T091019Z
LAST-MODIFIED:20180308T091019Z
UID:56305-1525593600-1526403600@klassikauto.pl
SUMMARY:Rajd Korsyki
DESCRIPTION:
URL:https://klassikauto.pl/impreza/rajd-korsyki/
END:VEVENT
BEGIN:VEVENT
DTSTART;TZID=Europe/Helsinki:20180506T090000
DTEND;TZID=Europe/Helsinki:20180506T130000
DTSTAMP:20260425T184002
CREATED:20180424T191300Z
LAST-MODIFIED:20180424T191300Z
UID:59553-1525597200-1525611600@klassikauto.pl
SUMMARY:Klasyczne Zakończenie Majówki
DESCRIPTION:
URL:https://klassikauto.pl/impreza/klasyczne-zakonczenie-majowki/
LOCATION:Będzin
END:VEVENT
BEGIN:VEVENT
DTSTART;VALUE=DATE:20180508
DTEND;VALUE=DATE:20180509
DTSTAMP:20260425T184002
CREATED:20180308T091151Z
LAST-MODIFIED:20180308T091151Z
UID:56307-1525737600-1525823999@klassikauto.pl
SUMMARY:XIII. ročník \,\,Stopou slánského Oriona”
DESCRIPTION:
URL:https://klassikauto.pl/impreza/xiii-rocnik-stopou-slanskeho-oriona/
LOCATION:Czechy
END:VEVENT
BEGIN:VEVENT
DTSTART;TZID=Europe/Helsinki:20180509T080000
DTEND;TZID=Europe/Helsinki:20180509T170000
DTSTAMP:20260425T184002
CREATED:20180509T175605Z
LAST-MODIFIED:20180509T175605Z
UID:59998-1525852800-1525885200@klassikauto.pl
SUMMARY:Autumn Auction
DESCRIPTION:Automobilia Ladenburg\nMarcel Seidel Auctions
URL:https://klassikauto.pl/impreza/autumn-auction/
LOCATION:Ladenburg\, Niemcy
END:VEVENT
BEGIN:VEVENT
DTSTART;TZID=Europe/Helsinki:20180510T080000
DTEND;TZID=Europe/Helsinki:20180512T170000
DTSTAMP:20260425T184002
CREATED:20180308T091259Z
LAST-MODIFIED:20180309T182758Z
UID:56309-1525939200-1526144400@klassikauto.pl
SUMMARY:Aukcja – Auburn Spring\, Auburn Auction Park
DESCRIPTION:
URL:https://klassikauto.pl/impreza/aukcja-auburn-spring-auburn-auction-park/
LOCATION:Auburn\, Indiana
CATEGORIES:Aukcja
END:VEVENT
BEGIN:VEVENT
DTSTART;TZID=Europe/Helsinki:20180510T080000
DTEND;TZID=Europe/Helsinki:20180513T170000
DTSTAMP:20260425T184002
CREATED:20180308T091355Z
LAST-MODIFIED:20180308T091355Z
UID:56312-1525939200-1526230800@klassikauto.pl
SUMMARY:Arabella Classics
DESCRIPTION:
URL:https://klassikauto.pl/impreza/arabella-classics/
LOCATION:Salzburg
END:VEVENT
BEGIN:VEVENT
DTSTART;TZID=Europe/Helsinki:20180510T080000
DTEND;TZID=Europe/Helsinki:20180513T170000
DTSTAMP:20260425T184002
CREATED:20180308T091429Z
LAST-MODIFIED:20180308T091429Z
UID:56315-1525939200-1526230800@klassikauto.pl
SUMMARY:35. HMSC Oldtimerrallye
DESCRIPTION:
URL:https://klassikauto.pl/impreza/35-hmsc-oldtimerrallye/
LOCATION:Wiesbaden
END:VEVENT
BEGIN:VEVENT
DTSTART;TZID=Europe/Helsinki:20180510T080000
DTEND;TZID=Europe/Helsinki:20180513T170000
DTSTAMP:20260425T184002
CREATED:20180308T091512Z
LAST-MODIFIED:20180308T091512Z
UID:56318-1525939200-1526230800@klassikauto.pl
SUMMARY:Youngtimer Trophy 2018\, ADAC 24h Rennen Nürburgring
DESCRIPTION:
URL:https://klassikauto.pl/impreza/youngtimer-trophy-2018-adac-24h-rennen-nurburgring/
LOCATION:Niemcy
END:VEVENT
END:VCALENDAR
<!-- RunCloud Hub 2026-04-25 17:40:02 -->