BEGIN:VCALENDAR
VERSION:2.0
PRODID:-//KlassikAuto.pl - ECPv6.7.0//NONSGML v1.0//EN
CALSCALE:GREGORIAN
METHOD:PUBLISH
X-ORIGINAL-URL:https://klassikauto.pl
X-WR-CALDESC:Wydarzenia dla KlassikAuto.pl
REFRESH-INTERVAL;VALUE=DURATION:PT1H
X-Robots-Tag:noindex
X-PUBLISHED-TTL:PT1H
BEGIN:VTIMEZONE
TZID:Europe/Helsinki
BEGIN:DAYLIGHT
TZOFFSETFROM:+0200
TZOFFSETTO:+0300
TZNAME:EEST
DTSTART:20260329T010000
END:DAYLIGHT
BEGIN:STANDARD
TZOFFSETFROM:+0300
TZOFFSETTO:+0200
TZNAME:EET
DTSTART:20261025T010000
END:STANDARD
END:VTIMEZONE
BEGIN:VEVENT
DTSTART;VALUE=DATE:20261012
DTEND;VALUE=DATE:20261019
DTSTAMP:20260422T023348
CREATED:20260207T172026Z
LAST-MODIFIED:20260207T172026Z
UID:114345-1791763200-1792367999@klassikauto.pl
SUMMARY:Mondial de l'Auto 2026
DESCRIPTION:
URL:https://klassikauto.pl/impreza/mondial-de-lauto-2026/
LOCATION:Paryż
CATEGORIES:Targi
END:VEVENT
BEGIN:VEVENT
DTSTART;TZID=Europe/Helsinki:20261015T100000
DTEND;TZID=Europe/Helsinki:20261018T160000
DTSTAMP:20260422T023348
CREATED:20260207T173450Z
LAST-MODIFIED:20260207T173450Z
UID:114355-1792058400-1792339200@klassikauto.pl
SUMMARY:Caravans Salon Poland 2026
DESCRIPTION:
URL:https://klassikauto.pl/impreza/caravans-salon-poland-2026/
LOCATION:Poznań
CATEGORIES:Targi
END:VEVENT
END:VCALENDAR
<!-- RunCloud Hub 2026-04-22 01:33:48 -->