BEGIN:VCALENDAR
VERSION:2.0
PRODID:-//KlassikAuto.pl - ECPv6.7.0//NONSGML v1.0//EN
CALSCALE:GREGORIAN
METHOD:PUBLISH
X-ORIGINAL-URL:https://klassikauto.pl
X-WR-CALDESC:Wydarzenia dla KlassikAuto.pl
REFRESH-INTERVAL;VALUE=DURATION:PT1H
X-Robots-Tag:noindex
X-PUBLISHED-TTL:PT1H
BEGIN:VTIMEZONE
TZID:Europe/Helsinki
BEGIN:DAYLIGHT
TZOFFSETFROM:+0200
TZOFFSETTO:+0300
TZNAME:EEST
DTSTART:20260329T010000
END:DAYLIGHT
BEGIN:STANDARD
TZOFFSETFROM:+0300
TZOFFSETTO:+0200
TZNAME:EET
DTSTART:20261025T010000
END:STANDARD
END:VTIMEZONE
BEGIN:VEVENT
DTSTART;TZID=Europe/Helsinki:20260424T080000
DTEND;TZID=Europe/Helsinki:20260621T170000
DTSTAMP:20260421T173847
CREATED:20260208T131638Z
LAST-MODIFIED:20260208T131638Z
UID:114521-1777017600-1782061200@klassikauto.pl
SUMMARY:Aston Martin – elegance in motion
DESCRIPTION:
URL:https://klassikauto.pl/impreza/aston-martin-elegance-in-motion/
LOCATION:Muzeum Autoworld\, Bruksela\, Belgia
CATEGORIES:Wystawa
END:VEVENT
BEGIN:VEVENT
DTSTART;TZID=Europe/Helsinki:20260429T073000
DTEND;TZID=Europe/Helsinki:20260830T180000
DTSTAMP:20260421T173847
CREATED:20251227T161023Z
LAST-MODIFIED:20251227T161023Z
UID:113884-1777447800-1788112800@klassikauto.pl
SUMMARY:Ducati Day Assen 2026
DESCRIPTION:
URL:https://klassikauto.pl/impreza/ducati-day-assen-2026/
LOCATION:Assen\, Holandia
CATEGORIES:Zlot
END:VEVENT
BEGIN:VEVENT
DTSTART;TZID=Europe/Helsinki:20260613T080000
DTEND;TZID=Europe/Helsinki:20260620T170000
DTSTAMP:20260421T173847
CREATED:20251227T084954Z
LAST-MODIFIED:20251227T084954Z
UID:113847-1781337600-1781974800@klassikauto.pl
SUMMARY:Viking Sun 2026
DESCRIPTION:
URL:https://klassikauto.pl/impreza/viking-sun-2026/
LOCATION:Hamburg\, Niemcy
CATEGORIES:Rajd
END:VEVENT
BEGIN:VEVENT
DTSTART;TZID=Europe/Helsinki:20260613T080000
DTEND;TZID=Europe/Helsinki:20260628T170000
DTSTAMP:20260421T173847
CREATED:20251227T084728Z
LAST-MODIFIED:20251227T084728Z
UID:113845-1781337600-1782666000@klassikauto.pl
SUMMARY:Baltic Sea Circle 2026
DESCRIPTION:
URL:https://klassikauto.pl/impreza/baltic-sea-circle-2026/
LOCATION:Hamburg\, Niemcy
CATEGORIES:Rajd
END:VEVENT
BEGIN:VEVENT
DTSTART;TZID=Europe/Helsinki:20260619T080000
DTEND;TZID=Europe/Helsinki:20260621T170000
DTSTAMP:20260421T173847
CREATED:20260208T120524Z
LAST-MODIFIED:20260208T123448Z
UID:114495-1781856000-1782061200@klassikauto.pl
SUMMARY:American Cars Mania - XIII Międzynarodowy Zlot Pojazdów Amerykańskich
DESCRIPTION:
URL:https://klassikauto.pl/impreza/american-cars-mania-xiii-miedzynarodowy-zlot-pojazdow-amerykanskich/
LOCATION:Katowice
CATEGORIES:Zlot
END:VEVENT
BEGIN:VEVENT
DTSTART;TZID=Europe/Helsinki:20260619T180000
DTEND;TZID=Europe/Helsinki:20260621T100000
DTSTAMP:20260421T173847
CREATED:20260329T110552Z
LAST-MODIFIED:20260329T110552Z
UID:115794-1781892000-1782036000@klassikauto.pl
SUMMARY:Międzynarodowe spotkanie miłośników Alfa Romeo
DESCRIPTION:
URL:https://klassikauto.pl/impreza/miedzynarodowe-spotkanie-milosnikow-alfa-romeo/
LOCATION:Horní Bečva\, Czechy
CATEGORIES:Zlot
END:VEVENT
BEGIN:VEVENT
DTSTART;VALUE=DATE:20260620
DTEND;VALUE=DATE:20260622
DTSTAMP:20260421T173847
CREATED:20251227T073500Z
LAST-MODIFIED:20251227T073500Z
UID:113827-1781913600-1782086399@klassikauto.pl
SUMMARY:ACA Classic Auction
DESCRIPTION:
URL:https://klassikauto.pl/impreza/aca-classic-auction-8/
LOCATION:King’s Lynn\, Wielka Brytania
CATEGORIES:Aukcja
END:VEVENT
BEGIN:VEVENT
DTSTART;TZID=Europe/Helsinki:20260620T120000
DTEND;TZID=Europe/Helsinki:20260620T120000
DTSTAMP:20260421T173847
CREATED:20260307T065219Z
LAST-MODIFIED:20260307T065231Z
UID:115057-1781956800-1781956800@klassikauto.pl
SUMMARY:9. Zlot Pojazdów Zabytkowych i Motocykli ODJAZD\, 104. Rocznica Wyścigów Samochodowych i Motocykli 2026
DESCRIPTION:
URL:https://klassikauto.pl/impreza/9-zlot-pojazdow-zabytkowych-i-motocykli-odjazd-104-rocznica-wyscigow-samochodowych-i-motocykli-2026/
LOCATION:Marki
CATEGORIES:Zlot
END:VEVENT
BEGIN:VEVENT
DTSTART;TZID=Europe/Helsinki:20260620T150000
DTEND;TZID=Europe/Helsinki:20260620T170000
DTSTAMP:20260421T173847
CREATED:20260325T183710Z
LAST-MODIFIED:20260325T183710Z
UID:115615-1781967600-1781974800@klassikauto.pl
SUMMARY:XI Merc Integra
DESCRIPTION:
URL:https://klassikauto.pl/impreza/xi-merc-integra/
LOCATION:Serock
CATEGORIES:Zlot
END:VEVENT
END:VCALENDAR
<!-- RunCloud Hub 2026-04-21 16:38:47 -->