BEGIN:VCALENDAR
VERSION:2.0
PRODID:-//KlassikAuto.pl - ECPv6.7.0//NONSGML v1.0//EN
CALSCALE:GREGORIAN
METHOD:PUBLISH
X-WR-CALNAME:KlassikAuto.pl
X-ORIGINAL-URL:https://klassikauto.pl
X-WR-CALDESC:Wydarzenia dla KlassikAuto.pl
REFRESH-INTERVAL;VALUE=DURATION:PT1H
X-Robots-Tag:noindex
X-PUBLISHED-TTL:PT1H
BEGIN:VTIMEZONE
TZID:Europe/Helsinki
BEGIN:DAYLIGHT
TZOFFSETFROM:+0200
TZOFFSETTO:+0300
TZNAME:EEST
DTSTART:20260329T010000
END:DAYLIGHT
BEGIN:STANDARD
TZOFFSETFROM:+0300
TZOFFSETTO:+0200
TZNAME:EET
DTSTART:20261025T010000
END:STANDARD
END:VTIMEZONE
BEGIN:VEVENT
DTSTART;TZID=Europe/Helsinki:20260424T080000
DTEND;TZID=Europe/Helsinki:20260621T170000
DTSTAMP:20260421T173841
CREATED:20260208T131638Z
LAST-MODIFIED:20260208T131638Z
UID:114521-1777017600-1782061200@klassikauto.pl
SUMMARY:Aston Martin – elegance in motion
DESCRIPTION:
URL:https://klassikauto.pl/impreza/aston-martin-elegance-in-motion/
LOCATION:Muzeum Autoworld\, Bruksela\, Belgia
CATEGORIES:Wystawa
END:VEVENT
BEGIN:VEVENT
DTSTART;TZID=Europe/Helsinki:20260429T073000
DTEND;TZID=Europe/Helsinki:20260830T180000
DTSTAMP:20260421T173841
CREATED:20251227T161023Z
LAST-MODIFIED:20251227T161023Z
UID:113884-1777447800-1788112800@klassikauto.pl
SUMMARY:Ducati Day Assen 2026
DESCRIPTION:
URL:https://klassikauto.pl/impreza/ducati-day-assen-2026/
LOCATION:Assen\, Holandia
CATEGORIES:Zlot
END:VEVENT
BEGIN:VEVENT
DTSTART;VALUE=DATE:20260609
DTEND;VALUE=DATE:20260614
DTSTAMP:20260421T173841
CREATED:20251227T171201Z
LAST-MODIFIED:20251227T171201Z
UID:113925-1780963200-1781395199@klassikauto.pl
SUMMARY:1000 Miglia 2026
DESCRIPTION:
URL:https://klassikauto.pl/impreza/1000-miglia-2026/
LOCATION:Brescia\, Włochy
CATEGORIES:Rajd
END:VEVENT
BEGIN:VEVENT
DTSTART;TZID=Europe/Helsinki:20260613T080000
DTEND;TZID=Europe/Helsinki:20260613T180000
DTSTAMP:20260421T173841
CREATED:20260308T094430Z
LAST-MODIFIED:20260308T094430Z
UID:115233-1781337600-1781373600@klassikauto.pl
SUMMARY:V Memoriał inż. Tadeusza Tańskiego
DESCRIPTION:
URL:https://klassikauto.pl/impreza/v-memorial-inz-tadeusza-tanskiego/
LOCATION:Nowy Sącz
CATEGORIES:Rajd
END:VEVENT
BEGIN:VEVENT
DTSTART;TZID=Europe/Helsinki:20260613T080000
DTEND;TZID=Europe/Helsinki:20260620T170000
DTSTAMP:20260421T173841
CREATED:20251227T084954Z
LAST-MODIFIED:20251227T084954Z
UID:113847-1781337600-1781974800@klassikauto.pl
SUMMARY:Viking Sun 2026
DESCRIPTION:
URL:https://klassikauto.pl/impreza/viking-sun-2026/
LOCATION:Hamburg\, Niemcy
CATEGORIES:Rajd
END:VEVENT
BEGIN:VEVENT
DTSTART;TZID=Europe/Helsinki:20260613T080000
DTEND;TZID=Europe/Helsinki:20260628T170000
DTSTAMP:20260421T173841
CREATED:20251227T084728Z
LAST-MODIFIED:20251227T084728Z
UID:113845-1781337600-1782666000@klassikauto.pl
SUMMARY:Baltic Sea Circle 2026
DESCRIPTION:
URL:https://klassikauto.pl/impreza/baltic-sea-circle-2026/
LOCATION:Hamburg\, Niemcy
CATEGORIES:Rajd
END:VEVENT
BEGIN:VEVENT
DTSTART;TZID=Europe/Helsinki:20260613T130000
DTEND;TZID=Europe/Helsinki:20260613T130000
DTSTAMP:20260421T173841
CREATED:20251214T202205Z
LAST-MODIFIED:20251214T202205Z
UID:113657-1781355600-1781355600@klassikauto.pl
SUMMARY:IV Rogoziński Zlot Motoryzacyjny
DESCRIPTION:
URL:https://klassikauto.pl/impreza/iv-rogozinski-zlot-motoryzacyjny/
LOCATION:Garbatka
CATEGORIES:Zlot
END:VEVENT
END:VCALENDAR
<!-- RunCloud Hub 2026-04-21 16:38:41 -->