BEGIN:VCALENDAR
VERSION:2.0
PRODID:-//KlassikAuto.pl - ECPv6.7.0//NONSGML v1.0//EN
CALSCALE:GREGORIAN
METHOD:PUBLISH
X-ORIGINAL-URL:https://klassikauto.pl
X-WR-CALDESC:Wydarzenia dla KlassikAuto.pl
REFRESH-INTERVAL;VALUE=DURATION:PT1H
X-Robots-Tag:noindex
X-PUBLISHED-TTL:PT1H
BEGIN:VTIMEZONE
TZID:Europe/Helsinki
BEGIN:DAYLIGHT
TZOFFSETFROM:+0200
TZOFFSETTO:+0300
TZNAME:EEST
DTSTART:20260329T010000
END:DAYLIGHT
BEGIN:STANDARD
TZOFFSETFROM:+0300
TZOFFSETTO:+0200
TZNAME:EET
DTSTART:20261025T010000
END:STANDARD
END:VTIMEZONE
BEGIN:VEVENT
DTSTART;TZID=Europe/Helsinki:20260424T080000
DTEND;TZID=Europe/Helsinki:20260621T170000
DTSTAMP:20260421T151457
CREATED:20260208T131638Z
LAST-MODIFIED:20260208T131638Z
UID:114521-1777017600-1782061200@klassikauto.pl
SUMMARY:Aston Martin – elegance in motion
DESCRIPTION:
URL:https://klassikauto.pl/impreza/aston-martin-elegance-in-motion/
LOCATION:Muzeum Autoworld\, Bruksela\, Belgia
CATEGORIES:Wystawa
END:VEVENT
BEGIN:VEVENT
DTSTART;TZID=Europe/Helsinki:20260429T073000
DTEND;TZID=Europe/Helsinki:20260830T180000
DTSTAMP:20260421T151457
CREATED:20251227T161023Z
LAST-MODIFIED:20251227T161023Z
UID:113884-1777447800-1788112800@klassikauto.pl
SUMMARY:Ducati Day Assen 2026
DESCRIPTION:
URL:https://klassikauto.pl/impreza/ducati-day-assen-2026/
LOCATION:Assen\, Holandia
CATEGORIES:Zlot
END:VEVENT
BEGIN:VEVENT
DTSTART;VALUE=DATE:20260528
DTEND;VALUE=DATE:20260601
DTSTAMP:20260421T151457
CREATED:20251227T171843Z
LAST-MODIFIED:20251227T171843Z
UID:113929-1779926400-1780271999@klassikauto.pl
SUMMARY:1000 Miglia Warm Up Switzerland 2026
DESCRIPTION:
URL:https://klassikauto.pl/impreza/1000-miglia-warm-up-switzerland-2026/
LOCATION:Schaffhausen\, Szwajcaria
CATEGORIES:Rajd
END:VEVENT
BEGIN:VEVENT
DTSTART;TZID=Europe/Helsinki:20260528T080000
DTEND;TZID=Europe/Helsinki:20260601T170000
DTSTAMP:20260421T151457
CREATED:20250426T165832Z
LAST-MODIFIED:20250426T165832Z
UID:109872-1779955200-1780333200@klassikauto.pl
SUMMARY:International Mini Meeting 2026
DESCRIPTION:
URL:https://klassikauto.pl/impreza/international-mini-meeting-2026/
LOCATION:Leszno
CATEGORIES:Zlot
END:VEVENT
BEGIN:VEVENT
DTSTART;TZID=Europe/Helsinki:20260529T120000
DTEND;TZID=Europe/Helsinki:20260531T170000
DTSTAMP:20260421T151457
CREATED:20260307T071317Z
LAST-MODIFIED:20260307T071317Z
UID:115077-1780056000-1780246800@klassikauto.pl
SUMMARY:CHROM & PLAMENY na Legendach
DESCRIPTION:
URL:https://klassikauto.pl/impreza/chrom-plameny-na-legendach/
LOCATION:Praga\, Czechy
CATEGORIES:Zlot
END:VEVENT
BEGIN:VEVENT
DTSTART;VALUE=DATE:20260530
DTEND;VALUE=DATE:20260601
DTSTAMP:20260421T151457
CREATED:20260208T111646Z
LAST-MODIFIED:20260208T111646Z
UID:114469-1780099200-1780271999@klassikauto.pl
SUMMARY:Technorama
DESCRIPTION:
URL:https://klassikauto.pl/impreza/technorama-11/
LOCATION:Hildesheim
CATEGORIES:Aukcja
END:VEVENT
BEGIN:VEVENT
DTSTART;VALUE=DATE:20260530
DTEND;VALUE=DATE:20260606
DTSTAMP:20260421T151457
CREATED:20260208T104302Z
LAST-MODIFIED:20260208T104302Z
UID:114445-1780099200-1780703999@klassikauto.pl
SUMMARY:III Gruz Rally Albania
DESCRIPTION:
URL:https://klassikauto.pl/impreza/iii-gruz-rally-albania/
CATEGORIES:Rajd
END:VEVENT
BEGIN:VEVENT
DTSTART;TZID=Europe/Helsinki:20260531T090000
DTEND;TZID=Europe/Helsinki:20260531T170000
DTSTAMP:20260421T151457
CREATED:20260329T110809Z
LAST-MODIFIED:20260329T110809Z
UID:115796-1780218000-1780246800@klassikauto.pl
SUMMARY:Florida Motorfest 2026
DESCRIPTION:
URL:https://klassikauto.pl/impreza/florida-motorfest-2026/
LOCATION:Piaseczno
CATEGORIES:Zlot
END:VEVENT
BEGIN:VEVENT
DTSTART;TZID=Europe/Helsinki:20260531T120000
DTEND;TZID=Europe/Helsinki:20260531T200000
DTSTAMP:20260421T151457
CREATED:20260329T105304Z
LAST-MODIFIED:20260329T105304Z
UID:115786-1780228800-1780257600@klassikauto.pl
SUMMARY:MotoMeeting Kraków 2026
DESCRIPTION:
URL:https://klassikauto.pl/impreza/motomeeting-krakow-2026/
LOCATION:Kraków
CATEGORIES:Zlot
END:VEVENT
END:VCALENDAR
<!-- RunCloud Hub 2026-04-21 14:14:57 -->