BEGIN:VCALENDAR
VERSION:2.0
PRODID:-//KlassikAuto.pl - ECPv6.7.0//NONSGML v1.0//EN
CALSCALE:GREGORIAN
METHOD:PUBLISH
X-ORIGINAL-URL:https://klassikauto.pl
X-WR-CALDESC:Wydarzenia dla KlassikAuto.pl
REFRESH-INTERVAL;VALUE=DURATION:PT1H
X-Robots-Tag:noindex
X-PUBLISHED-TTL:PT1H
BEGIN:VTIMEZONE
TZID:Europe/Helsinki
BEGIN:DAYLIGHT
TZOFFSETFROM:+0200
TZOFFSETTO:+0300
TZNAME:EEST
DTSTART:20260329T010000
END:DAYLIGHT
BEGIN:STANDARD
TZOFFSETFROM:+0300
TZOFFSETTO:+0200
TZNAME:EET
DTSTART:20261025T010000
END:STANDARD
END:VTIMEZONE
BEGIN:VEVENT
DTSTART;TZID=Europe/Helsinki:20260424T080000
DTEND;TZID=Europe/Helsinki:20260621T170000
DTSTAMP:20260421T134731
CREATED:20260208T131638Z
LAST-MODIFIED:20260208T131638Z
UID:114521-1777017600-1782061200@klassikauto.pl
SUMMARY:Aston Martin – elegance in motion
DESCRIPTION:
URL:https://klassikauto.pl/impreza/aston-martin-elegance-in-motion/
LOCATION:Muzeum Autoworld\, Bruksela\, Belgia
CATEGORIES:Wystawa
END:VEVENT
BEGIN:VEVENT
DTSTART;VALUE=DATE:20260427
DTEND;VALUE=DATE:20260504
DTSTAMP:20260421T134731
CREATED:20260308T094642Z
LAST-MODIFIED:20260308T094642Z
UID:115235-1777248000-1777852799@klassikauto.pl
SUMMARY:Staropolski Rajd edycja IV - Między Traktem a Brodem
DESCRIPTION:
URL:https://klassikauto.pl/impreza/staropolski-rajd-edycja-iv-miedzy-traktem-a-brodem/
LOCATION:Wąchock
CATEGORIES:Rajd
END:VEVENT
BEGIN:VEVENT
DTSTART;TZID=Europe/Helsinki:20260429T073000
DTEND;TZID=Europe/Helsinki:20260830T180000
DTSTAMP:20260421T134731
CREATED:20251227T161023Z
LAST-MODIFIED:20251227T161023Z
UID:113884-1777447800-1788112800@klassikauto.pl
SUMMARY:Ducati Day Assen 2026
DESCRIPTION:
URL:https://klassikauto.pl/impreza/ducati-day-assen-2026/
LOCATION:Assen\, Holandia
CATEGORIES:Zlot
END:VEVENT
BEGIN:VEVENT
DTSTART;VALUE=DATE:20260430
DTEND;VALUE=DATE:20260504
DTSTAMP:20260421T134731
CREATED:20260208T104131Z
LAST-MODIFIED:20260208T104131Z
UID:114442-1777507200-1777852799@klassikauto.pl
SUMMARY:SKUTERMENI! Zlot i Majówka GruzRally na Roztoczu
DESCRIPTION:
URL:https://klassikauto.pl/impreza/skutermeni-zlot-i-majowka-gruzrally-na-roztoczu/
LOCATION:Radomyśl
CATEGORIES:Rajd
END:VEVENT
BEGIN:VEVENT
DTSTART;VALUE=DATE:20260502
DTEND;VALUE=DATE:20260504
DTSTAMP:20260421T134731
CREATED:20260208T111542Z
LAST-MODIFIED:20260208T111542Z
UID:114467-1777680000-1777852799@klassikauto.pl
SUMMARY:Technorama
DESCRIPTION:
URL:https://klassikauto.pl/impreza/technorama-10/
LOCATION:Ulm
CATEGORIES:Aukcja
END:VEVENT
BEGIN:VEVENT
DTSTART;TZID=Europe/Helsinki:20260503T110000
DTEND;TZID=Europe/Helsinki:20260503T110000
DTSTAMP:20260421T134731
CREATED:20260307T070225Z
LAST-MODIFIED:20260307T070225Z
UID:115068-1777806000-1777806000@klassikauto.pl
SUMMARY:V Rozpoczęcie Sezonu Motocyklowego
DESCRIPTION:
URL:https://klassikauto.pl/impreza/v-rozpoczecie-sezonu-motocyklowego/
LOCATION:Siemiatycze
CATEGORIES:Zlot
END:VEVENT
END:VCALENDAR
<!-- RunCloud Hub 2026-04-21 12:47:31 -->