BEGIN:VCALENDAR
VERSION:2.0
PRODID:-//KlassikAuto.pl - ECPv6.7.0//NONSGML v1.0//EN
CALSCALE:GREGORIAN
METHOD:PUBLISH
X-ORIGINAL-URL:https://klassikauto.pl
X-WR-CALDESC:Wydarzenia dla KlassikAuto.pl
REFRESH-INTERVAL;VALUE=DURATION:PT1H
X-Robots-Tag:noindex
X-PUBLISHED-TTL:PT1H
BEGIN:VTIMEZONE
TZID:Europe/Helsinki
BEGIN:DAYLIGHT
TZOFFSETFROM:+0200
TZOFFSETTO:+0300
TZNAME:EEST
DTSTART:20260329T010000
END:DAYLIGHT
BEGIN:STANDARD
TZOFFSETFROM:+0300
TZOFFSETTO:+0200
TZNAME:EET
DTSTART:20261025T010000
END:STANDARD
END:VTIMEZONE
BEGIN:VEVENT
DTSTART;VALUE=DATE:20260423
DTEND;VALUE=DATE:20260426
DTSTAMP:20260421T134712
CREATED:20260325T172355Z
LAST-MODIFIED:20260325T172355Z
UID:115569-1776902400-1777161599@klassikauto.pl
SUMMARY:54. Rajd Świdnicki
DESCRIPTION:
URL:https://klassikauto.pl/impreza/54-rajd-swidnicki/
LOCATION:Świdnica
CATEGORIES:Rajd
END:VEVENT
BEGIN:VEVENT
DTSTART;VALUE=DATE:20260424
DTEND;VALUE=DATE:20260426
DTSTAMP:20260421T134712
CREATED:20260208T115011Z
LAST-MODIFIED:20260208T115011Z
UID:114487-1776988800-1777161599@klassikauto.pl
SUMMARY:Baden Classic 2026
DESCRIPTION:
URL:https://klassikauto.pl/impreza/baden-classic-2026-2/
LOCATION:Gaggenau\, Niemcy
CATEGORIES:Rajd
END:VEVENT
BEGIN:VEVENT
DTSTART;VALUE=DATE:20260424
DTEND;VALUE=DATE:20260427
DTSTAMP:20260421T134712
CREATED:20260207T170237Z
LAST-MODIFIED:20260207T170237Z
UID:114333-1776988800-1777247999@klassikauto.pl
SUMMARY:Camper & Caravan Show 2026
DESCRIPTION:11. Międzynarodowe Targi Caravaningowe
URL:https://klassikauto.pl/impreza/camper-caravan-show-2026/
LOCATION:Warszawa
CATEGORIES:Targi
END:VEVENT
BEGIN:VEVENT
DTSTART;VALUE=DATE:20260424
DTEND;VALUE=DATE:20260427
DTSTAMP:20260421T134712
CREATED:20260207T184317Z
LAST-MODIFIED:20260207T184317Z
UID:114382-1776988800-1777247999@klassikauto.pl
SUMMARY:Veterama Hockenheim
DESCRIPTION:
URL:https://klassikauto.pl/impreza/veterama-hockenheim/
LOCATION:Hockenheim\, Germany
CATEGORIES:Aukcja,Giełda
END:VEVENT
BEGIN:VEVENT
DTSTART;VALUE=DATE:20260424
DTEND;VALUE=DATE:20260427
DTSTAMP:20260421T134712
CREATED:20260322T150639Z
LAST-MODIFIED:20260322T150639Z
UID:115527-1776988800-1777247999@klassikauto.pl
SUMMARY:Rüssel Truck Show 2026
DESCRIPTION:
URL:https://klassikauto.pl/impreza/russel-truck-show-2026/
LOCATION:Lohfelden\, Niemcy
CATEGORIES:Zlot
END:VEVENT
BEGIN:VEVENT
DTSTART;TZID=Europe/Helsinki:20260424T080000
DTEND;TZID=Europe/Helsinki:20260621T170000
DTSTAMP:20260421T134712
CREATED:20260208T131638Z
LAST-MODIFIED:20260208T131638Z
UID:114521-1777017600-1782061200@klassikauto.pl
SUMMARY:Aston Martin – elegance in motion
DESCRIPTION:
URL:https://klassikauto.pl/impreza/aston-martin-elegance-in-motion/
LOCATION:Muzeum Autoworld\, Bruksela\, Belgia
CATEGORIES:Wystawa
END:VEVENT
BEGIN:VEVENT
DTSTART;TZID=Europe/Helsinki:20260424T120000
DTEND;TZID=Europe/Helsinki:20260426T160000
DTSTAMP:20260421T134712
CREATED:20260325T185150Z
LAST-MODIFIED:20260325T185150Z
UID:115625-1777032000-1777219200@klassikauto.pl
SUMMARY:Veterama - Tuning Arena
DESCRIPTION:
URL:https://klassikauto.pl/impreza/veterama-tuning-arena/
LOCATION:Hochheim am Main\, Niemcy
CATEGORIES:Giełda
END:VEVENT
BEGIN:VEVENT
DTSTART;VALUE=DATE:20260425
DTEND;VALUE=DATE:20260426
DTSTAMP:20260421T134712
CREATED:20260208T102637Z
LAST-MODIFIED:20260208T102637Z
UID:114427-1777075200-1777161599@klassikauto.pl
SUMMARY:XIV. ročník Veterán Párty 2026
DESCRIPTION:
URL:https://klassikauto.pl/impreza/xiv-rocnik-veteran-party-2026/
LOCATION:Praga\, Czechy
CATEGORIES:Zlot
END:VEVENT
BEGIN:VEVENT
DTSTART;VALUE=DATE:20260425
DTEND;VALUE=DATE:20260426
DTSTAMP:20260421T134712
CREATED:20260307T085316Z
LAST-MODIFIED:20260307T085316Z
UID:115129-1777075200-1777161599@klassikauto.pl
SUMMARY:VeteránTechna Brno 2026
DESCRIPTION:
URL:https://klassikauto.pl/impreza/veterantechna-brno-2026/
LOCATION:Brno\, Czechy
CATEGORIES:Targi
END:VEVENT
BEGIN:VEVENT
DTSTART;VALUE=DATE:20260425
DTEND;VALUE=DATE:20260426
DTSTAMP:20260421T134712
CREATED:20260325T180318Z
LAST-MODIFIED:20260325T180318Z
UID:115597-1777075200-1777161599@klassikauto.pl
SUMMARY:Otwarcie Sezonu Motocyklowego 2026
DESCRIPTION:
URL:https://klassikauto.pl/impreza/otwarcie-sezonu-motocyklowego-2026/
LOCATION:Jaworzno
CATEGORIES:Zlot
END:VEVENT
BEGIN:VEVENT
DTSTART;VALUE=DATE:20260425
DTEND;VALUE=DATE:20260427
DTSTAMP:20260421T134712
CREATED:20260208T133316Z
LAST-MODIFIED:20260208T133316Z
UID:114529-1777075200-1777247999@klassikauto.pl
SUMMARY:MYLE Festival Zürich
DESCRIPTION:
URL:https://klassikauto.pl/impreza/myle-festival-zurich-2/
LOCATION:Zurich\, Szwajcaria
CATEGORIES:Zlot
END:VEVENT
BEGIN:VEVENT
DTSTART;VALUE=DATE:20260425
DTEND;VALUE=DATE:20260503
DTSTAMP:20260421T134712
CREATED:20260325T191910Z
LAST-MODIFIED:20260325T191910Z
UID:115643-1777075200-1777766399@klassikauto.pl
SUMMARY:XII Europejski Rajd Syren i Warszaw
DESCRIPTION:
URL:https://klassikauto.pl/impreza/xii-europejski-rajd-syren-i-warszaw/
LOCATION:Nekla
CATEGORIES:Rajd
END:VEVENT
BEGIN:VEVENT
DTSTART;TZID=Europe/Helsinki:20260425T080000
DTEND;TZID=Europe/Helsinki:20260425T080000
DTSTAMP:20260421T134712
CREATED:20260325T180621Z
LAST-MODIFIED:20260325T180621Z
UID:115599-1777104000-1777104000@klassikauto.pl
SUMMARY:27. rocnik setkani italskich automobilu
DESCRIPTION:
URL:https://klassikauto.pl/impreza/27-rocnik-setkani-italskich-automobilu/
LOCATION:Podebrady\, Czechy
CATEGORIES:Zlot
END:VEVENT
BEGIN:VEVENT
DTSTART;TZID=Europe/Helsinki:20260425T080000
DTEND;TZID=Europe/Helsinki:20260425T080000
DTSTAMP:20260421T134712
CREATED:20260325T191310Z
LAST-MODIFIED:20260325T191310Z
UID:115639-1777104000-1777104000@klassikauto.pl
SUMMARY:Rajd Pałuk 2026
DESCRIPTION:
URL:https://klassikauto.pl/impreza/rajd-paluk-2026/
CATEGORIES:Rajd
END:VEVENT
BEGIN:VEVENT
DTSTART;TZID=Europe/Helsinki:20260425T080000
DTEND;TZID=Europe/Helsinki:20260425T130000
DTSTAMP:20260421T134712
CREATED:20260307T075915Z
LAST-MODIFIED:20260307T075915Z
UID:115101-1777104000-1777122000@klassikauto.pl
SUMMARY:Setkání sběratelů modelu – spotkanie kolekcjonerów modeli
DESCRIPTION:
URL:https://klassikauto.pl/impreza/setkani-sberatelu-modelu-spotkanie-kolekcjonerow-modeli/
LOCATION:Praga\, Czechy
CATEGORIES:Giełda
END:VEVENT
BEGIN:VEVENT
DTSTART;TZID=Europe/Helsinki:20260425T083000
DTEND;TZID=Europe/Helsinki:20260425T170000
DTSTAMP:20260421T134712
CREATED:20260325T181010Z
LAST-MODIFIED:20260325T181010Z
UID:115603-1777105800-1777136400@klassikauto.pl
SUMMARY:7 Castles Trial 2026
DESCRIPTION:
URL:https://klassikauto.pl/impreza/7-castles-trial-2026/
LOCATION:Tuchoměřice\, Czechy
CATEGORIES:Zlot
END:VEVENT
BEGIN:VEVENT
DTSTART;TZID=Europe/Helsinki:20260425T083000
DTEND;TZID=Europe/Helsinki:20260425T233000
DTSTAMP:20260421T134712
CREATED:20260307T075041Z
LAST-MODIFIED:20260307T075041Z
UID:115095-1777105800-1777159800@klassikauto.pl
SUMMARY:21. Prvni Jarni Bublani
DESCRIPTION:
URL:https://klassikauto.pl/impreza/21-prvni-jarni-bublani/
LOCATION:Čechtice\, Czechy
CATEGORIES:Zlot
END:VEVENT
BEGIN:VEVENT
DTSTART;TZID=Europe/Helsinki:20260425T090000
DTEND;TZID=Europe/Helsinki:20260425T090000
DTSTAMP:20260421T134712
CREATED:20260308T072407Z
LAST-MODIFIED:20260308T072407Z
UID:115147-1777107600-1777107600@klassikauto.pl
SUMMARY:XIV Rozpoczęcie sezonu motocyklowego w Licheniu
DESCRIPTION:
URL:https://klassikauto.pl/impreza/xiv-rozpoczecie-sezonu-motocyklowego-w-licheniu/
LOCATION:Licheń
CATEGORIES:Zlot
END:VEVENT
BEGIN:VEVENT
DTSTART;TZID=Europe/Helsinki:20260425T090000
DTEND;TZID=Europe/Helsinki:20260425T090000
DTSTAMP:20260421T134712
CREATED:20260308T102913Z
LAST-MODIFIED:20260308T102913Z
UID:115263-1777107600-1777107600@klassikauto.pl
SUMMARY:Soutez elegance Sychrov 2026
DESCRIPTION:
URL:https://klassikauto.pl/impreza/soutez-elegance-sychrov-2026/
LOCATION:Mnichovo Hradiště\, Czechy
CATEGORIES:Zlot
END:VEVENT
BEGIN:VEVENT
DTSTART;TZID=Europe/Helsinki:20260425T090000
DTEND;TZID=Europe/Helsinki:20260426T140000
DTSTAMP:20260421T134712
CREATED:20260308T091747Z
LAST-MODIFIED:20260308T091747Z
UID:115208-1777107600-1777212000@klassikauto.pl
SUMMARY:Otwarcie Sezonu Wielkopolska 2026
DESCRIPTION:
URL:https://klassikauto.pl/impreza/otwarcie-sezonu-wielkopolska-2026/
LOCATION:Poznań
CATEGORIES:Zlot
END:VEVENT
BEGIN:VEVENT
DTSTART;TZID=Europe/Helsinki:20260425T100000
DTEND;TZID=Europe/Helsinki:20260425T100000
DTSTAMP:20260421T134712
CREATED:20260308T110548Z
LAST-MODIFIED:20260308T110548Z
UID:115271-1777111200-1777111200@klassikauto.pl
SUMMARY:Wieczorne spotkanie klasyków w Trzebownisku – rozpoczęcie sezonu
DESCRIPTION:
URL:https://klassikauto.pl/impreza/wieczorne-spotkanie-klasykow-w-trzebownisku-rozpoczecie-sezonu/
LOCATION:Trzebownisko
CATEGORIES:Zlot
END:VEVENT
BEGIN:VEVENT
DTSTART;TZID=Europe/Helsinki:20260425T100000
DTEND;TZID=Europe/Helsinki:20260425T170000
DTSTAMP:20260421T134712
CREATED:20250224T154617Z
LAST-MODIFIED:20260308T103246Z
UID:108688-1777111200-1777136400@klassikauto.pl
SUMMARY:VII Zlot Klasyków Rozruch
DESCRIPTION:
URL:https://klassikauto.pl/impreza/vii-zlot-klasykow-rozruch/
LOCATION:Poznań
CATEGORIES:Zlot
END:VEVENT
BEGIN:VEVENT
DTSTART;TZID=Europe/Helsinki:20260425T100000
DTEND;TZID=Europe/Helsinki:20260425T170000
DTSTAMP:20260421T134712
CREATED:20260208T124556Z
LAST-MODIFIED:20260208T124556Z
UID:114501-1777111200-1777136400@klassikauto.pl
SUMMARY:Saisonauftakt – Motortreff am Butz powered by Allianz
DESCRIPTION:
URL:https://klassikauto.pl/impreza/saisonauftakt-motortreff-am-butz-powered-by-allianz/
LOCATION:Kolonia\, Niemcy
CATEGORIES:Zlot
END:VEVENT
BEGIN:VEVENT
DTSTART;TZID=Europe/Helsinki:20260425T100000
DTEND;TZID=Europe/Helsinki:20260426T180000
DTSTAMP:20260421T134712
CREATED:20260308T105122Z
LAST-MODIFIED:20260308T105122Z
UID:115269-1777111200-1777226400@klassikauto.pl
SUMMARY:Automobilové klenoty 2026
DESCRIPTION:
URL:https://klassikauto.pl/impreza/automobilove-klenoty-2026/
LOCATION:Praga\, Czechy
CATEGORIES:Targi
END:VEVENT
BEGIN:VEVENT
DTSTART;TZID=Europe/Helsinki:20260425T110000
DTEND;TZID=Europe/Helsinki:20260425T110000
DTSTAMP:20260421T134712
CREATED:20260308T074523Z
LAST-MODIFIED:20260308T074523Z
UID:115161-1777114800-1777114800@klassikauto.pl
SUMMARY:III Czempiński Rajd Klasyków
DESCRIPTION:
URL:https://klassikauto.pl/impreza/iii-czempinski-rajd-klasykow/
LOCATION:Czempiń
CATEGORIES:Zlot
END:VEVENT
BEGIN:VEVENT
DTSTART;TZID=Europe/Helsinki:20260425T110000
DTEND;TZID=Europe/Helsinki:20260425T110000
DTSTAMP:20260421T134712
CREATED:20260308T110809Z
LAST-MODIFIED:20260308T110809Z
UID:115274-1777114800-1777114800@klassikauto.pl
SUMMARY:Otwarcie Sezonu 2026 – MRFEST
DESCRIPTION:
URL:https://klassikauto.pl/impreza/otwarcie-sezonu-2026-mrfest/
LOCATION:Rzuchów
CATEGORIES:Zlot
END:VEVENT
BEGIN:VEVENT
DTSTART;TZID=Europe/Helsinki:20260425T120000
DTEND;TZID=Europe/Helsinki:20260425T120000
DTSTAMP:20260421T134712
CREATED:20260329T105808Z
LAST-MODIFIED:20260329T105808Z
UID:115790-1777118400-1777118400@klassikauto.pl
SUMMARY:Kieleckie Rozpoczęcie Sezonu Motocyklowego
DESCRIPTION:
URL:https://klassikauto.pl/impreza/kieleckie-rozpoczecie-sezonu-motocyklowego/
LOCATION:Kielce
CATEGORIES:Zlot
END:VEVENT
BEGIN:VEVENT
DTSTART;TZID=Europe/Helsinki:20260425T130000
DTEND;TZID=Europe/Helsinki:20260425T130000
DTSTAMP:20260421T134712
CREATED:20260308T111228Z
LAST-MODIFIED:20260308T111228Z
UID:115279-1777122000-1777122000@klassikauto.pl
SUMMARY:Klasyczne Rozpoczęcie Sezonu 2026 „Klasyczne Zabrze&ZSMS
DESCRIPTION:
URL:https://klassikauto.pl/impreza/klasyczne-rozpoczecie-sezonu-2026-klasyczne-zabrzezsms/
LOCATION:Zabrze
CATEGORIES:Zlot
END:VEVENT
BEGIN:VEVENT
DTSTART;TZID=Europe/Helsinki:20260425T130000
DTEND;TZID=Europe/Helsinki:20260425T200000
DTSTAMP:20260421T134712
CREATED:20260308T111005Z
LAST-MODIFIED:20260308T111005Z
UID:115277-1777122000-1777147200@klassikauto.pl
SUMMARY:Festiwal Miłośników Motoryzacji
DESCRIPTION:
URL:https://klassikauto.pl/impreza/festiwal-milosnikow-motoryzacji/
LOCATION:Sępólno Krajeńskie
CATEGORIES:Zlot
END:VEVENT
BEGIN:VEVENT
DTSTART;TZID=Europe/Helsinki:20260425T150000
DTEND;TZID=Europe/Helsinki:20260425T220000
DTSTAMP:20260421T134712
CREATED:20260308T094246Z
LAST-MODIFIED:20260308T094246Z
UID:115231-1777129200-1777154400@klassikauto.pl
SUMMARY:Klasyczne rozpoczęcie sezonu 2026
DESCRIPTION:
URL:https://klassikauto.pl/impreza/klasyczne-rozpoczecie-sezonu-2026/
LOCATION:Niepołomice
CATEGORIES:Zlot
END:VEVENT
END:VCALENDAR
<!-- RunCloud Hub 2026-04-21 12:47:12 -->