BEGIN:VCALENDAR
VERSION:2.0
PRODID:-//KlassikAuto.pl - ECPv6.7.0//NONSGML v1.0//EN
CALSCALE:GREGORIAN
METHOD:PUBLISH
X-WR-CALNAME:KlassikAuto.pl
X-ORIGINAL-URL:https://klassikauto.pl
X-WR-CALDESC:Wydarzenia dla KlassikAuto.pl
REFRESH-INTERVAL;VALUE=DURATION:PT1H
X-Robots-Tag:noindex
X-PUBLISHED-TTL:PT1H
BEGIN:VTIMEZONE
TZID:Europe/Helsinki
BEGIN:DAYLIGHT
TZOFFSETFROM:+0200
TZOFFSETTO:+0300
TZNAME:EEST
DTSTART:20260329T010000
END:DAYLIGHT
BEGIN:STANDARD
TZOFFSETFROM:+0300
TZOFFSETTO:+0200
TZNAME:EET
DTSTART:20261025T010000
END:STANDARD
END:VTIMEZONE
BEGIN:VEVENT
DTSTART;TZID=Europe/Helsinki:20260227T080000
DTEND;TZID=Europe/Helsinki:20260419T170000
DTSTAMP:20260421T115647
CREATED:20260208T131325Z
LAST-MODIFIED:20260208T131325Z
UID:114519-1772179200-1776618000@klassikauto.pl
SUMMARY:Lancia 120 years - innovation through italian design
DESCRIPTION:
URL:https://klassikauto.pl/impreza/lancia-120-years-innovation-through-italian-design/
LOCATION:Muzeum Autoworld\, Bruksela\, Belgia
CATEGORIES:Wystawa
END:VEVENT
BEGIN:VEVENT
DTSTART;VALUE=DATE:20260312
DTEND;VALUE=DATE:20260316
DTSTAMP:20260421T115647
CREATED:20251227T171338Z
LAST-MODIFIED:20251227T171338Z
UID:113927-1773273600-1773619199@klassikauto.pl
SUMMARY:Coppa delle Alpi 2026
DESCRIPTION:
URL:https://klassikauto.pl/impreza/coppa-delle-alpi-2026/
LOCATION:Saint Moritz\, Szwajcaria
CATEGORIES:Rajd
END:VEVENT
BEGIN:VEVENT
DTSTART;VALUE=DATE:20260313
DTEND;VALUE=DATE:20260316
DTSTAMP:20260421T115647
CREATED:20251227T162450Z
LAST-MODIFIED:20251227T162450Z
UID:113892-1773360000-1773619199@klassikauto.pl
SUMMARY:#3 Antwerp Collection Cars - Classic Salon
DESCRIPTION:
URL:https://klassikauto.pl/impreza/3-antwerp-collection-cars-classic-salon/
LOCATION:Antwerpia\, Belgia
CATEGORIES:Targi
END:VEVENT
BEGIN:VEVENT
DTSTART;VALUE=DATE:20260313
DTEND;VALUE=DATE:20260316
DTSTAMP:20260421T115647
CREATED:20260208T115500Z
LAST-MODIFIED:20260208T115500Z
UID:114491-1773360000-1773619199@klassikauto.pl
SUMMARY:AMTS Budapest 2026
DESCRIPTION:
URL:https://klassikauto.pl/impreza/amts-budapest-2026/
LOCATION:Budapeszt
CATEGORIES:Targi
END:VEVENT
BEGIN:VEVENT
DTSTART;VALUE=DATE:20260314
DTEND;VALUE=DATE:20260316
DTSTAMP:20260421T115647
CREATED:20260208T151346Z
LAST-MODIFIED:20260208T151346Z
UID:114587-1773446400-1773619199@klassikauto.pl
SUMMARY:51. Rajd Monte Karlino - Ogólnopolski Rajd Samochodowy
DESCRIPTION:
URL:https://klassikauto.pl/impreza/51-rajd-monte-karlino-ogolnopolski-rajd-samochodowy/
LOCATION:Karlino
CATEGORIES:Rajd
END:VEVENT
BEGIN:VEVENT
DTSTART;TZID=Europe/Helsinki:20260314T100000
DTEND;TZID=Europe/Helsinki:20260315T170000
DTSTAMP:20260421T115647
CREATED:20251215T190051Z
LAST-MODIFIED:20251215T190051Z
UID:113674-1773482400-1773594000@klassikauto.pl
SUMMARY:Wrocław Motorcycle Show 2026
DESCRIPTION:
URL:https://klassikauto.pl/impreza/wroclaw-motorcycle-show-2026/
LOCATION:Wrocław\, Wrocław\, Poland
CATEGORIES:Targi
END:VEVENT
BEGIN:VEVENT
DTSTART;TZID=Europe/Helsinki:20260314T100000
DTEND;TZID=Europe/Helsinki:20260315T170000
DTSTAMP:20260421T115647
CREATED:20260308T082155Z
LAST-MODIFIED:20260308T082155Z
UID:115185-1773482400-1773594000@klassikauto.pl
SUMMARY:Wystawa motocykli zabytkowych w Hali Stulecia
DESCRIPTION:
URL:https://klassikauto.pl/impreza/wystawa-motocykli-zabytkowych-w-hali-stulecia/
LOCATION:Wrocław\, Wrocław\, Poland
CATEGORIES:Wystawa
END:VEVENT
BEGIN:VEVENT
DTSTART;TZID=Europe/Helsinki:20260314T140000
DTEND;TZID=Europe/Helsinki:20260315T180000
DTSTAMP:20260421T115647
CREATED:20260208T113154Z
LAST-MODIFIED:20260208T113154Z
UID:114475-1773496800-1773597600@klassikauto.pl
SUMMARY:Autojumble Luxembourg 2026
DESCRIPTION:
URL:https://klassikauto.pl/impreza/autojumble-luxembourg-2026/
LOCATION:Luksemburg
CATEGORIES:Targi
END:VEVENT
BEGIN:VEVENT
DTSTART;VALUE=DATE:20260315
DTEND;VALUE=DATE:20260316
DTSTAMP:20260421T115647
CREATED:20251215T192050Z
LAST-MODIFIED:20251215T192050Z
UID:113692-1773532800-1773619199@klassikauto.pl
SUMMARY:20 Runda GT Series Polska feat. VTEC Cup Poland – Silesia Ring
DESCRIPTION:
URL:https://klassikauto.pl/impreza/20-runda-gt-series-polska-feat-vtec-cup-poland-silesia-ring/
LOCATION:Kamień Śląski
CATEGORIES:Rajd
END:VEVENT
BEGIN:VEVENT
DTSTART;TZID=Europe/Helsinki:20260315T100000
DTEND;TZID=Europe/Helsinki:20260315T140000
DTSTAMP:20260421T115647
CREATED:20260308T081848Z
LAST-MODIFIED:20260308T081848Z
UID:115181-1773568800-1773583200@klassikauto.pl
SUMMARY:Grat Bazar w Muzeum Motoryzacji Wena W Oławie
DESCRIPTION:
URL:https://klassikauto.pl/impreza/grat-bazar-w-muzeum-motoryzacji-wena-w-olawie/
LOCATION:Oława
CATEGORIES:Giełda
END:VEVENT
BEGIN:VEVENT
DTSTART;TZID=Europe/Helsinki:20260315T100000
DTEND;TZID=Europe/Helsinki:20260315T170000
DTSTAMP:20260421T115647
CREATED:20260208T110836Z
LAST-MODIFIED:20260208T110836Z
UID:114459-1773568800-1773594000@klassikauto.pl
SUMMARY:American Cars-Treffen
DESCRIPTION:
URL:https://klassikauto.pl/impreza/american-cars-treffen/
LOCATION:Derendingen\, Szwajcaria
CATEGORIES:Zlot
END:VEVENT
END:VCALENDAR
<!-- RunCloud Hub 2026-04-21 10:56:47 -->