BEGIN:VCALENDAR
VERSION:2.0
PRODID:-//KlassikAuto.pl - ECPv6.7.0//NONSGML v1.0//EN
CALSCALE:GREGORIAN
METHOD:PUBLISH
X-WR-CALNAME:KlassikAuto.pl
X-ORIGINAL-URL:https://klassikauto.pl
X-WR-CALDESC:Wydarzenia dla KlassikAuto.pl
REFRESH-INTERVAL;VALUE=DURATION:PT1H
X-Robots-Tag:noindex
X-PUBLISHED-TTL:PT1H
BEGIN:VTIMEZONE
TZID:Europe/Helsinki
BEGIN:DAYLIGHT
TZOFFSETFROM:+0200
TZOFFSETTO:+0300
TZNAME:EEST
DTSTART:20250330T010000
END:DAYLIGHT
BEGIN:STANDARD
TZOFFSETFROM:+0300
TZOFFSETTO:+0200
TZNAME:EET
DTSTART:20251026T010000
END:STANDARD
BEGIN:DAYLIGHT
TZOFFSETFROM:+0200
TZOFFSETTO:+0300
TZNAME:EEST
DTSTART:20260329T010000
END:DAYLIGHT
BEGIN:STANDARD
TZOFFSETFROM:+0300
TZOFFSETTO:+0200
TZNAME:EET
DTSTART:20261025T010000
END:STANDARD
END:VTIMEZONE
BEGIN:VEVENT
DTSTART;VALUE=DATE:20251211
DTEND;VALUE=DATE:20260302
DTSTAMP:20260421T121359
CREATED:20251214T190859Z
LAST-MODIFIED:20251214T190859Z
UID:113604-1765411200-1772409599@klassikauto.pl
SUMMARY:Ikony Motoryzacji\, 5. Edycja\,
DESCRIPTION:
URL:https://klassikauto.pl/impreza/ikony-motoryzacji-5-edycja/
LOCATION:Warszawa
CATEGORIES:Wystawa
END:VEVENT
BEGIN:VEVENT
DTSTART;VALUE=DATE:20260221
DTEND;VALUE=DATE:20260309
DTSTAMP:20260421T121359
CREATED:20251227T083844Z
LAST-MODIFIED:20251227T083844Z
UID:113841-1771632000-1773014399@klassikauto.pl
SUMMARY:Baltic Sea Circle Winter Edition 2026
DESCRIPTION:
URL:https://klassikauto.pl/impreza/baltic-sea-circle-winter-edition-2026/
LOCATION:Hamburg\, Niemcy
CATEGORIES:Rajd
END:VEVENT
BEGIN:VEVENT
DTSTART;TZID=Europe/Helsinki:20260225T080000
DTEND;TZID=Europe/Helsinki:20260303T170000
DTSTAMP:20260421T121359
CREATED:20260207T172732Z
LAST-MODIFIED:20260207T172732Z
UID:114347-1772006400-1772557200@klassikauto.pl
SUMMARY:Geneva International Auto Show 2026
DESCRIPTION:
URL:https://klassikauto.pl/impreza/geneva-international-auto-show-2026/
LOCATION:Genewa\, Szwajcaria
CATEGORIES:Targi
END:VEVENT
BEGIN:VEVENT
DTSTART;TZID=Europe/Helsinki:20260227T080000
DTEND;TZID=Europe/Helsinki:20260419T170000
DTSTAMP:20260421T121359
CREATED:20260208T131325Z
LAST-MODIFIED:20260208T131325Z
UID:114519-1772179200-1776618000@klassikauto.pl
SUMMARY:Lancia 120 years - innovation through italian design
DESCRIPTION:
URL:https://klassikauto.pl/impreza/lancia-120-years-innovation-through-italian-design/
LOCATION:Muzeum Autoworld\, Bruksela\, Belgia
CATEGORIES:Wystawa
END:VEVENT
BEGIN:VEVENT
DTSTART;VALUE=DATE:20260301
DTEND;VALUE=DATE:20260302
DTSTAMP:20260421T121359
CREATED:20260207T175552Z
LAST-MODIFIED:20260326T181003Z
UID:114370-1772323200-1772409599@klassikauto.pl
SUMMARY:Oldtimerbazar
DESCRIPTION:
URL:https://klassikauto.pl/impreza/oldtimerbazar-38/
LOCATION:Wrocław\, Wrocław\, Poland
CATEGORIES:Giełda
END:VEVENT
BEGIN:VEVENT
DTSTART;TZID=Europe/Helsinki:20260301T100000
DTEND;TZID=Europe/Helsinki:20260301T100000
DTSTAMP:20260421T121359
CREATED:20260208T145853Z
LAST-MODIFIED:20260208T145853Z
UID:114556-1772359200-1772359200@klassikauto.pl
SUMMARY:Rozpoczęcie Sezonu Klasyków i Youngtimerów LLU
DESCRIPTION:
URL:https://klassikauto.pl/impreza/rozpoczecie-sezonu-klasykow-i-youngtimerow-llu-2/
LOCATION:Stanin
CATEGORIES:Zlot
END:VEVENT
BEGIN:VEVENT
DTSTART;TZID=Europe/Helsinki:20260301T100000
DTEND;TZID=Europe/Helsinki:20260301T160000
DTSTAMP:20260421T121359
CREATED:20251227T170910Z
LAST-MODIFIED:20251227T170910Z
UID:113923-1772359200-1772380800@klassikauto.pl
SUMMARY:Automobilia München
DESCRIPTION:
URL:https://klassikauto.pl/impreza/automobilia-munchen-2/
LOCATION:Monachium\, Niemcy
CATEGORIES:Giełda
END:VEVENT
END:VCALENDAR
<!-- RunCloud Hub 2026-04-21 11:13:59 -->