BEGIN:VCALENDAR
VERSION:2.0
PRODID:-//KlassikAuto.pl - ECPv6.7.0//NONSGML v1.0//EN
CALSCALE:GREGORIAN
METHOD:PUBLISH
X-WR-CALNAME:KlassikAuto.pl
X-ORIGINAL-URL:https://klassikauto.pl
X-WR-CALDESC:Wydarzenia dla KlassikAuto.pl
REFRESH-INTERVAL;VALUE=DURATION:PT1H
X-Robots-Tag:noindex
X-PUBLISHED-TTL:PT1H
BEGIN:VTIMEZONE
TZID:Europe/Helsinki
BEGIN:DAYLIGHT
TZOFFSETFROM:+0200
TZOFFSETTO:+0300
TZNAME:EEST
DTSTART:20250330T010000
END:DAYLIGHT
BEGIN:STANDARD
TZOFFSETFROM:+0300
TZOFFSETTO:+0200
TZNAME:EET
DTSTART:20251026T010000
END:STANDARD
BEGIN:DAYLIGHT
TZOFFSETFROM:+0200
TZOFFSETTO:+0300
TZNAME:EEST
DTSTART:20260329T010000
END:DAYLIGHT
BEGIN:STANDARD
TZOFFSETFROM:+0300
TZOFFSETTO:+0200
TZNAME:EET
DTSTART:20261025T010000
END:STANDARD
END:VTIMEZONE
BEGIN:VEVENT
DTSTART;VALUE=DATE:20251211
DTEND;VALUE=DATE:20260302
DTSTAMP:20260421T134600
CREATED:20251214T190859Z
LAST-MODIFIED:20251214T190859Z
UID:113604-1765411200-1772409599@klassikauto.pl
SUMMARY:Ikony Motoryzacji\, 5. Edycja\,
DESCRIPTION:
URL:https://klassikauto.pl/impreza/ikony-motoryzacji-5-edycja/
LOCATION:Warszawa
CATEGORIES:Wystawa
END:VEVENT
BEGIN:VEVENT
DTSTART;VALUE=DATE:20251219
DTEND;VALUE=DATE:20260223
DTSTAMP:20260421T134600
CREATED:20251214T191720Z
LAST-MODIFIED:20251214T191720Z
UID:113610-1766102400-1771804799@klassikauto.pl
SUMMARY:Mercedes\, The Story of the Star
DESCRIPTION:
URL:https://klassikauto.pl/impreza/mercedes-the-story-of-the-star/
LOCATION:Bruksela\, Belgia
CATEGORIES:Wystawa
END:VEVENT
BEGIN:VEVENT
DTSTART;VALUE=DATE:20260219
DTEND;VALUE=DATE:20260223
DTSTAMP:20260421T134600
CREATED:20251215T201804Z
LAST-MODIFIED:20251215T201804Z
UID:113723-1771459200-1771804799@klassikauto.pl
SUMMARY:MOTORbeurs Utrecht 2026
DESCRIPTION:
URL:https://klassikauto.pl/impreza/motorbeurs-utrecht-2026/
LOCATION:Utrecht\, Holandia
CATEGORIES:Targi
END:VEVENT
BEGIN:VEVENT
DTSTART;VALUE=DATE:20260219
DTEND;VALUE=DATE:20260223
DTSTAMP:20260421T134600
CREATED:20251227T170310Z
LAST-MODIFIED:20251227T170310Z
UID:113919-1771459200-1771804799@klassikauto.pl
SUMMARY:Retro Classics 2026
DESCRIPTION:
URL:https://klassikauto.pl/impreza/retro-classics-2026/
LOCATION:Stuttgart\, Germany
CATEGORIES:Targi
END:VEVENT
BEGIN:VEVENT
DTSTART;VALUE=DATE:20260220
DTEND;VALUE=DATE:20260223
DTSTAMP:20260421T134600
CREATED:20251227T163827Z
LAST-MODIFIED:20251227T163827Z
UID:113900-1771545600-1771804799@klassikauto.pl
SUMMARY:55. Winterrallye „Rund um Schotten”
DESCRIPTION:
URL:https://klassikauto.pl/impreza/55-winterrallye-rund-um-schotten/
LOCATION:Schotten\, Niemcy
CATEGORIES:Rajd
END:VEVENT
BEGIN:VEVENT
DTSTART;VALUE=DATE:20260220
DTEND;VALUE=DATE:20260223
DTSTAMP:20260421T134600
CREATED:20260208T143911Z
LAST-MODIFIED:20260208T143911Z
UID:114544-1771545600-1771804799@klassikauto.pl
SUMMARY:XV Nasze Wyprawy Motocyklowe
DESCRIPTION:
URL:https://klassikauto.pl/impreza/xv-nasze-wyprawy-motocyklowe/
LOCATION:Kowalówka
CATEGORIES:Rajd
END:VEVENT
BEGIN:VEVENT
DTSTART;VALUE=DATE:20260220
DTEND;VALUE=DATE:20260223
DTSTAMP:20260421T134600
CREATED:20260208T145055Z
LAST-MODIFIED:20260208T145055Z
UID:114550-1771545600-1771804799@klassikauto.pl
SUMMARY:Race Retro - historic motorsport show
DESCRIPTION:
URL:https://klassikauto.pl/impreza/race-retro-historic-motorsport-show-2/
LOCATION:Stoneleigh Park Kenilworth
CATEGORIES:Rajd
END:VEVENT
BEGIN:VEVENT
DTSTART;VALUE=DATE:20260220
DTEND;VALUE=DATE:20260224
DTSTAMP:20260421T134600
CREATED:20251227T170611Z
LAST-MODIFIED:20251227T170611Z
UID:113921-1771545600-1771891199@klassikauto.pl
SUMMARY:1000 Miglia Experience Usa Florida 2026
DESCRIPTION:
URL:https://klassikauto.pl/impreza/1000-miglia-experience-usa-florida-2026/
LOCATION:Miami\, USA
CATEGORIES:Rajd
END:VEVENT
END:VCALENDAR
<!-- RunCloud Hub 2026-04-21 12:46:00 -->