BEGIN:VCALENDAR
VERSION:2.0
PRODID:-//KlassikAuto.pl - ECPv6.7.0//NONSGML v1.0//EN
CALSCALE:GREGORIAN
METHOD:PUBLISH
X-WR-CALNAME:KlassikAuto.pl
X-ORIGINAL-URL:https://klassikauto.pl
X-WR-CALDESC:Wydarzenia dla KlassikAuto.pl
REFRESH-INTERVAL;VALUE=DURATION:PT1H
X-Robots-Tag:noindex
X-PUBLISHED-TTL:PT1H
BEGIN:VTIMEZONE
TZID:Europe/Helsinki
BEGIN:DAYLIGHT
TZOFFSETFROM:+0200
TZOFFSETTO:+0300
TZNAME:EEST
DTSTART:20250330T010000
END:DAYLIGHT
BEGIN:STANDARD
TZOFFSETFROM:+0300
TZOFFSETTO:+0200
TZNAME:EET
DTSTART:20251026T010000
END:STANDARD
BEGIN:DAYLIGHT
TZOFFSETFROM:+0200
TZOFFSETTO:+0300
TZNAME:EEST
DTSTART:20260329T010000
END:DAYLIGHT
BEGIN:STANDARD
TZOFFSETFROM:+0300
TZOFFSETTO:+0200
TZNAME:EET
DTSTART:20261025T010000
END:STANDARD
END:VTIMEZONE
BEGIN:VEVENT
DTSTART;VALUE=DATE:20251211
DTEND;VALUE=DATE:20260302
DTSTAMP:20260421T124524
CREATED:20251214T190859Z
LAST-MODIFIED:20251214T190859Z
UID:113604-1765411200-1772409599@klassikauto.pl
SUMMARY:Ikony Motoryzacji\, 5. Edycja\,
DESCRIPTION:
URL:https://klassikauto.pl/impreza/ikony-motoryzacji-5-edycja/
LOCATION:Warszawa
CATEGORIES:Wystawa
END:VEVENT
BEGIN:VEVENT
DTSTART;VALUE=DATE:20251219
DTEND;VALUE=DATE:20260223
DTSTAMP:20260421T124524
CREATED:20251214T191720Z
LAST-MODIFIED:20251214T191720Z
UID:113610-1766102400-1771804799@klassikauto.pl
SUMMARY:Mercedes\, The Story of the Star
DESCRIPTION:
URL:https://klassikauto.pl/impreza/mercedes-the-story-of-the-star/
LOCATION:Bruksela\, Belgia
CATEGORIES:Wystawa
END:VEVENT
BEGIN:VEVENT
DTSTART;VALUE=DATE:20260129
DTEND;VALUE=DATE:20260208
DTSTAMP:20260421T124524
CREATED:20251227T164931Z
LAST-MODIFIED:20251227T164931Z
UID:113910-1769644800-1770508799@klassikauto.pl
SUMMARY:Rallye Monte-Carlo Historique – Automobile Club de Monaco
DESCRIPTION:
URL:https://klassikauto.pl/impreza/rallye-monte-carlo-historique-automobile-club-de-monaco/
LOCATION:Monte Carlo\, Monaco
CATEGORIES:Rajd
END:VEVENT
BEGIN:VEVENT
DTSTART;VALUE=DATE:20260203
DTEND;VALUE=DATE:20260208
DTSTAMP:20260421T124524
CREATED:20251227T160256Z
LAST-MODIFIED:20260208T142223Z
UID:113880-1770076800-1770508799@klassikauto.pl
SUMMARY:50. RétroMobile Paris Expo Porte de Versailles
DESCRIPTION:
URL:https://klassikauto.pl/impreza/50-retromobile-paris-expo-porte-de-versailles/
LOCATION:Paryż
CATEGORIES:Targi
END:VEVENT
BEGIN:VEVENT
DTSTART;VALUE=DATE:20260206
DTEND;VALUE=DATE:20260209
DTSTAMP:20260421T124524
CREATED:20251227T091138Z
LAST-MODIFIED:20251227T091228Z
UID:113861-1770336000-1770595199@klassikauto.pl
SUMMARY:VI Zlot Zimowy "Lewizna 2026"
DESCRIPTION:
URL:https://klassikauto.pl/impreza/vi-zlot-zimowy-lewizna-2026/
LOCATION:Borne Sulinowo
CATEGORIES:Rajd
END:VEVENT
BEGIN:VEVENT
DTSTART;VALUE=DATE:20260206
DTEND;VALUE=DATE:20260209
DTSTAMP:20260421T124524
CREATED:20251227T155918Z
LAST-MODIFIED:20251227T155918Z
UID:113878-1770336000-1770595199@klassikauto.pl
SUMMARY:Die Motorrad Messe Leipzig
DESCRIPTION:
URL:https://klassikauto.pl/impreza/die-motorrad-messe-leipzig-2/
LOCATION:Lipsk\, Niemcy
CATEGORIES:Targi
END:VEVENT
BEGIN:VEVENT
DTSTART;VALUE=DATE:20260206
DTEND;VALUE=DATE:20260209
DTSTAMP:20260421T124524
CREATED:20260208T142031Z
LAST-MODIFIED:20260208T142031Z
UID:114539-1770336000-1770595199@klassikauto.pl
SUMMARY:XVIII Zimowy Zlot Motocyklowy Eintopftreffen
DESCRIPTION:
URL:https://klassikauto.pl/impreza/xviii-zimowy-zlot-motocyklowy-eintopftreffen/
LOCATION:Krajenka
CATEGORIES:Zlot
END:VEVENT
BEGIN:VEVENT
DTSTART;VALUE=DATE:20260207
DTEND;VALUE=DATE:20260208
DTSTAMP:20260421T124524
CREATED:20251214T193351Z
LAST-MODIFIED:20251214T193351Z
UID:113619-1770422400-1770508799@klassikauto.pl
SUMMARY:Motorsport-Tag
DESCRIPTION:
URL:https://klassikauto.pl/impreza/motorsport-tag/
LOCATION:Kolonia\, Niemcy
CATEGORIES:Zlot
END:VEVENT
BEGIN:VEVENT
DTSTART;VALUE=DATE:20260207
DTEND;VALUE=DATE:20260209
DTSTAMP:20260421T124524
CREATED:20251227T160534Z
LAST-MODIFIED:20251227T160534Z
UID:113882-1770422400-1770595199@klassikauto.pl
SUMMARY:43. Moto Retro Wieze
DESCRIPTION:
URL:https://klassikauto.pl/impreza/43-moto-retro-wieze/
LOCATION:Lebbeke\, Belgia
CATEGORIES:Targi
END:VEVENT
BEGIN:VEVENT
DTSTART;TZID=Europe/Helsinki:20260207T150000
DTEND;TZID=Europe/Helsinki:20260207T230000
DTSTAMP:20260421T124524
CREATED:20260207T163655Z
LAST-MODIFIED:20260207T163655Z
UID:114315-1770476400-1770505200@klassikauto.pl
SUMMARY:Zimowe Zajawy na Letnie Wyprawy
DESCRIPTION:
URL:https://klassikauto.pl/impreza/zimowe-zajawy-na-letnie-wyprawy/
LOCATION:Rzeszów
CATEGORIES:Zlot
END:VEVENT
END:VCALENDAR
<!-- RunCloud Hub 2026-04-21 11:45:24 -->