BEGIN:VCALENDAR
VERSION:2.0
PRODID:-//KlassikAuto.pl - ECPv6.7.0//NONSGML v1.0//EN
CALSCALE:GREGORIAN
METHOD:PUBLISH
X-ORIGINAL-URL:https://klassikauto.pl
X-WR-CALDESC:Wydarzenia dla KlassikAuto.pl
REFRESH-INTERVAL;VALUE=DURATION:PT1H
X-Robots-Tag:noindex
X-PUBLISHED-TTL:PT1H
BEGIN:VTIMEZONE
TZID:Europe/Helsinki
BEGIN:DAYLIGHT
TZOFFSETFROM:+0200
TZOFFSETTO:+0300
TZNAME:EEST
DTSTART:20250330T010000
END:DAYLIGHT
BEGIN:STANDARD
TZOFFSETFROM:+0300
TZOFFSETTO:+0200
TZNAME:EET
DTSTART:20251026T010000
END:STANDARD
BEGIN:DAYLIGHT
TZOFFSETFROM:+0200
TZOFFSETTO:+0300
TZNAME:EEST
DTSTART:20260329T010000
END:DAYLIGHT
BEGIN:STANDARD
TZOFFSETFROM:+0300
TZOFFSETTO:+0200
TZNAME:EET
DTSTART:20261025T010000
END:STANDARD
END:VTIMEZONE
BEGIN:VEVENT
DTSTART;VALUE=DATE:20251211
DTEND;VALUE=DATE:20260302
DTSTAMP:20260421T134711
CREATED:20251214T190859Z
LAST-MODIFIED:20251214T190859Z
UID:113604-1765411200-1772409599@klassikauto.pl
SUMMARY:Ikony Motoryzacji\, 5. Edycja\,
DESCRIPTION:
URL:https://klassikauto.pl/impreza/ikony-motoryzacji-5-edycja/
LOCATION:Warszawa
CATEGORIES:Wystawa
END:VEVENT
BEGIN:VEVENT
DTSTART;VALUE=DATE:20251219
DTEND;VALUE=DATE:20260223
DTSTAMP:20260421T134711
CREATED:20251214T191720Z
LAST-MODIFIED:20251214T191720Z
UID:113610-1766102400-1771804799@klassikauto.pl
SUMMARY:Mercedes\, The Story of the Star
DESCRIPTION:
URL:https://klassikauto.pl/impreza/mercedes-the-story-of-the-star/
LOCATION:Bruksela\, Belgia
CATEGORIES:Wystawa
END:VEVENT
BEGIN:VEVENT
DTSTART;VALUE=DATE:20260123
DTEND;VALUE=DATE:20260202
DTSTAMP:20260421T134711
CREATED:20251227T092758Z
LAST-MODIFIED:20251227T092758Z
UID:113868-1769126400-1769990399@klassikauto.pl
SUMMARY:Washington Auto Show
DESCRIPTION:
URL:https://klassikauto.pl/impreza/washington-auto-show/
LOCATION:Waszyngton\, USA
CATEGORIES:Targi
END:VEVENT
BEGIN:VEVENT
DTSTART;VALUE=DATE:20260129
DTEND;VALUE=DATE:20260202
DTSTAMP:20260421T134711
CREATED:20251227T090928Z
LAST-MODIFIED:20251227T090928Z
UID:113859-1769644800-1769990399@klassikauto.pl
SUMMARY:68. Elefantentreffen 2026 - Zimowy Zlot Słoni
DESCRIPTION:
URL:https://klassikauto.pl/impreza/68-elefantentreffen-2026-zimowy-zlot-sloni/
LOCATION:Loh\, Niemcy
CATEGORIES:Zlot
END:VEVENT
BEGIN:VEVENT
DTSTART;VALUE=DATE:20260129
DTEND;VALUE=DATE:20260208
DTSTAMP:20260421T134711
CREATED:20251227T164931Z
LAST-MODIFIED:20251227T164931Z
UID:113910-1769644800-1770508799@klassikauto.pl
SUMMARY:Rallye Monte-Carlo Historique – Automobile Club de Monaco
DESCRIPTION:
URL:https://klassikauto.pl/impreza/rallye-monte-carlo-historique-automobile-club-de-monaco/
LOCATION:Monte Carlo\, Monaco
CATEGORIES:Rajd
END:VEVENT
BEGIN:VEVENT
DTSTART;VALUE=DATE:20260130
DTEND;VALUE=DATE:20260202
DTSTAMP:20260421T134711
CREATED:20251227T092437Z
LAST-MODIFIED:20251227T092437Z
UID:113866-1769731200-1769990399@klassikauto.pl
SUMMARY:Bremen Classic Motorshow
DESCRIPTION:
URL:https://klassikauto.pl/impreza/bremen-classic-motorshow-4/
LOCATION:Bremen\, Niemcy
CATEGORIES:Targi
END:VEVENT
BEGIN:VEVENT
DTSTART;VALUE=DATE:20260131
DTEND;VALUE=DATE:20260202
DTSTAMP:20260421T134711
CREATED:20251215T203038Z
LAST-MODIFIED:20251215T203038Z
UID:113729-1769817600-1769990399@klassikauto.pl
SUMMARY:ACA Classic Auction
DESCRIPTION:
URL:https://klassikauto.pl/impreza/aca-classic-auction-6/
LOCATION:King’s Lynn\, Wielka Brytania
CATEGORIES:Aukcja
END:VEVENT
BEGIN:VEVENT
DTSTART;TZID=Europe/Helsinki:20260201T100000
DTEND;TZID=Europe/Helsinki:20260201T140000
DTSTAMP:20260421T134711
CREATED:20251215T190819Z
LAST-MODIFIED:20251215T190819Z
UID:113682-1769940000-1769954400@klassikauto.pl
SUMMARY:Ogólnopolska Giełda Modeli Samochodów im. Sławoja Gwiazdowskiego
DESCRIPTION:
URL:https://klassikauto.pl/impreza/ogolnopolska-gielda-modeli-samochodow-im-slawoja-gwiazdowskiego-22/
LOCATION:Warszawa
CATEGORIES:Giełda
END:VEVENT
END:VCALENDAR
<!-- RunCloud Hub 2026-04-21 12:47:11 -->