BEGIN:VCALENDAR
VERSION:2.0
PRODID:-//KlassikAuto.pl - ECPv6.7.0//NONSGML v1.0//EN
CALSCALE:GREGORIAN
METHOD:PUBLISH
X-WR-CALNAME:KlassikAuto.pl
X-ORIGINAL-URL:https://klassikauto.pl
X-WR-CALDESC:Wydarzenia dla KlassikAuto.pl
REFRESH-INTERVAL;VALUE=DURATION:PT1H
X-Robots-Tag:noindex
X-PUBLISHED-TTL:PT1H
BEGIN:VTIMEZONE
TZID:Europe/Helsinki
BEGIN:DAYLIGHT
TZOFFSETFROM:+0200
TZOFFSETTO:+0300
TZNAME:EEST
DTSTART:20250330T010000
END:DAYLIGHT
BEGIN:STANDARD
TZOFFSETFROM:+0300
TZOFFSETTO:+0200
TZNAME:EET
DTSTART:20251026T010000
END:STANDARD
BEGIN:DAYLIGHT
TZOFFSETFROM:+0200
TZOFFSETTO:+0300
TZNAME:EEST
DTSTART:20260329T010000
END:DAYLIGHT
BEGIN:STANDARD
TZOFFSETFROM:+0300
TZOFFSETTO:+0200
TZNAME:EET
DTSTART:20261025T010000
END:STANDARD
END:VTIMEZONE
BEGIN:VEVENT
DTSTART;VALUE=DATE:20251211
DTEND;VALUE=DATE:20260302
DTSTAMP:20260421T150040
CREATED:20251214T190859Z
LAST-MODIFIED:20251214T190859Z
UID:113604-1765411200-1772409599@klassikauto.pl
SUMMARY:Ikony Motoryzacji\, 5. Edycja\,
DESCRIPTION:
URL:https://klassikauto.pl/impreza/ikony-motoryzacji-5-edycja/
LOCATION:Warszawa
CATEGORIES:Wystawa
END:VEVENT
BEGIN:VEVENT
DTSTART;VALUE=DATE:20251219
DTEND;VALUE=DATE:20260223
DTSTAMP:20260421T150040
CREATED:20251214T191720Z
LAST-MODIFIED:20251214T191720Z
UID:113610-1766102400-1771804799@klassikauto.pl
SUMMARY:Mercedes\, The Story of the Star
DESCRIPTION:
URL:https://klassikauto.pl/impreza/mercedes-the-story-of-the-star/
LOCATION:Bruksela\, Belgia
CATEGORIES:Wystawa
END:VEVENT
BEGIN:VEVENT
DTSTART;VALUE=DATE:20260103
DTEND;VALUE=DATE:20260118
DTSTAMP:20260421T150040
CREATED:20251227T164108Z
LAST-MODIFIED:20251227T164108Z
UID:113902-1767398400-1768694399@klassikauto.pl
SUMMARY:Dakar Classic
DESCRIPTION:
URL:https://klassikauto.pl/impreza/dakar-classic/
LOCATION:Riad\, Arabia Saudyjska
CATEGORIES:Rajd
END:VEVENT
BEGIN:VEVENT
DTSTART;TZID=Europe/Helsinki:20260109T190000
DTEND;TZID=Europe/Helsinki:20260118T190000
DTSTAMP:20260421T150040
CREATED:20251215T192521Z
LAST-MODIFIED:20251215T192521Z
UID:113696-1767985200-1768762800@klassikauto.pl
SUMMARY:Brussels Motor Show 2026 x CFMOTO
DESCRIPTION:
URL:https://klassikauto.pl/impreza/brussels-motor-show-2026-x-cfmoto/
LOCATION:Bruksela\, Belgia
CATEGORIES:Targi
END:VEVENT
BEGIN:VEVENT
DTSTART;VALUE=DATE:20260115
DTEND;VALUE=DATE:20260118
DTSTAMP:20260421T150040
CREATED:20251215T194831Z
LAST-MODIFIED:20251215T194831Z
UID:113712-1768435200-1768694399@klassikauto.pl
SUMMARY:19. Winterrallye
DESCRIPTION:
URL:https://klassikauto.pl/impreza/19-winterrallye/
LOCATION:Steienmark\, Austria
CATEGORIES:Rajd
END:VEVENT
BEGIN:VEVENT
DTSTART;VALUE=DATE:20260115
DTEND;VALUE=DATE:20260119
DTSTAMP:20260421T150040
CREATED:20251215T194405Z
LAST-MODIFIED:20251215T194405Z
UID:113708-1768435200-1768780799@klassikauto.pl
SUMMARY:Interclassic Maastricht
DESCRIPTION:
URL:https://klassikauto.pl/impreza/interclassic-maastricht/
LOCATION:Maastricht
CATEGORIES:Targi
END:VEVENT
BEGIN:VEVENT
DTSTART;TZID=Europe/Helsinki:20260116T150000
DTEND;TZID=Europe/Helsinki:20260118T110000
DTSTAMP:20260421T150040
CREATED:20251214T201147Z
LAST-MODIFIED:20251214T201147Z
UID:113650-1768575600-1768734000@klassikauto.pl
SUMMARY:Zimowy Zlot Mini
DESCRIPTION:
URL:https://klassikauto.pl/impreza/zimowy-zlot-mini/
LOCATION:Szczyrk
CATEGORIES:Zlot
END:VEVENT
BEGIN:VEVENT
DTSTART;TZID=Europe/Helsinki:20260117T100000
DTEND;TZID=Europe/Helsinki:20260118T170000
DTSTAMP:20260421T150040
CREATED:20251215T190512Z
LAST-MODIFIED:20251215T190512Z
UID:113678-1768644000-1768755600@klassikauto.pl
SUMMARY:Pelikan Team 14. Walimska Zimówka
DESCRIPTION:
URL:https://klassikauto.pl/impreza/pelikan-team-14-walimska-zimowka/
LOCATION:Walim
CATEGORIES:Rajd
END:VEVENT
END:VCALENDAR
<!-- RunCloud Hub 2026-04-21 14:00:40 -->