BEGIN:VCALENDAR
VERSION:2.0
PRODID:-//KlassikAuto.pl - ECPv6.7.0//NONSGML v1.0//EN
CALSCALE:GREGORIAN
METHOD:PUBLISH
X-ORIGINAL-URL:https://klassikauto.pl
X-WR-CALDESC:Wydarzenia dla KlassikAuto.pl
REFRESH-INTERVAL;VALUE=DURATION:PT1H
X-Robots-Tag:noindex
X-PUBLISHED-TTL:PT1H
BEGIN:VTIMEZONE
TZID:Europe/Helsinki
BEGIN:DAYLIGHT
TZOFFSETFROM:+0200
TZOFFSETTO:+0300
TZNAME:EEST
DTSTART:20250330T010000
END:DAYLIGHT
BEGIN:STANDARD
TZOFFSETFROM:+0300
TZOFFSETTO:+0200
TZNAME:EET
DTSTART:20251026T010000
END:STANDARD
END:VTIMEZONE
BEGIN:VEVENT
DTSTART;VALUE=DATE:20250905
DTEND;VALUE=DATE:20251215
DTSTAMP:20260421T223401
CREATED:20250426T190329Z
LAST-MODIFIED:20250830T143849Z
UID:109962-1757030400-1765756799@klassikauto.pl
SUMMARY:German tuners from the '80s and the '90s
DESCRIPTION:
URL:https://klassikauto.pl/impreza/german-tuners-from-the-80s-and-the-90s/
LOCATION:Museum Autoworld\, Bruksela\, Belgia
CATEGORIES:Wystawa
END:VEVENT
BEGIN:VEVENT
DTSTART;TZID=Europe/Helsinki:20250919T093000
DTEND;TZID=Europe/Helsinki:20250921T183000
DTSTAMP:20260421T223401
CREATED:20250830T065003Z
LAST-MODIFIED:20250830T065003Z
UID:112122-1758274200-1758479400@klassikauto.pl
SUMMARY:Rajd Śląska 2025
DESCRIPTION:
URL:https://klassikauto.pl/impreza/rajd-slaska-2025/
LOCATION:Chorzów
CATEGORIES:Rajd
END:VEVENT
BEGIN:VEVENT
DTSTART;TZID=Europe/Helsinki:20250919T110000
DTEND;TZID=Europe/Helsinki:20250921T170000
DTSTAMP:20260421T223401
CREATED:20250401T173453Z
LAST-MODIFIED:20250401T173453Z
UID:109451-1758279600-1758474000@klassikauto.pl
SUMMARY:Retro Motor Show
DESCRIPTION:
URL:https://klassikauto.pl/impreza/retro-motor-show-2/
LOCATION:Poznań
CATEGORIES:Targi
END:VEVENT
BEGIN:VEVENT
DTSTART;TZID=Europe/Helsinki:20250919T143000
DTEND;TZID=Europe/Helsinki:20250921T110000
DTSTAMP:20260421T223401
CREATED:20250830T071455Z
LAST-MODIFIED:20250830T071455Z
UID:112143-1758292200-1758452400@klassikauto.pl
SUMMARY:44. Skoda sraz Doksy
DESCRIPTION:
URL:https://klassikauto.pl/impreza/44-skoda-sraz-doksy/
LOCATION:Doksy\, Czechy
CATEGORIES:Zlot
END:VEVENT
BEGIN:VEVENT
DTSTART;TZID=Europe/Helsinki:20250919T210000
DTEND;TZID=Europe/Helsinki:20250922T233000
DTSTAMP:20260421T223401
CREATED:20240302T164307Z
LAST-MODIFIED:20250830T145527Z
UID:99933-1758315600-1758583800@klassikauto.pl
SUMMARY:50. Urodziny Fiata 126p w Tychach
DESCRIPTION:
URL:https://klassikauto.pl/impreza/50-urodziny-fiata-126p-w-tychach/
LOCATION:Tychy
CATEGORIES:Zlot
END:VEVENT
BEGIN:VEVENT
DTSTART;TZID=Europe/Helsinki:20250920T100000
DTEND;TZID=Europe/Helsinki:20250920T100000
DTSTAMP:20260421T223401
CREATED:20250830T063628Z
LAST-MODIFIED:20250830T063628Z
UID:112107-1758362400-1758362400@klassikauto.pl
SUMMARY:Klasyczny rajd na zakończenie lata
DESCRIPTION:
URL:https://klassikauto.pl/impreza/klasyczny-rajd-na-zakonczenie-lata/
LOCATION:Kęty
CATEGORIES:Rajd
END:VEVENT
BEGIN:VEVENT
DTSTART;TZID=Europe/Helsinki:20250920T100000
DTEND;TZID=Europe/Helsinki:20250920T100000
DTSTAMP:20260421T223401
CREATED:20250830T064132Z
LAST-MODIFIED:20250830T064132Z
UID:112113-1758362400-1758362400@klassikauto.pl
SUMMARY:III Międzyrzecki Rajd Tystyczny – Edycja Przygodnicza
DESCRIPTION:
URL:https://klassikauto.pl/impreza/iii-miedzyrzecki-rajd-tystyczny-edycja-przygodnicza/
LOCATION:Jasienica
CATEGORIES:Rajd
END:VEVENT
BEGIN:VEVENT
DTSTART;TZID=Europe/Helsinki:20250920T100000
DTEND;TZID=Europe/Helsinki:20250920T100000
DTSTAMP:20260421T223401
CREATED:20250830T133848Z
LAST-MODIFIED:20250830T133848Z
UID:112281-1758362400-1758362400@klassikauto.pl
SUMMARY:II Minispot Tarnovia RUN 2025
DESCRIPTION:
URL:https://klassikauto.pl/impreza/ii-minispot-tarnovia-run-2025-2/
LOCATION:Tarnowo Podgórne
CATEGORIES:Spot
END:VEVENT
BEGIN:VEVENT
DTSTART;TZID=Europe/Helsinki:20250920T100000
DTEND;TZID=Europe/Helsinki:20250920T160000
DTSTAMP:20260421T223401
CREATED:20250830T134036Z
LAST-MODIFIED:20250830T134036Z
UID:112283-1758362400-1758384000@klassikauto.pl
SUMMARY:Ameriky na Nabrezi 2025
DESCRIPTION:
URL:https://klassikauto.pl/impreza/ameriky-na-nabrezi-2025/
LOCATION:Czeskie Budziejowice\, Czechy
CATEGORIES:Zlot
END:VEVENT
BEGIN:VEVENT
DTSTART;TZID=Europe/Helsinki:20250920T100000
DTEND;TZID=Europe/Helsinki:20250921T100000
DTSTAMP:20260421T223401
CREATED:20250204T174039Z
LAST-MODIFIED:20250204T174039Z
UID:108246-1758362400-1758448800@klassikauto.pl
SUMMARY:BalticTreffen 5th – Oldschool 2025
DESCRIPTION:
URL:https://klassikauto.pl/impreza/baltictreffen-5th-oldschool-2025/
LOCATION:Ustka
CATEGORIES:Zlot
END:VEVENT
BEGIN:VEVENT
DTSTART;TZID=Europe/Helsinki:20250920T100000
DTEND;TZID=Europe/Helsinki:20250921T130000
DTSTAMP:20260421T223401
CREATED:20250830T063126Z
LAST-MODIFIED:20250830T063126Z
UID:112100-1758362400-1758459600@klassikauto.pl
SUMMARY:Zlot zakończenie sezonu – JelczONa
DESCRIPTION:
URL:https://klassikauto.pl/impreza/zlot-zakonczenie-sezonu-jelczona/
LOCATION:Niegowoniczki
CATEGORIES:Zlot
END:VEVENT
BEGIN:VEVENT
DTSTART;TZID=Europe/Helsinki:20250920T120000
DTEND;TZID=Europe/Helsinki:20250920T210000
DTSTAMP:20260421T223401
CREATED:20250830T134204Z
LAST-MODIFIED:20250830T134204Z
UID:112285-1758369600-1758402000@klassikauto.pl
SUMMARY:I Retro Piknik „Zakręceni na Podlasiu” – 80 lat PKS
DESCRIPTION:
URL:https://klassikauto.pl/impreza/i-retro-piknik-zakreceni-na-podlasiu-80-lat-pks/
LOCATION:Białystok
CATEGORIES:Zlot
END:VEVENT
BEGIN:VEVENT
DTSTART;TZID=Europe/Helsinki:20250920T190000
DTEND;TZID=Europe/Helsinki:20250920T190000
DTSTAMP:20260421T223401
CREATED:20250830T114304Z
LAST-MODIFIED:20250830T114304Z
UID:112237-1758394800-1758394800@klassikauto.pl
SUMMARY:XVI Rajd Ikarusa – rajd turystyczno-nawigacyjny
DESCRIPTION:
URL:https://klassikauto.pl/impreza/xvi-rajd-ikarusa-rajd-turystyczno-nawigacyjny/
LOCATION:Gdańsk
CATEGORIES:Rajd
END:VEVENT
BEGIN:VEVENT
DTSTART;TZID=Europe/Helsinki:20250920T190000
DTEND;TZID=Europe/Helsinki:20250920T223000
DTSTAMP:20260421T223401
CREATED:20250830T110645Z
LAST-MODIFIED:20250830T110645Z
UID:112203-1758394800-1758407400@klassikauto.pl
SUMMARY:JNR CAR MEET25
DESCRIPTION:
URL:https://klassikauto.pl/impreza/jnr-car-meet25/
LOCATION:Grudziądz
CATEGORIES:Spot
END:VEVENT
END:VCALENDAR
<!-- RunCloud Hub 2026-04-21 21:34:01 -->