BEGIN:VCALENDAR
VERSION:2.0
PRODID:-//KlassikAuto.pl - ECPv6.7.0//NONSGML v1.0//EN
CALSCALE:GREGORIAN
METHOD:PUBLISH
X-WR-CALNAME:KlassikAuto.pl
X-ORIGINAL-URL:https://klassikauto.pl
X-WR-CALDESC:Wydarzenia dla KlassikAuto.pl
REFRESH-INTERVAL;VALUE=DURATION:PT1H
X-Robots-Tag:noindex
X-PUBLISHED-TTL:PT1H
BEGIN:VTIMEZONE
TZID:Europe/Helsinki
BEGIN:DAYLIGHT
TZOFFSETFROM:+0200
TZOFFSETTO:+0300
TZNAME:EEST
DTSTART:20250330T010000
END:DAYLIGHT
BEGIN:STANDARD
TZOFFSETFROM:+0300
TZOFFSETTO:+0200
TZNAME:EET
DTSTART:20251026T010000
END:STANDARD
END:VTIMEZONE
BEGIN:VEVENT
DTSTART;TZID=Europe/Helsinki:20250627T080000
DTEND;TZID=Europe/Helsinki:20250831T170000
DTSTAMP:20260422T012601
CREATED:20241222T124416Z
LAST-MODIFIED:20241222T124731Z
UID:107161-1751011200-1756659600@klassikauto.pl
SUMMARY:Big in Japan
DESCRIPTION:
URL:https://klassikauto.pl/impreza/big-in-japan/
LOCATION:Museum Autoworld\, Bruksela\, Belgia
CATEGORIES:Wystawa
END:VEVENT
BEGIN:VEVENT
DTSTART;VALUE=DATE:20250821
DTEND;VALUE=DATE:20250904
DTSTAMP:20260422T012601
CREATED:20241226T104132Z
LAST-MODIFIED:20241226T104132Z
UID:107389-1755734400-1756943999@klassikauto.pl
SUMMARY:Balkan Express 2025
DESCRIPTION:Start: Drezno\, Niemcy \nMeta: Istria\, Chorwacja
URL:https://klassikauto.pl/impreza/balkan-express-2025/
LOCATION:Drezno\, Niemcy
CATEGORIES:Rajd
END:VEVENT
BEGIN:VEVENT
DTSTART;TZID=Europe/Helsinki:20250822T100000
DTEND;TZID=Europe/Helsinki:20250824T170000
DTSTAMP:20260422T012601
CREATED:20231227T091703Z
LAST-MODIFIED:20250621T095832Z
UID:97899-1755856800-1756054800@klassikauto.pl
SUMMARY:Warsaw Oldtimer Show
DESCRIPTION:
URL:https://klassikauto.pl/impreza/warsaw-oldtimer-show/
LOCATION:Warszawa
CATEGORIES:Targi
END:VEVENT
BEGIN:VEVENT
DTSTART;TZID=Europe/Helsinki:20250822T130000
DTEND;TZID=Europe/Helsinki:20250824T120000
DTSTAMP:20260422T012601
CREATED:20250426T152836Z
LAST-MODIFIED:20250426T152836Z
UID:109805-1755867600-1756036800@klassikauto.pl
SUMMARY:29. Trabant sraz Vrbno 2025
DESCRIPTION:
URL:https://klassikauto.pl/impreza/29-trabant-sraz-vrbno-2025/
LOCATION:Vrbno pod Pradědem\, Czechy
CATEGORIES:Zlot
END:VEVENT
BEGIN:VEVENT
DTSTART;VALUE=DATE:20250823
DTEND;VALUE=DATE:20250825
DTSTAMP:20260422T012601
CREATED:20241229T091915Z
LAST-MODIFIED:20241229T091915Z
UID:107562-1755907200-1756079999@klassikauto.pl
SUMMARY:Motoclassic Wrocław
DESCRIPTION:
URL:https://klassikauto.pl/impreza/motoclassic-wroclaw/
LOCATION:Ślęza
CATEGORIES:Zlot
END:VEVENT
BEGIN:VEVENT
DTSTART;TZID=Europe/Helsinki:20250823T100000
DTEND;TZID=Europe/Helsinki:20250824T180000
DTSTAMP:20260422T012601
CREATED:20250224T162335Z
LAST-MODIFIED:20250224T162335Z
UID:108715-1755943200-1756058400@klassikauto.pl
SUMMARY:Ogólnopolski Zlot BMW na Pomorzu 2025
DESCRIPTION:
URL:https://klassikauto.pl/impreza/ogolnopolski-zlot-bmw-na-pomorzu-2025/
LOCATION:Kosakowo
CATEGORIES:Zlot
END:VEVENT
BEGIN:VEVENT
DTSTART;TZID=Europe/Helsinki:20250824T070000
DTEND;TZID=Europe/Helsinki:20250824T170000
DTSTAMP:20260422T012601
CREATED:20250204T181107Z
LAST-MODIFIED:20250204T181107Z
UID:108277-1756018800-1756054800@klassikauto.pl
SUMMARY:BGM Wyścigi Górskie - runda 5
DESCRIPTION:
URL:https://klassikauto.pl/impreza/bgm-wyscigi-gorskie-runda-5/
LOCATION:Złoty Stok
CATEGORIES:Rajd
END:VEVENT
BEGIN:VEVENT
DTSTART;TZID=Europe/Helsinki:20250824T140000
DTEND;TZID=Europe/Helsinki:20250824T140000
DTSTAMP:20260422T012601
CREATED:20250531T113945Z
LAST-MODIFIED:20250531T113945Z
UID:110466-1756044000-1756044000@klassikauto.pl
SUMMARY:Czwarte Spotkanie Miłośników Klasycznej Motoryzacji w Łowiczu
DESCRIPTION:
URL:https://klassikauto.pl/impreza/czwarte-spotkanie-milosnikow-klasycznej-motoryzacji-w-lowiczu/
LOCATION:Łowicz
CATEGORIES:Zlot
END:VEVENT
END:VCALENDAR
<!-- RunCloud Hub 2026-04-22 00:26:01 -->