BEGIN:VCALENDAR
VERSION:2.0
PRODID:-//KlassikAuto.pl - ECPv6.7.0//NONSGML v1.0//EN
CALSCALE:GREGORIAN
METHOD:PUBLISH
X-WR-CALNAME:KlassikAuto.pl
X-ORIGINAL-URL:https://klassikauto.pl
X-WR-CALDESC:Wydarzenia dla KlassikAuto.pl
REFRESH-INTERVAL;VALUE=DURATION:PT1H
X-Robots-Tag:noindex
X-PUBLISHED-TTL:PT1H
BEGIN:VTIMEZONE
TZID:Europe/Helsinki
BEGIN:DAYLIGHT
TZOFFSETFROM:+0200
TZOFFSETTO:+0300
TZNAME:EEST
DTSTART:20250330T010000
END:DAYLIGHT
BEGIN:STANDARD
TZOFFSETFROM:+0300
TZOFFSETTO:+0200
TZNAME:EET
DTSTART:20251026T010000
END:STANDARD
END:VTIMEZONE
BEGIN:VEVENT
DTSTART;TZID=Europe/Helsinki:20250627T080000
DTEND;TZID=Europe/Helsinki:20250831T170000
DTSTAMP:20260422T010137
CREATED:20241222T124416Z
LAST-MODIFIED:20241222T124731Z
UID:107161-1751011200-1756659600@klassikauto.pl
SUMMARY:Big in Japan
DESCRIPTION:
URL:https://klassikauto.pl/impreza/big-in-japan/
LOCATION:Museum Autoworld\, Bruksela\, Belgia
CATEGORIES:Wystawa
END:VEVENT
BEGIN:VEVENT
DTSTART;VALUE=DATE:20250812
DTEND;VALUE=DATE:20250820
DTSTAMP:20260422T010137
CREATED:20250427T062121Z
LAST-MODIFIED:20250427T062121Z
UID:109985-1754956800-1755647999@klassikauto.pl
SUMMARY:Skyfall Tour
DESCRIPTION:dla właścicieli Aston Martin
URL:https://klassikauto.pl/impreza/skyfall-tour/
LOCATION:Szkocja
CATEGORIES:Zlot
END:VEVENT
BEGIN:VEVENT
DTSTART;TZID=Europe/Helsinki:20250814T090000
DTEND;TZID=Europe/Helsinki:20250817T090000
DTSTAMP:20260422T010137
CREATED:20250223T152754Z
LAST-MODIFIED:20250223T152754Z
UID:108632-1755162000-1755421200@klassikauto.pl
SUMMARY:XV Zlot Motocyklowy Bike Week Łeba 2025
DESCRIPTION:XV International Motorcycle Rally Poland
URL:https://klassikauto.pl/impreza/xv-zlot-motocyklowy-bike-week-leba-2025/
LOCATION:Łeba
CATEGORIES:Zlot
END:VEVENT
BEGIN:VEVENT
DTSTART;VALUE=DATE:20250815
DTEND;VALUE=DATE:20250818
DTSTAMP:20260422T010137
CREATED:20241229T100428Z
LAST-MODIFIED:20241229T100428Z
UID:107591-1755216000-1755475199@klassikauto.pl
SUMMARY:Akcja Frombork - Wesołe Maluchy i tajemnice Fromborka
DESCRIPTION:
URL:https://klassikauto.pl/impreza/akcja-frombork-wesole-maluchy-i-tajemnice-fromborka/
LOCATION:Frombork
CATEGORIES:Zlot
END:VEVENT
BEGIN:VEVENT
DTSTART;TZID=Europe/Helsinki:20250815T080000
DTEND;TZID=Europe/Helsinki:20250817T150000
DTSTAMP:20260422T010137
CREATED:20250223T142247Z
LAST-MODIFIED:20250223T142247Z
UID:108573-1755244800-1755442800@klassikauto.pl
SUMMARY:21 Ogólnopolski Zlot Fiata 126p
DESCRIPTION:
URL:https://klassikauto.pl/impreza/21-ogolnopolski-zlot-fiata-126p/
LOCATION:Opole
CATEGORIES:Zlot
END:VEVENT
BEGIN:VEVENT
DTSTART;TZID=Europe/Helsinki:20250815T100000
DTEND;TZID=Europe/Helsinki:20250817T160000
DTSTAMP:20260422T010137
CREATED:20250301T094421Z
LAST-MODIFIED:20250301T094421Z
UID:108845-1755252000-1755446400@klassikauto.pl
SUMMARY:I Rajd pojazdów zabytkowych i kolekcjonerskich po ziemi grójeckiej Klasykiem do sadu\,
DESCRIPTION:
URL:https://klassikauto.pl/impreza/i-rajd-pojazdow-zabytkowych-i-kolekcjonerskich-po-ziemi-grojeckiej-klasykiem-do-sadu/
LOCATION:Pniewy
CATEGORIES:Rajd
END:VEVENT
END:VCALENDAR
<!-- RunCloud Hub 2026-04-22 00:01:37 -->