BEGIN:VCALENDAR
VERSION:2.0
PRODID:-//KlassikAuto.pl - ECPv6.7.0//NONSGML v1.0//EN
CALSCALE:GREGORIAN
METHOD:PUBLISH
X-ORIGINAL-URL:https://klassikauto.pl
X-WR-CALDESC:Wydarzenia dla KlassikAuto.pl
REFRESH-INTERVAL;VALUE=DURATION:PT1H
X-Robots-Tag:noindex
X-PUBLISHED-TTL:PT1H
BEGIN:VTIMEZONE
TZID:Europe/Helsinki
BEGIN:DAYLIGHT
TZOFFSETFROM:+0200
TZOFFSETTO:+0300
TZNAME:EEST
DTSTART:20250330T010000
END:DAYLIGHT
BEGIN:STANDARD
TZOFFSETFROM:+0300
TZOFFSETTO:+0200
TZNAME:EET
DTSTART:20251026T010000
END:STANDARD
END:VTIMEZONE
BEGIN:VEVENT
DTSTART;TZID=Europe/Helsinki:20250615T140000
DTEND;TZID=Europe/Helsinki:20250803T140000
DTSTAMP:20260422T040235
CREATED:20250426T185359Z
LAST-MODIFIED:20250426T185359Z
UID:109952-1749996000-1754229600@klassikauto.pl
SUMMARY:I Zlot Klasyków nad jeziorem Mormin
DESCRIPTION:
URL:https://klassikauto.pl/impreza/i-zlot-klasykow-nad-jeziorem-mormin/
LOCATION:Ostroróg
CATEGORIES:Zlot
END:VEVENT
BEGIN:VEVENT
DTSTART;TZID=Europe/Helsinki:20250627T080000
DTEND;TZID=Europe/Helsinki:20250831T170000
DTSTAMP:20260422T040235
CREATED:20241222T124416Z
LAST-MODIFIED:20241222T124731Z
UID:107161-1751011200-1756659600@klassikauto.pl
SUMMARY:Big in Japan
DESCRIPTION:
URL:https://klassikauto.pl/impreza/big-in-japan/
LOCATION:Museum Autoworld\, Bruksela\, Belgia
CATEGORIES:Wystawa
END:VEVENT
BEGIN:VEVENT
DTSTART;TZID=Europe/Helsinki:20250716T160000
DTEND;TZID=Europe/Helsinki:20250721T110000
DTSTAMP:20260422T040235
CREATED:20250427T061701Z
LAST-MODIFIED:20250427T061701Z
UID:109980-1752681600-1753095600@klassikauto.pl
SUMMARY:Scottisch Highland Tour 2025
DESCRIPTION:
URL:https://klassikauto.pl/impreza/scottisch-highland-tour-2025/
LOCATION:Szkocja
CATEGORIES:Rajd
END:VEVENT
BEGIN:VEVENT
DTSTART;TZID=Europe/Helsinki:20250717T120000
DTEND;TZID=Europe/Helsinki:20250720T120000
DTSTAMP:20260422T040235
CREATED:20250630T192749Z
LAST-MODIFIED:20250630T192749Z
UID:111031-1752753600-1753012800@klassikauto.pl
SUMMARY:8. Hollywood US Cars 2025 – sraz americkych aut
DESCRIPTION:
URL:https://klassikauto.pl/impreza/8-hollywood-us-cars-2025-sraz-americkych-aut/
LOCATION:Holysov\, Czechy
CATEGORIES:Zlot
END:VEVENT
BEGIN:VEVENT
DTSTART;TZID=Europe/Helsinki:20250717T190000
DTEND;TZID=Europe/Helsinki:20250720T120000
DTSTAMP:20260422T040235
CREATED:20250608T073927Z
LAST-MODIFIED:20250608T073927Z
UID:110560-1752778800-1753012800@klassikauto.pl
SUMMARY:XVII Ogólnopolski Zlot Zabytkowych Citroenów
DESCRIPTION:
URL:https://klassikauto.pl/impreza/xvii-ogolnopolski-zlot-zabytkowych-citroenow/
LOCATION:Łańcut
CATEGORIES:Zlot
END:VEVENT
BEGIN:VEVENT
DTSTART;VALUE=DATE:20250718
DTEND;VALUE=DATE:20250721
DTSTAMP:20260422T040235
CREATED:20250301T103144Z
LAST-MODIFIED:20250301T103144Z
UID:108874-1752796800-1753055999@klassikauto.pl
SUMMARY:Junkers Day – Tage des Donners / US Car Treffen
DESCRIPTION:
URL:https://klassikauto.pl/impreza/junkers-day-tage-des-donners-us-car-treffen/
LOCATION:Aulendorf\, Niemcy
CATEGORIES:Zlot
END:VEVENT
BEGIN:VEVENT
DTSTART;VALUE=DATE:20250718
DTEND;VALUE=DATE:20250721
DTSTAMP:20260422T040235
CREATED:20250608T111423Z
LAST-MODIFIED:20250608T111423Z
UID:110647-1752796800-1753055999@klassikauto.pl
SUMMARY:Moto Zlot Kiełpiniec Blues Festiwal
DESCRIPTION:
URL:https://klassikauto.pl/impreza/moto-zlot-kielpiniec-blues-festiwal-2/
LOCATION:Kiełpiniec
CATEGORIES:Zlot
END:VEVENT
BEGIN:VEVENT
DTSTART;TZID=Europe/Helsinki:20250718T060000
DTEND;TZID=Europe/Helsinki:20250720T203000
DTSTAMP:20260422T040235
CREATED:20250223T144557Z
LAST-MODIFIED:20250223T144603Z
UID:108603-1752818400-1753043400@klassikauto.pl
SUMMARY:2 Rajd Klasyków LLU po Polsce-Sanok
DESCRIPTION:
URL:https://klassikauto.pl/impreza/2-rajd-klasykow-llu-po-polsce-sanok/
LOCATION:Sanok
CATEGORIES:Rajd
END:VEVENT
BEGIN:VEVENT
DTSTART;TZID=Europe/Helsinki:20250718T120000
DTEND;TZID=Europe/Helsinki:20250720T170000
DTSTAMP:20260422T040235
CREATED:20250204T184331Z
LAST-MODIFIED:20250204T184331Z
UID:108306-1752840000-1753030800@klassikauto.pl
SUMMARY:Japfest 2025 – Tor Poznań\, 12. International Edition
DESCRIPTION:
URL:https://klassikauto.pl/impreza/japfest-2025-tor-poznan-12-international-edition/
CATEGORIES:Targi
END:VEVENT
BEGIN:VEVENT
DTSTART;TZID=Europe/Helsinki:20250719T080000
DTEND;TZID=Europe/Helsinki:20250807T080000
DTSTAMP:20260422T040235
CREATED:20250630T193359Z
LAST-MODIFIED:20250630T193359Z
UID:111036-1752912000-1754553600@klassikauto.pl
SUMMARY:XVI Slansky Okruh
DESCRIPTION:
URL:https://klassikauto.pl/impreza/xvi-slansky-okruh/
LOCATION:Slany\, Czechy
CATEGORIES:Zlot
END:VEVENT
BEGIN:VEVENT
DTSTART;TZID=Europe/Helsinki:20250719T100000
DTEND;TZID=Europe/Helsinki:20250720T170000
DTSTAMP:20260422T040235
CREATED:20250630T193645Z
LAST-MODIFIED:20250630T193645Z
UID:111038-1752919200-1753030800@klassikauto.pl
SUMMARY:Classic Nostalgia
DESCRIPTION:
URL:https://klassikauto.pl/impreza/classic-nostalgia/
LOCATION:Worcester\, Wielka Brytania
CATEGORIES:Zlot
END:VEVENT
BEGIN:VEVENT
DTSTART;VALUE=DATE:20250720
DTEND;VALUE=DATE:20250721
DTSTAMP:20260422T040235
CREATED:20250426T164542Z
LAST-MODIFIED:20250426T164542Z
UID:109856-1752969600-1753055999@klassikauto.pl
SUMMARY:Wystawa pojazdów zabytkowych i klasycznych Weterani Szos 2025
DESCRIPTION:
URL:https://klassikauto.pl/impreza/wystawa-pojazdow-zabytkowych-i-klasycznych-weterani-szos-2025/
LOCATION:Dynów
CATEGORIES:Wystawa
END:VEVENT
BEGIN:VEVENT
DTSTART;TZID=Europe/Helsinki:20250720T070000
DTEND;TZID=Europe/Helsinki:20250720T170000
DTSTAMP:20260422T040235
CREATED:20250204T180950Z
LAST-MODIFIED:20250204T180950Z
UID:108275-1752994800-1753030800@klassikauto.pl
SUMMARY:BGM Wyścig Górski ROŚCISZÓW - runda 4
DESCRIPTION:
URL:https://klassikauto.pl/impreza/bgm-wyscig-gorski-rosciszow-runda-4/
LOCATION:Pieszyce
CATEGORIES:Rajd
END:VEVENT
BEGIN:VEVENT
DTSTART;TZID=Europe/Helsinki:20250720T093000
DTEND;TZID=Europe/Helsinki:20250720T180000
DTSTAMP:20260422T040235
CREATED:20250426T094837Z
LAST-MODIFIED:20250426T094837Z
UID:109715-1753003800-1753034400@klassikauto.pl
SUMMARY:4. Classic Days 2025
DESCRIPTION:
URL:https://klassikauto.pl/impreza/4-classic-days-2025/
LOCATION:Hattingen\, Niemcy
CATEGORIES:Zlot
END:VEVENT
BEGIN:VEVENT
DTSTART;TZID=Europe/Helsinki:20250720T100000
DTEND;TZID=Europe/Helsinki:20250720T100000
DTSTAMP:20260422T040235
CREATED:20250225T194544Z
LAST-MODIFIED:20250225T194544Z
UID:108782-1753005600-1753005600@klassikauto.pl
SUMMARY:Letni Cruising - Turystyczny rajd pojazdów zabytkowych i yountimerów
DESCRIPTION:
URL:https://klassikauto.pl/impreza/letni-cruising-turystyczny-rajd-pojazdow-zabytkowych-i-yountimerow/
LOCATION:Wrocław\, Wrocław\, Poland
CATEGORIES:Rajd
END:VEVENT
BEGIN:VEVENT
DTSTART;TZID=Europe/Helsinki:20250720T110000
DTEND;TZID=Europe/Helsinki:20250720T170000
DTSTAMP:20260422T040235
CREATED:20250301T101911Z
LAST-MODIFIED:20250301T101911Z
UID:108864-1753009200-1753030800@klassikauto.pl
SUMMARY:Motortreff “Alte Schweden"
DESCRIPTION:
URL:https://klassikauto.pl/impreza/motortreff-alte-schweden/
LOCATION:Böblingen\, Niemcy
CATEGORIES:Zlot
END:VEVENT
END:VCALENDAR
<!-- RunCloud Hub 2026-04-22 03:02:35 -->