BEGIN:VCALENDAR
VERSION:2.0
PRODID:-//KlassikAuto.pl - ECPv6.7.0//NONSGML v1.0//EN
CALSCALE:GREGORIAN
METHOD:PUBLISH
X-ORIGINAL-URL:https://klassikauto.pl
X-WR-CALDESC:Wydarzenia dla KlassikAuto.pl
REFRESH-INTERVAL;VALUE=DURATION:PT1H
X-Robots-Tag:noindex
X-PUBLISHED-TTL:PT1H
BEGIN:VTIMEZONE
TZID:Europe/Helsinki
BEGIN:DAYLIGHT
TZOFFSETFROM:+0200
TZOFFSETTO:+0300
TZNAME:EEST
DTSTART:20250330T010000
END:DAYLIGHT
BEGIN:STANDARD
TZOFFSETFROM:+0300
TZOFFSETTO:+0200
TZNAME:EET
DTSTART:20251026T010000
END:STANDARD
END:VTIMEZONE
BEGIN:VEVENT
DTSTART;TZID=Europe/Helsinki:20250615T140000
DTEND;TZID=Europe/Helsinki:20250803T140000
DTSTAMP:20260422T040235
CREATED:20250426T185359Z
LAST-MODIFIED:20250426T185359Z
UID:109952-1749996000-1754229600@klassikauto.pl
SUMMARY:I Zlot Klasyków nad jeziorem Mormin
DESCRIPTION:
URL:https://klassikauto.pl/impreza/i-zlot-klasykow-nad-jeziorem-mormin/
LOCATION:Ostroróg
CATEGORIES:Zlot
END:VEVENT
BEGIN:VEVENT
DTSTART;TZID=Europe/Helsinki:20250627T080000
DTEND;TZID=Europe/Helsinki:20250831T170000
DTSTAMP:20260422T040235
CREATED:20241222T124416Z
LAST-MODIFIED:20241222T124731Z
UID:107161-1751011200-1756659600@klassikauto.pl
SUMMARY:Big in Japan
DESCRIPTION:
URL:https://klassikauto.pl/impreza/big-in-japan/
LOCATION:Museum Autoworld\, Bruksela\, Belgia
CATEGORIES:Wystawa
END:VEVENT
BEGIN:VEVENT
DTSTART;TZID=Europe/Helsinki:20250703T150000
DTEND;TZID=Europe/Helsinki:20250706T100000
DTSTAMP:20260422T040235
CREATED:20250531T060056Z
LAST-MODIFIED:20250531T060056Z
UID:110388-1751554800-1751796000@klassikauto.pl
SUMMARY:XX Ogólnopolski Zlot Astra Tuning Team
DESCRIPTION:
URL:https://klassikauto.pl/impreza/xx-ogolnopolski-zlot-astra-tuning-team/
LOCATION:Bełchatów
CATEGORIES:Zlot
END:VEVENT
BEGIN:VEVENT
DTSTART;TZID=Europe/Helsinki:20250703T150000
DTEND;TZID=Europe/Helsinki:20250707T100000
DTSTAMP:20260422T040235
CREATED:20250427T061513Z
LAST-MODIFIED:20250427T061513Z
UID:109978-1751554800-1751882400@klassikauto.pl
SUMMARY:Le Mans Classic 2025
DESCRIPTION:
URL:https://klassikauto.pl/impreza/le-mans-classic-2025/
LOCATION:Le Mans\, Francja
CATEGORIES:Rajd,Zlot
END:VEVENT
BEGIN:VEVENT
DTSTART;VALUE=DATE:20250704
DTEND;VALUE=DATE:20250707
DTSTAMP:20260422T040235
CREATED:20250301T105633Z
LAST-MODIFIED:20250301T105633Z
UID:108884-1751587200-1751846399@klassikauto.pl
SUMMARY:Hangar Rockin Festival 2025
DESCRIPTION:
URL:https://klassikauto.pl/impreza/hangar-rockin-festival-2025/
LOCATION:Sankt Stephan Bern\, Szwajcaria
CATEGORIES:Zlot
END:VEVENT
BEGIN:VEVENT
DTSTART;VALUE=DATE:20250704
DTEND;VALUE=DATE:20250707
DTSTAMP:20260422T040235
CREATED:20250406T092542Z
LAST-MODIFIED:20250406T092542Z
UID:109574-1751587200-1751846399@klassikauto.pl
SUMMARY:XXI Międzynarodowy Zlot Miłośników VW Garbusa w Sztumie
DESCRIPTION:
URL:https://klassikauto.pl/impreza/xxi-miedzynarodowy-zlot-milosnikow-vw-garbusa-w-sztumie/
LOCATION:Sztum
CATEGORIES:Zlot
END:VEVENT
BEGIN:VEVENT
DTSTART;VALUE=DATE:20250704
DTEND;VALUE=DATE:20250710
DTSTAMP:20260422T040235
CREATED:20241225T112608Z
LAST-MODIFIED:20241225T112608Z
UID:107352-1751587200-1752105599@klassikauto.pl
SUMMARY:III Gruz Rally Wschodnie Rubieże PL
DESCRIPTION:
URL:https://klassikauto.pl/impreza/iii-gruz-rally-wschodnie-rubieze-pl/
CATEGORIES:Rajd
END:VEVENT
BEGIN:VEVENT
DTSTART;TZID=Europe/Helsinki:20250704T100000
DTEND;TZID=Europe/Helsinki:20250706T170000
DTSTAMP:20260422T040235
CREATED:20250630T165451Z
LAST-MODIFIED:20250630T165451Z
UID:110970-1751623200-1751821200@klassikauto.pl
SUMMARY:American Picnic vol. 4
DESCRIPTION:
URL:https://klassikauto.pl/impreza/american-picnic-vol-4/
LOCATION:Warszawa
CATEGORIES:Zlot
END:VEVENT
BEGIN:VEVENT
DTSTART;TZID=Europe/Helsinki:20250704T120000
DTEND;TZID=Europe/Helsinki:20250706T160000
DTSTAMP:20260422T040235
CREATED:20250223T103225Z
LAST-MODIFIED:20250223T103225Z
UID:108562-1751630400-1751817600@klassikauto.pl
SUMMARY:Osaka IX – Zlot Fanów Japońskiej Motoryzacji
DESCRIPTION:
URL:https://klassikauto.pl/impreza/osaka-ix-zlot-fanow-japonskiej-motoryzacji/
LOCATION:Nowa Wieś
CATEGORIES:Zlot
END:VEVENT
BEGIN:VEVENT
DTSTART;TZID=Europe/Helsinki:20250704T160000
DTEND;TZID=Europe/Helsinki:20250706T100000
DTSTAMP:20260422T040235
CREATED:20250630T170226Z
LAST-MODIFIED:20250630T170226Z
UID:110978-1751644800-1751796000@klassikauto.pl
SUMMARY:XXVIII Mazowiecki Rajd Weteranów Szos MAGNET 2025
DESCRIPTION:
URL:https://klassikauto.pl/impreza/xxviii-mazowiecki-rajd-weteranow-szos-magnet-2025/
LOCATION:Mińsk Mazowiecki
CATEGORIES:Rajd
END:VEVENT
BEGIN:VEVENT
DTSTART;TZID=Europe/Helsinki:20250704T160000
DTEND;TZID=Europe/Helsinki:20250706T140000
DTSTAMP:20260422T040235
CREATED:20250630T200734Z
LAST-MODIFIED:20250630T200734Z
UID:111059-1751644800-1751810400@klassikauto.pl
SUMMARY:VI Zlot Fiata 126p
DESCRIPTION:
URL:https://klassikauto.pl/impreza/vi-zlot-fiata-126p/
LOCATION:Lubasz
CATEGORIES:Zlot
END:VEVENT
BEGIN:VEVENT
DTSTART;TZID=Europe/Helsinki:20250704T170000
DTEND;TZID=Europe/Helsinki:20250706T120000
DTSTAMP:20260422T040235
CREATED:20250427T062947Z
LAST-MODIFIED:20250427T062947Z
UID:109992-1751648400-1751803200@klassikauto.pl
SUMMARY:III Zlot Amerykańskiej Motoryzacji oraz Motocykli Klasycznej z całego świata
DESCRIPTION:
URL:https://klassikauto.pl/impreza/iii-zlot-amerykanskiej-motoryzacji-oraz-motocykli-klasycznej-z-calego-swiata/
LOCATION:Wałcz
CATEGORIES:Zlot
END:VEVENT
BEGIN:VEVENT
DTSTART;VALUE=DATE:20250705
DTEND;VALUE=DATE:20250707
DTSTAMP:20260422T040235
CREATED:20250301T133739Z
LAST-MODIFIED:20250301T133739Z
UID:108910-1751673600-1751846399@klassikauto.pl
SUMMARY:Silbfirschla meet&greet
DESCRIPTION:Hotrods\, Kustom Cars\, US Klassiker do 1965\, Chopper und Bobber
URL:https://klassikauto.pl/impreza/silbfirschla-meetgreet/
LOCATION:Lomersheim\, Niemcy
CATEGORIES:Zlot
END:VEVENT
BEGIN:VEVENT
DTSTART;TZID=Europe/Helsinki:20250705T080000
DTEND;TZID=Europe/Helsinki:20250709T170000
DTSTAMP:20260422T040235
CREATED:20250531T060523Z
LAST-MODIFIED:20250531T060523Z
UID:110390-1751702400-1752080400@klassikauto.pl
SUMMARY:Złombol 2025\, 19 edycja
DESCRIPTION:
URL:https://klassikauto.pl/impreza/zlombol-2025-19-edycja/
LOCATION:Chorzów
CATEGORIES:Rajd
END:VEVENT
BEGIN:VEVENT
DTSTART;TZID=Europe/Helsinki:20250705T090000
DTEND;TZID=Europe/Helsinki:20250706T120000
DTSTAMP:20260422T040235
CREATED:20250426T173101Z
LAST-MODIFIED:20250426T173119Z
UID:109906-1751706000-1751803200@klassikauto.pl
SUMMARY:Zlot pojazdów zabytkowych – Katarzynowo 2025
DESCRIPTION:
URL:https://klassikauto.pl/impreza/zlot-pojazdow-zabytkowych-katarzynowo-2025/
LOCATION:Rawicz
CATEGORIES:Zlot
END:VEVENT
BEGIN:VEVENT
DTSTART;TZID=Europe/Helsinki:20250705T090000
DTEND;TZID=Europe/Helsinki:20250706T180000
DTSTAMP:20260422T040235
CREATED:20250301T135528Z
LAST-MODIFIED:20250301T135528Z
UID:108919-1751706000-1751824800@klassikauto.pl
SUMMARY:MotoShow Limanowa 2025
DESCRIPTION:
URL:https://klassikauto.pl/impreza/motoshow-limanowa-2025/
LOCATION:Limanowa
CATEGORIES:Zlot
END:VEVENT
BEGIN:VEVENT
DTSTART;TZID=Europe/Helsinki:20250705T100000
DTEND;TZID=Europe/Helsinki:20250706T170000
DTSTAMP:20260422T040235
CREATED:20250426T095111Z
LAST-MODIFIED:20250426T095111Z
UID:109717-1751709600-1751821200@klassikauto.pl
SUMMARY:Trecker und Oldtimertreffen Bochum Sundern
DESCRIPTION:
URL:https://klassikauto.pl/impreza/trecker-und-oldtimertreffen-bochum-sundern/
LOCATION:Bochum\, Niemcy
CATEGORIES:Zlot
END:VEVENT
BEGIN:VEVENT
DTSTART;TZID=Europe/Helsinki:20250705T110000
DTEND;TZID=Europe/Helsinki:20250706T230000
DTSTAMP:20260422T040235
CREATED:20250330T111631Z
LAST-MODIFIED:20250330T111631Z
UID:109367-1751713200-1751842800@klassikauto.pl
SUMMARY:II Wielkanocny Powrót do Przyszłości – Zlot Pojazdów Zabytkowych
DESCRIPTION:
URL:https://klassikauto.pl/impreza/ii-wielkanocny-powrot-do-przyszlosci-zlot-pojazdow-zabytkowych/
LOCATION:Wielkanoc
CATEGORIES:Zlot
END:VEVENT
BEGIN:VEVENT
DTSTART;TZID=Europe/Helsinki:20250705T120000
DTEND;TZID=Europe/Helsinki:20250706T120000
DTSTAMP:20260422T040235
CREATED:20250608T073109Z
LAST-MODIFIED:20250608T073109Z
UID:110553-1751716800-1751803200@klassikauto.pl
SUMMARY:700 kilometrów dla zwierzaków – wielka podróż dla jeszcze większej sprawy
DESCRIPTION:
URL:https://klassikauto.pl/impreza/700-kilometrow-dla-zwierzakow-wielka-podroz-dla-jeszcze-wiekszej-sprawy/
LOCATION:Warszawa
CATEGORIES:Rajd
END:VEVENT
BEGIN:VEVENT
DTSTART;VALUE=DATE:20250706
DTEND;VALUE=DATE:20250708
DTSTAMP:20260422T040235
CREATED:20250426T164918Z
LAST-MODIFIED:20250426T164918Z
UID:109861-1751760000-1751932799@klassikauto.pl
SUMMARY:Party with Infamous Crew
DESCRIPTION:
URL:https://klassikauto.pl/impreza/party-with-infamous-crew/
LOCATION:Sieniawa
CATEGORIES:Zlot
END:VEVENT
BEGIN:VEVENT
DTSTART;TZID=Europe/Helsinki:20250706T083000
DTEND;TZID=Europe/Helsinki:20250706T163000
DTSTAMP:20260422T040235
CREATED:20250630T171759Z
LAST-MODIFIED:20250630T171759Z
UID:110989-1751790600-1751819400@klassikauto.pl
SUMMARY:X Rajd Pojazdów Zabytkowych RETRO
DESCRIPTION:
URL:https://klassikauto.pl/impreza/x-rajd-pojazdow-zabytkowych-retro/
LOCATION:Wisła
CATEGORIES:Rajd
END:VEVENT
BEGIN:VEVENT
DTSTART;TZID=Europe/Helsinki:20250706T090000
DTEND;TZID=Europe/Helsinki:20250706T090000
DTSTAMP:20260422T040235
CREATED:20250630T172400Z
LAST-MODIFIED:20250630T172400Z
UID:110994-1751792400-1751792400@klassikauto.pl
SUMMARY:Rally Quaranta Miglia: Tropical Heat
DESCRIPTION:
URL:https://klassikauto.pl/impreza/rally-quaranta-miglia-tropical-heat/
LOCATION:Warszawa
CATEGORIES:Rajd
END:VEVENT
BEGIN:VEVENT
DTSTART;TZID=Europe/Helsinki:20250706T100000
DTEND;TZID=Europe/Helsinki:20250706T100000
DTSTAMP:20260422T040235
CREATED:20241229T094129Z
LAST-MODIFIED:20241229T094129Z
UID:107587-1751796000-1751796000@klassikauto.pl
SUMMARY:10 Edycja "Tłokowisko" by Oldtimery Garwolin
DESCRIPTION:
URL:https://klassikauto.pl/impreza/10-edycja-tlokowisko-by-oldtimery-garwolin/
LOCATION:Garwolin
CATEGORIES:Zlot
END:VEVENT
BEGIN:VEVENT
DTSTART;TZID=Europe/Helsinki:20250706T100000
DTEND;TZID=Europe/Helsinki:20250706T100000
DTSTAMP:20260422T040235
CREATED:20250223T143431Z
LAST-MODIFIED:20250223T143431Z
UID:108585-1751796000-1751796000@klassikauto.pl
SUMMARY:I Sądecki Rajd Pojazdów Zabytkowych
DESCRIPTION:
URL:https://klassikauto.pl/impreza/i-sadecki-rajd-pojazdow-zabytkowych/
LOCATION:Nowy Sącz
CATEGORIES:Rajd
END:VEVENT
BEGIN:VEVENT
DTSTART;TZID=Europe/Helsinki:20250706T100000
DTEND;TZID=Europe/Helsinki:20250706T100000
DTSTAMP:20260422T040235
CREATED:20250223T143738Z
LAST-MODIFIED:20250223T143738Z
UID:108589-1751796000-1751796000@klassikauto.pl
SUMMARY:VII Wakacyjny Zlot Pojazdów Zabytkowych
DESCRIPTION:
URL:https://klassikauto.pl/impreza/vii-wakacyjny-zlot-pojazdow-zabytkowych/
LOCATION:Lisia Góra
CATEGORIES:Zlot
END:VEVENT
BEGIN:VEVENT
DTSTART;TZID=Europe/Helsinki:20250706T100000
DTEND;TZID=Europe/Helsinki:20250706T170000
DTSTAMP:20260422T040235
CREATED:20250426T145015Z
LAST-MODIFIED:20250426T145015Z
UID:109766-1751796000-1751821200@klassikauto.pl
SUMMARY:MOHAG Klassik 2025
DESCRIPTION:
URL:https://klassikauto.pl/impreza/mohag-klassik-2025/
LOCATION:Gelsenkirchen\, Niemcy
CATEGORIES:Zlot
END:VEVENT
BEGIN:VEVENT
DTSTART;TZID=Europe/Helsinki:20250706T130000
DTEND;TZID=Europe/Helsinki:20250706T130000
DTSTAMP:20260422T040235
CREATED:20250630T171959Z
LAST-MODIFIED:20250630T171959Z
UID:110991-1751806800-1751806800@klassikauto.pl
SUMMARY:6 Zlot Pojazdów Zabytkowych
DESCRIPTION:
URL:https://klassikauto.pl/impreza/6-zlot-pojazdow-zabytkowych/
LOCATION:Bolatice\, Czechy
CATEGORIES:Zlot
END:VEVENT
BEGIN:VEVENT
DTSTART;TZID=Europe/Helsinki:20250706T150000
DTEND;TZID=Europe/Helsinki:20250706T150000
DTSTAMP:20260422T040235
CREATED:20250630T172616Z
LAST-MODIFIED:20250630T172616Z
UID:110996-1751814000-1751814000@klassikauto.pl
SUMMARY:Klasyczny Urodzinowy Spot – 4 Urodziny KZ
DESCRIPTION:
URL:https://klassikauto.pl/impreza/klasyczny-urodzinowy-spot-4-urodziny-kz/
LOCATION:Zabrze
CATEGORIES:Spot
END:VEVENT
END:VCALENDAR
<!-- RunCloud Hub 2026-04-22 03:02:35 -->