BEGIN:VCALENDAR
VERSION:2.0
PRODID:-//KlassikAuto.pl - ECPv6.7.0//NONSGML v1.0//EN
CALSCALE:GREGORIAN
METHOD:PUBLISH
X-ORIGINAL-URL:https://klassikauto.pl
X-WR-CALDESC:Wydarzenia dla KlassikAuto.pl
REFRESH-INTERVAL;VALUE=DURATION:PT1H
X-Robots-Tag:noindex
X-PUBLISHED-TTL:PT1H
BEGIN:VTIMEZONE
TZID:Europe/Helsinki
BEGIN:DAYLIGHT
TZOFFSETFROM:+0200
TZOFFSETTO:+0300
TZNAME:EEST
DTSTART:20250330T010000
END:DAYLIGHT
BEGIN:STANDARD
TZOFFSETFROM:+0300
TZOFFSETTO:+0200
TZNAME:EET
DTSTART:20251026T010000
END:STANDARD
END:VTIMEZONE
BEGIN:VEVENT
DTSTART;TZID=Europe/Helsinki:20250425T080000
DTEND;TZID=Europe/Helsinki:20250622T170000
DTSTAMP:20260422T054956
CREATED:20241222T124228Z
LAST-MODIFIED:20241222T124228Z
UID:107158-1745568000-1750611600@klassikauto.pl
SUMMARY:Citroën DS – An Icon Turns 70
DESCRIPTION:
URL:https://klassikauto.pl/impreza/citroen-ds-an-icon-turns-70/
LOCATION:Museum Autoworld\, Bruksela\, Belgia
CATEGORIES:Wystawa
END:VEVENT
BEGIN:VEVENT
DTSTART;TZID=Europe/Helsinki:20250615T140000
DTEND;TZID=Europe/Helsinki:20250803T140000
DTSTAMP:20260422T054956
CREATED:20250426T185359Z
LAST-MODIFIED:20250426T185359Z
UID:109952-1749996000-1754229600@klassikauto.pl
SUMMARY:I Zlot Klasyków nad jeziorem Mormin
DESCRIPTION:
URL:https://klassikauto.pl/impreza/i-zlot-klasykow-nad-jeziorem-mormin/
LOCATION:Ostroróg
CATEGORIES:Zlot
END:VEVENT
BEGIN:VEVENT
DTSTART;VALUE=DATE:20250618
DTEND;VALUE=DATE:20250623
DTSTAMP:20260422T054956
CREATED:20250426T085918Z
LAST-MODIFIED:20250426T085918Z
UID:109681-1750204800-1750636799@klassikauto.pl
SUMMARY:I Zlot Tik Tok - Rozpoczęcie Wakacji 2025
DESCRIPTION:Pole Campingowe Kitowski
URL:https://klassikauto.pl/impreza/i-zlot-tik-tok-rozpoczecie-wakacji-2025/
LOCATION:Miechucino
CATEGORIES:Zlot
END:VEVENT
BEGIN:VEVENT
DTSTART;VALUE=DATE:20250619
DTEND;VALUE=DATE:20250623
DTSTAMP:20260422T054956
CREATED:20241229T093949Z
LAST-MODIFIED:20241229T093949Z
UID:107584-1750291200-1750636799@klassikauto.pl
SUMMARY:III Rajd Wileński 2025
DESCRIPTION:
URL:https://klassikauto.pl/impreza/iii-rajd-wilenski-2025/
LOCATION:Rutka-Tartak
CATEGORIES:Rajd
END:VEVENT
BEGIN:VEVENT
DTSTART;TZID=Europe/Helsinki:20250619T120000
DTEND;TZID=Europe/Helsinki:20250622T120000
DTSTAMP:20260422T054956
CREATED:20241226T085324Z
LAST-MODIFIED:20241226T085333Z
UID:107375-1750334400-1750593600@klassikauto.pl
SUMMARY:68. International Deutsche Schnauferl-Rallye 2025
DESCRIPTION:
URL:https://klassikauto.pl/impreza/68-international-deutsche-schnauferl-rallye-2025/
LOCATION:Sinsheim\, Niemcy
CATEGORIES:Rajd
END:VEVENT
BEGIN:VEVENT
DTSTART;TZID=Europe/Helsinki:20250619T130000
DTEND;TZID=Europe/Helsinki:20250622T130000
DTSTAMP:20260422T054956
CREATED:20250223T151611Z
LAST-MODIFIED:20250223T151611Z
UID:108619-1750338000-1750597200@klassikauto.pl
SUMMARY:Jelczański Zlot Motocyklowy
DESCRIPTION:
URL:https://klassikauto.pl/impreza/jelczanski-zlot-motocyklowy/
LOCATION:Jelcz Laskowice
CATEGORIES:Zlot
END:VEVENT
BEGIN:VEVENT
DTSTART;VALUE=DATE:20250620
DTEND;VALUE=DATE:20250623
DTSTAMP:20260422T054956
CREATED:20250608T085105Z
LAST-MODIFIED:20250608T085105Z
UID:110627-1750377600-1750636799@klassikauto.pl
SUMMARY:Vikend Elegance 2025
DESCRIPTION:
URL:https://klassikauto.pl/impreza/vikend-elegance-2025/
LOCATION:Hradec Kralove\, Czechy
CATEGORIES:Zlot
END:VEVENT
BEGIN:VEVENT
DTSTART;TZID=Europe/Helsinki:20250620T070000
DTEND;TZID=Europe/Helsinki:20250622T160000
DTSTAMP:20260422T054956
CREATED:20250426T153142Z
LAST-MODIFIED:20250426T153142Z
UID:109807-1750402800-1750608000@klassikauto.pl
SUMMARY:Trabant – IFA\, sraz Vřešť’ov 2025
DESCRIPTION:
URL:https://klassikauto.pl/impreza/trabant-ifa-sraz-vrestov-2025/
LOCATION:Velký Vřešťov\, Czechy
CATEGORIES:Zlot
END:VEVENT
BEGIN:VEVENT
DTSTART;TZID=Europe/Helsinki:20250620T080000
DTEND;TZID=Europe/Helsinki:20250622T200000
DTSTAMP:20260422T054956
CREATED:20241226T083659Z
LAST-MODIFIED:20241226T083659Z
UID:107361-1750406400-1750622400@klassikauto.pl
SUMMARY:XII Międzynarodowy Zlot Pojazdów Amerykańskich
DESCRIPTION:
URL:https://klassikauto.pl/impreza/xii-miedzynarodowy-zlot-pojazdow-amerykanskich/
LOCATION:Katowice
CATEGORIES:Zlot
END:VEVENT
BEGIN:VEVENT
DTSTART;TZID=Europe/Helsinki:20250620T080000
DTEND;TZID=Europe/Helsinki:20250622T200000
DTSTAMP:20260422T054956
CREATED:20250204T185123Z
LAST-MODIFIED:20250301T150927Z
UID:108311-1750406400-1750622400@klassikauto.pl
SUMMARY:American Cars Mania – XII Międzynarodowy Zlot Pojazdów Amerykańskich
DESCRIPTION:największy zlot amerykańskich samochodów w Polsce
URL:https://klassikauto.pl/impreza/american-cars-mania-xii-miedzynarodowy-zlot-pojazdow-amerykanskich/
LOCATION:Katowice
CATEGORIES:Zlot
END:VEVENT
BEGIN:VEVENT
DTSTART;TZID=Europe/Helsinki:20250620T120000
DTEND;TZID=Europe/Helsinki:20250622T120000
DTSTAMP:20260422T054956
CREATED:20250223T154256Z
LAST-MODIFIED:20250223T154256Z
UID:108650-1750420800-1750593600@klassikauto.pl
SUMMARY:VI Moto Niedźwiedź Rawicz
DESCRIPTION:
URL:https://klassikauto.pl/impreza/vi-moto-niedzwiedz-rawicz/
LOCATION:Rawicz
CATEGORIES:Zlot
END:VEVENT
BEGIN:VEVENT
DTSTART;TZID=Europe/Helsinki:20250620T130000
DTEND;TZID=Europe/Helsinki:20250622T140000
DTSTAMP:20260422T054956
CREATED:20250608T085425Z
LAST-MODIFIED:20250608T085425Z
UID:110629-1750424400-1750600800@klassikauto.pl
SUMMARY:XXIII Jubileuszowy Zlot VW GarBusa & CO
DESCRIPTION:
URL:https://klassikauto.pl/impreza/xxiii-jubileuszowy-zlot-vw-garbusa-co/
LOCATION:Powidz
CATEGORIES:Zlot
END:VEVENT
BEGIN:VEVENT
DTSTART;TZID=Europe/Helsinki:20250620T160000
DTEND;TZID=Europe/Helsinki:20250622T150000
DTSTAMP:20260422T054956
CREATED:20250608T075329Z
LAST-MODIFIED:20250608T075329Z
UID:110577-1750435200-1750604400@klassikauto.pl
SUMMARY:XIX Rajd Weteranów Szos po Ziemi Mogileńskiej
DESCRIPTION:
URL:https://klassikauto.pl/impreza/xix-rajd-weteranow-szos-po-ziemi-mogilenskiej/
LOCATION:Mogilno
CATEGORIES:Rajd
END:VEVENT
BEGIN:VEVENT
DTSTART;TZID=Europe/Helsinki:20250620T180000
DTEND;TZID=Europe/Helsinki:20250622T120000
DTSTAMP:20260422T054956
CREATED:20250204T192742Z
LAST-MODIFIED:20250204T192742Z
UID:108339-1750442400-1750593600@klassikauto.pl
SUMMARY:Jubileuszowa X Zlot Merc Integra
DESCRIPTION:
URL:https://klassikauto.pl/impreza/jubileuszowa-x-zlot-merc-integra/
LOCATION:Serock
CATEGORIES:Zlot
END:VEVENT
BEGIN:VEVENT
DTSTART;TZID=Europe/Helsinki:20250621T100000
DTEND;TZID=Europe/Helsinki:20250622T150000
DTSTAMP:20260422T054956
CREATED:20250224T151051Z
LAST-MODIFIED:20250224T151051Z
UID:108668-1750500000-1750604400@klassikauto.pl
SUMMARY:Moto Summer Seven
DESCRIPTION:
URL:https://klassikauto.pl/impreza/moto-summer-seven/
LOCATION:Syców
CATEGORIES:Zlot
END:VEVENT
BEGIN:VEVENT
DTSTART;VALUE=DATE:20250622
DTEND;VALUE=DATE:20250623
DTSTAMP:20260422T054956
CREATED:20241226T084724Z
LAST-MODIFIED:20241226T084724Z
UID:107367-1750550400-1750636799@klassikauto.pl
SUMMARY:Ogólnopolska Giełda Modeli Samochodów im. Sławoja Gwiazdowskiego
DESCRIPTION:
URL:https://klassikauto.pl/impreza/ogolnopolska-gielda-modeli-samochodow-im-slawoja-gwiazdowskiego-19/
LOCATION:Warszawa
CATEGORIES:Giełda
END:VEVENT
BEGIN:VEVENT
DTSTART;VALUE=DATE:20250622
DTEND;VALUE=DATE:20250623
DTSTAMP:20260422T054956
CREATED:20241228T155310Z
LAST-MODIFIED:20241228T155310Z
UID:107489-1750550400-1750636799@klassikauto.pl
SUMMARY:Volkstyle Base
DESCRIPTION:
URL:https://klassikauto.pl/impreza/volkstyle-base-2/
LOCATION:Weeze\, Niemcy
CATEGORIES:Zlot
END:VEVENT
BEGIN:VEVENT
DTSTART;TZID=Europe/Helsinki:20250622T070000
DTEND;TZID=Europe/Helsinki:20250622T170000
DTSTAMP:20260422T054956
CREATED:20250204T180848Z
LAST-MODIFIED:20250204T180848Z
UID:108272-1750575600-1750611600@klassikauto.pl
SUMMARY:BGM Wyścig Górski JODŁOWNIK - runda 3
DESCRIPTION:
URL:https://klassikauto.pl/impreza/bgm-wyscig-gorski-jodlownik-runda-3/
LOCATION:Dzierżoniów
CATEGORIES:Rajd
END:VEVENT
BEGIN:VEVENT
DTSTART;TZID=Europe/Helsinki:20250622T100000
DTEND;TZID=Europe/Helsinki:20250622T110000
DTSTAMP:20260422T054956
CREATED:20250531T120102Z
LAST-MODIFIED:20250531T120102Z
UID:110482-1750586400-1750590000@klassikauto.pl
SUMMARY:Moto Piknik Luzino 2025
DESCRIPTION:
URL:https://klassikauto.pl/impreza/moto-piknik-luzino-2025/
LOCATION:Luzino
CATEGORIES:Zlot
END:VEVENT
BEGIN:VEVENT
DTSTART;TZID=Europe/Helsinki:20250622T100000
DTEND;TZID=Europe/Helsinki:20250622T170000
DTSTAMP:20260422T054956
CREATED:20250224T161636Z
LAST-MODIFIED:20250224T161636Z
UID:108707-1750586400-1750611600@klassikauto.pl
SUMMARY:III oficjalny zlot BMW ALPINA
DESCRIPTION:
URL:https://klassikauto.pl/impreza/iii-oficjalny-zlot-bmw-alpina/
LOCATION:Kraków
CATEGORIES:Zlot
END:VEVENT
BEGIN:VEVENT
DTSTART;TZID=Europe/Helsinki:20250622T100000
DTEND;TZID=Europe/Helsinki:20250622T170000
DTSTAMP:20260422T054956
CREATED:20250426T100351Z
LAST-MODIFIED:20250426T100351Z
UID:109729-1750586400-1750611600@klassikauto.pl
SUMMARY:American Car Show – Airport Drag Race Day – US Car Festival
DESCRIPTION:
URL:https://klassikauto.pl/impreza/american-car-show-airport-drag-race-day-us-car-festival/
LOCATION:Marl\, Niemcy
CATEGORIES:Zlot
END:VEVENT
BEGIN:VEVENT
DTSTART;TZID=Europe/Helsinki:20250622T110000
DTEND;TZID=Europe/Helsinki:20250622T110000
DTSTAMP:20260422T054956
CREATED:20250531T081105Z
LAST-MODIFIED:20250531T130222Z
UID:110408-1750590000-1750590000@klassikauto.pl
SUMMARY:7 Tłuszczański Rajd Pojazdów Zabytkowych – „Śladami Cichociemnych”
DESCRIPTION:
URL:https://klassikauto.pl/impreza/7-tluszczanski-rajd-pojazdow-zabytkowych-sladami-cichociemnych/
LOCATION:Tłuszcz
CATEGORIES:Rajd
END:VEVENT
BEGIN:VEVENT
DTSTART;TZID=Europe/Helsinki:20250622T110000
DTEND;TZID=Europe/Helsinki:20250622T150000
DTSTAMP:20260422T054956
CREATED:20250608T075518Z
LAST-MODIFIED:20250608T075518Z
UID:110579-1750590000-1750604400@klassikauto.pl
SUMMARY:Wystawa Klasyków w ramach XIX Rajdu Weteranów Szos po Ziemi Mogileńskiej
DESCRIPTION:
URL:https://klassikauto.pl/impreza/wystawa-klasykow-w-ramach-xix-rajdu-weteranow-szos-po-ziemi-mogilenskiej/
LOCATION:Mogilno
CATEGORIES:Wystawa
END:VEVENT
BEGIN:VEVENT
DTSTART;TZID=Europe/Helsinki:20250622T120000
DTEND;TZID=Europe/Helsinki:20250622T120000
DTSTAMP:20260422T054956
CREATED:20250531T063431Z
LAST-MODIFIED:20250531T063431Z
UID:110399-1750593600-1750593600@klassikauto.pl
SUMMARY:Charytatywny Piknik IPA Ropczyce i Zlot Pojazdów Zabytkowych
DESCRIPTION:
URL:https://klassikauto.pl/impreza/charytatywny-piknik-ipa-ropczyce-i-zlot-pojazdow-zabytkowych/
LOCATION:Ropczyce
CATEGORIES:Zlot
END:VEVENT
BEGIN:VEVENT
DTSTART;TZID=Europe/Helsinki:20250622T120000
DTEND;TZID=Europe/Helsinki:20250622T170000
DTSTAMP:20260422T054956
CREATED:20250608T072412Z
LAST-MODIFIED:20250608T072412Z
UID:110549-1750593600-1750611600@klassikauto.pl
SUMMARY:Legendy Motoryzacji 6
DESCRIPTION:
URL:https://klassikauto.pl/impreza/legendy-motoryzacji-6/
LOCATION:Iława
CATEGORIES:Zlot
END:VEVENT
END:VCALENDAR
<!-- RunCloud Hub 2026-04-22 04:49:56 -->