BEGIN:VCALENDAR
VERSION:2.0
PRODID:-//KlassikAuto.pl - ECPv6.7.0//NONSGML v1.0//EN
CALSCALE:GREGORIAN
METHOD:PUBLISH
X-WR-CALNAME:KlassikAuto.pl
X-ORIGINAL-URL:https://klassikauto.pl
X-WR-CALDESC:Wydarzenia dla KlassikAuto.pl
REFRESH-INTERVAL;VALUE=DURATION:PT1H
X-Robots-Tag:noindex
X-PUBLISHED-TTL:PT1H
BEGIN:VTIMEZONE
TZID:Europe/Helsinki
BEGIN:DAYLIGHT
TZOFFSETFROM:+0200
TZOFFSETTO:+0300
TZNAME:EEST
DTSTART:20250330T010000
END:DAYLIGHT
BEGIN:STANDARD
TZOFFSETFROM:+0300
TZOFFSETTO:+0200
TZNAME:EET
DTSTART:20251026T010000
END:STANDARD
END:VTIMEZONE
BEGIN:VEVENT
DTSTART;TZID=Europe/Helsinki:20250425T080000
DTEND;TZID=Europe/Helsinki:20250622T170000
DTSTAMP:20260422T054903
CREATED:20241222T124228Z
LAST-MODIFIED:20241222T124228Z
UID:107158-1745568000-1750611600@klassikauto.pl
SUMMARY:Citroën DS – An Icon Turns 70
DESCRIPTION:
URL:https://klassikauto.pl/impreza/citroen-ds-an-icon-turns-70/
LOCATION:Museum Autoworld\, Bruksela\, Belgia
CATEGORIES:Wystawa
END:VEVENT
BEGIN:VEVENT
DTSTART;VALUE=DATE:20250614
DTEND;VALUE=DATE:20250622
DTSTAMP:20260422T054903
CREATED:20250608T084755Z
LAST-MODIFIED:20250608T084755Z
UID:110624-1749859200-1750550399@klassikauto.pl
SUMMARY:Wyprawa Cabrio Vikinger
DESCRIPTION:
URL:https://klassikauto.pl/impreza/wyprawa-cabrio-vikinger/
LOCATION:Ystad\, Szwecja
CATEGORIES:Wycieczka
END:VEVENT
BEGIN:VEVENT
DTSTART;TZID=Europe/Helsinki:20250614T080000
DTEND;TZID=Europe/Helsinki:20250620T220000
DTSTAMP:20260422T054903
CREATED:20250608T084159Z
LAST-MODIFIED:20250608T084159Z
UID:110615-1749888000-1750456800@klassikauto.pl
SUMMARY:XXV sraz Fan Klubu Škoda Vysoké Mýto a Hradec Králové
DESCRIPTION:
URL:https://klassikauto.pl/impreza/xxv-sraz-fan-klubu-skoda-vysoke-myto-a-hradec-kralove/
LOCATION:Pecka\, Czechy
CATEGORIES:Zlot
END:VEVENT
BEGIN:VEVENT
DTSTART;TZID=Europe/Helsinki:20250615T140000
DTEND;TZID=Europe/Helsinki:20250803T140000
DTSTAMP:20260422T054903
CREATED:20250426T185359Z
LAST-MODIFIED:20250426T185359Z
UID:109952-1749996000-1754229600@klassikauto.pl
SUMMARY:I Zlot Klasyków nad jeziorem Mormin
DESCRIPTION:
URL:https://klassikauto.pl/impreza/i-zlot-klasykow-nad-jeziorem-mormin/
LOCATION:Ostroróg
CATEGORIES:Zlot
END:VEVENT
BEGIN:VEVENT
DTSTART;VALUE=DATE:20250617
DTEND;VALUE=DATE:20250622
DTSTAMP:20260422T054903
CREATED:20241229T110225Z
LAST-MODIFIED:20241229T110225Z
UID:107632-1750118400-1750550399@klassikauto.pl
SUMMARY:1000 Miglia Green 2025
DESCRIPTION:
URL:https://klassikauto.pl/impreza/1000-miglia-green-2025/
LOCATION:Brescia\, Włochy
CATEGORIES:Rajd
END:VEVENT
BEGIN:VEVENT
DTSTART;VALUE=DATE:20250617
DTEND;VALUE=DATE:20250622
DTSTAMP:20260422T054903
CREATED:20241229T110419Z
LAST-MODIFIED:20241229T110419Z
UID:107635-1750118400-1750550399@klassikauto.pl
SUMMARY:16. Ferrari Tribute
DESCRIPTION:
URL:https://klassikauto.pl/impreza/16-ferrari-tribute/
LOCATION:Włochy
CATEGORIES:Rajd
END:VEVENT
BEGIN:VEVENT
DTSTART;TZID=Europe/Helsinki:20250617T080000
DTEND;TZID=Europe/Helsinki:20250621T170000
DTSTAMP:20260422T054903
CREATED:20241229T110101Z
LAST-MODIFIED:20241229T110101Z
UID:107630-1750147200-1750525200@klassikauto.pl
SUMMARY:1000 Miglia 2025
DESCRIPTION:
URL:https://klassikauto.pl/impreza/1000-miglia-2025/
LOCATION:Włochy
CATEGORIES:Rajd
END:VEVENT
BEGIN:VEVENT
DTSTART;VALUE=DATE:20250618
DTEND;VALUE=DATE:20250623
DTSTAMP:20260422T054903
CREATED:20250426T085918Z
LAST-MODIFIED:20250426T085918Z
UID:109681-1750204800-1750636799@klassikauto.pl
SUMMARY:I Zlot Tik Tok - Rozpoczęcie Wakacji 2025
DESCRIPTION:Pole Campingowe Kitowski
URL:https://klassikauto.pl/impreza/i-zlot-tik-tok-rozpoczecie-wakacji-2025/
LOCATION:Miechucino
CATEGORIES:Zlot
END:VEVENT
BEGIN:VEVENT
DTSTART;TZID=Europe/Helsinki:20250618T080000
DTEND;TZID=Europe/Helsinki:20250618T080000
DTSTAMP:20260422T054903
CREATED:20250531T082142Z
LAST-MODIFIED:20250531T125924Z
UID:110414-1750233600-1750233600@klassikauto.pl
SUMMARY:Wyjazd do Oławy z Nażółtej.pl i WGR Klasycznie Rajd Koguta
DESCRIPTION:
URL:https://klassikauto.pl/impreza/wyjazd-do-olawy-z-nazoltej-pl-i-wgr-klasycznie-rajd-koguta/
LOCATION:Grójec
CATEGORIES:Rajd
END:VEVENT
END:VCALENDAR
<!-- RunCloud Hub 2026-04-22 04:49:03 -->