BEGIN:VCALENDAR
VERSION:2.0
PRODID:-//KlassikAuto.pl - ECPv6.7.0//NONSGML v1.0//EN
CALSCALE:GREGORIAN
METHOD:PUBLISH
X-ORIGINAL-URL:https://klassikauto.pl
X-WR-CALDESC:Wydarzenia dla KlassikAuto.pl
REFRESH-INTERVAL;VALUE=DURATION:PT1H
X-Robots-Tag:noindex
X-PUBLISHED-TTL:PT1H
BEGIN:VTIMEZONE
TZID:Europe/Helsinki
BEGIN:DAYLIGHT
TZOFFSETFROM:+0200
TZOFFSETTO:+0300
TZNAME:EEST
DTSTART:20250330T010000
END:DAYLIGHT
BEGIN:STANDARD
TZOFFSETFROM:+0300
TZOFFSETTO:+0200
TZNAME:EET
DTSTART:20251026T010000
END:STANDARD
END:VTIMEZONE
BEGIN:VEVENT
DTSTART;TZID=Europe/Helsinki:20250425T080000
DTEND;TZID=Europe/Helsinki:20250622T170000
DTSTAMP:20260422T054955
CREATED:20241222T124228Z
LAST-MODIFIED:20241222T124228Z
UID:107158-1745568000-1750611600@klassikauto.pl
SUMMARY:Citroën DS – An Icon Turns 70
DESCRIPTION:
URL:https://klassikauto.pl/impreza/citroen-ds-an-icon-turns-70/
LOCATION:Museum Autoworld\, Bruksela\, Belgia
CATEGORIES:Wystawa
END:VEVENT
BEGIN:VEVENT
DTSTART;VALUE=DATE:20250607
DTEND;VALUE=DATE:20250616
DTSTAMP:20260422T054955
CREATED:20241225T112447Z
LAST-MODIFIED:20241225T112447Z
UID:107350-1749254400-1750031999@klassikauto.pl
SUMMARY:II Gruz Rally Albania
DESCRIPTION:
URL:https://klassikauto.pl/impreza/ii-gruz-rally-albania/
CATEGORIES:Rajd
END:VEVENT
BEGIN:VEVENT
DTSTART;VALUE=DATE:20250611
DTEND;VALUE=DATE:20250616
DTSTAMP:20260422T054955
CREATED:20250427T071007Z
LAST-MODIFIED:20250427T071007Z
UID:110023-1749600000-1750031999@klassikauto.pl
SUMMARY:24h Le Mans
DESCRIPTION:
URL:https://klassikauto.pl/impreza/24h-le-mans-2/
LOCATION:Le Mans\, Francja
CATEGORIES:Rajd
END:VEVENT
BEGIN:VEVENT
DTSTART;VALUE=DATE:20250612
DTEND;VALUE=DATE:20250616
DTSTAMP:20260422T054955
CREATED:20241229T102405Z
LAST-MODIFIED:20241229T102405Z
UID:107608-1749686400-1750031999@klassikauto.pl
SUMMARY:Classica Mierzęcin\, Zlot Samochodów Zabytkowych
DESCRIPTION:
URL:https://klassikauto.pl/impreza/classica-mierzecin-zlot-samochodow-zabytkowych-2/
LOCATION:Mierzęcin
CATEGORIES:Zlot
END:VEVENT
BEGIN:VEVENT
DTSTART;TZID=Europe/Helsinki:20250612T080000
DTEND;TZID=Europe/Helsinki:20250615T170000
DTSTAMP:20260422T054955
CREATED:20250531T053635Z
LAST-MODIFIED:20250531T053635Z
UID:110386-1749715200-1750006800@klassikauto.pl
SUMMARY:Porsche Parade
DESCRIPTION:
URL:https://klassikauto.pl/impreza/porsche-parade/
LOCATION:Kraków
CATEGORIES:Rajd,Zlot
END:VEVENT
BEGIN:VEVENT
DTSTART;TZID=Europe/Helsinki:20250612T120000
DTEND;TZID=Europe/Helsinki:20250615T120000
DTSTAMP:20260422T054955
CREATED:20250529T163848Z
LAST-MODIFIED:20250529T163848Z
UID:110348-1749729600-1749988800@klassikauto.pl
SUMMARY:16. Lucky Cruisers Weekend 2025
DESCRIPTION:
URL:https://klassikauto.pl/impreza/16-lucky-cruisers-weekend-2025/
LOCATION:Pasohlávky\, Czechy
CATEGORIES:Zlot
END:VEVENT
BEGIN:VEVENT
DTSTART;TZID=Europe/Helsinki:20250612T130000
DTEND;TZID=Europe/Helsinki:20250615T140000
DTSTAMP:20260422T054955
CREATED:20250608T081932Z
LAST-MODIFIED:20250608T081932Z
UID:110594-1749733200-1749996000@klassikauto.pl
SUMMARY:Otwarty Zlot Miłośników Motoryzacji. MOTÓR22\, Skorzęcin 2025
DESCRIPTION:
URL:https://klassikauto.pl/impreza/otwarty-zlot-milosnikow-motoryzacji-motor22-skorzecin-2025/
LOCATION:Witkowo
CATEGORIES:Zlot
END:VEVENT
BEGIN:VEVENT
DTSTART;TZID=Europe/Helsinki:20250612T170000
DTEND;TZID=Europe/Helsinki:20250615T120000
DTSTAMP:20260422T054955
CREATED:20250204T190705Z
LAST-MODIFIED:20250204T190705Z
UID:108327-1749747600-1749988800@klassikauto.pl
SUMMARY:Piknik Polskie Zjednoczone Królestwo Motocyklowe
DESCRIPTION:
URL:https://klassikauto.pl/impreza/piknik-polskie-zjednoczone-krolestwo-motocyklowe/
LOCATION:Pułtusk
CATEGORIES:Zlot
END:VEVENT
BEGIN:VEVENT
DTSTART;VALUE=DATE:20250613
DTEND;VALUE=DATE:20250616
DTSTAMP:20260422T054955
CREATED:20250426T090256Z
LAST-MODIFIED:20250426T090256Z
UID:109684-1749772800-1750031999@klassikauto.pl
SUMMARY:81. Rally Poland
DESCRIPTION:Round 4 of the FIA European Rally Championship
URL:https://klassikauto.pl/impreza/81-rally-poland/
LOCATION:Mikołajki
CATEGORIES:Rajd
END:VEVENT
BEGIN:VEVENT
DTSTART;VALUE=DATE:20250613
DTEND;VALUE=DATE:20250616
DTSTAMP:20260422T054955
CREATED:20250426T181830Z
LAST-MODIFIED:20250426T181830Z
UID:109931-1749772800-1750031999@klassikauto.pl
SUMMARY:Nürburgring Classic
DESCRIPTION:
URL:https://klassikauto.pl/impreza/nurburgring-classic-6/
LOCATION:Nuerburgring\, Niemcy
CATEGORIES:Rajd
END:VEVENT
BEGIN:VEVENT
DTSTART;TZID=Europe/Helsinki:20250613T100000
DTEND;TZID=Europe/Helsinki:20250615T190000
DTSTAMP:20260422T054955
CREATED:20250426T091811Z
LAST-MODIFIED:20250426T091811Z
UID:109697-1749808800-1750014000@klassikauto.pl
SUMMARY:Zlot Dodge Ram Poland 2025 Edycja 5
DESCRIPTION:
URL:https://klassikauto.pl/impreza/zlot-dodge-ram-poland-2025-edycja-5/
LOCATION:Jelcz Laskowice
CATEGORIES:Zlot
END:VEVENT
BEGIN:VEVENT
DTSTART;TZID=Europe/Helsinki:20250613T120000
DTEND;TZID=Europe/Helsinki:20250615T120000
DTSTAMP:20260422T054955
CREATED:20250608T082206Z
LAST-MODIFIED:20250608T082206Z
UID:110598-1749816000-1749988800@klassikauto.pl
SUMMARY:E30 click BBQ vol. 9 / Antonin
DESCRIPTION:
URL:https://klassikauto.pl/impreza/e30-click-bbq-vol-9-antonin/
LOCATION:Przygodzice
CATEGORIES:Zlot
END:VEVENT
BEGIN:VEVENT
DTSTART;TZID=Europe/Helsinki:20250613T130000
DTEND;TZID=Europe/Helsinki:20250615T170000
DTSTAMP:20260422T054955
CREATED:20250529T172705Z
LAST-MODIFIED:20250529T172705Z
UID:110360-1749819600-1750006800@klassikauto.pl
SUMMARY:Moto Fest 2025
DESCRIPTION:
URL:https://klassikauto.pl/impreza/moto-fest-2025/
LOCATION:Lesko
CATEGORIES:Zlot
END:VEVENT
BEGIN:VEVENT
DTSTART;TZID=Europe/Helsinki:20250613T140000
DTEND;TZID=Europe/Helsinki:20250615T140000
DTSTAMP:20260422T054955
CREATED:20250301T135801Z
LAST-MODIFIED:20250301T135801Z
UID:108921-1749823200-1749996000@klassikauto.pl
SUMMARY:BMW Weekend Bieszczady 2025
DESCRIPTION:
URL:https://klassikauto.pl/impreza/bmw-weekend-bieszczady-2025/
LOCATION:Olszanica
CATEGORIES:Zlot
END:VEVENT
BEGIN:VEVENT
DTSTART;TZID=Europe/Helsinki:20250613T150000
DTEND;TZID=Europe/Helsinki:20250615T100000
DTSTAMP:20260422T054955
CREATED:20250223T154639Z
LAST-MODIFIED:20250223T154639Z
UID:108654-1749826800-1749981600@klassikauto.pl
SUMMARY:XVII Międzynarodowy Zlot Motocyklowy w Tolkmicku
DESCRIPTION:
URL:https://klassikauto.pl/impreza/xvii-miedzynarodowy-zlot-motocyklowy-w-tolkmicku/
LOCATION:Tolkmicko
CATEGORIES:Zlot
END:VEVENT
BEGIN:VEVENT
DTSTART;TZID=Europe/Helsinki:20250613T180000
DTEND;TZID=Europe/Helsinki:20250613T180000
DTSTAMP:20260422T054955
CREATED:20250426T152437Z
LAST-MODIFIED:20250426T152437Z
UID:109800-1749837600-1749837600@klassikauto.pl
SUMMARY:19. Škoda sraz Moravsky kras
DESCRIPTION:
URL:https://klassikauto.pl/impreza/19-skoda-sraz-moravsky-kras/
LOCATION:Blansko\, Czechy
CATEGORIES:Zlot
END:VEVENT
BEGIN:VEVENT
DTSTART;TZID=Europe/Helsinki:20250613T180000
DTEND;TZID=Europe/Helsinki:20250615T180000
DTSTAMP:20260422T054955
CREATED:20250608T082453Z
LAST-MODIFIED:20250608T082453Z
UID:110600-1749837600-1750010400@klassikauto.pl
SUMMARY:IV REDNECK WEEKEND – Zlot pojazdów Amerykańskich
DESCRIPTION:
URL:https://klassikauto.pl/impreza/iv-redneck-weekend-zlot-pojazdow-amerykanskich/
LOCATION:Bałtów\, Kielce
CATEGORIES:Zlot
END:VEVENT
END:VCALENDAR
<!-- RunCloud Hub 2026-04-22 04:49:55 -->