BEGIN:VCALENDAR
VERSION:2.0
PRODID:-//KlassikAuto.pl - ECPv6.7.0//NONSGML v1.0//EN
CALSCALE:GREGORIAN
METHOD:PUBLISH
X-ORIGINAL-URL:https://klassikauto.pl
X-WR-CALDESC:Wydarzenia dla KlassikAuto.pl
REFRESH-INTERVAL;VALUE=DURATION:PT1H
X-Robots-Tag:noindex
X-PUBLISHED-TTL:PT1H
BEGIN:VTIMEZONE
TZID:Europe/Helsinki
BEGIN:DAYLIGHT
TZOFFSETFROM:+0200
TZOFFSETTO:+0300
TZNAME:EEST
DTSTART:20250330T010000
END:DAYLIGHT
BEGIN:STANDARD
TZOFFSETFROM:+0300
TZOFFSETTO:+0200
TZNAME:EET
DTSTART:20251026T010000
END:STANDARD
END:VTIMEZONE
BEGIN:VEVENT
DTSTART;TZID=Europe/Helsinki:20250425T080000
DTEND;TZID=Europe/Helsinki:20250622T170000
DTSTAMP:20260422T073536
CREATED:20241222T124228Z
LAST-MODIFIED:20241222T124228Z
UID:107158-1745568000-1750611600@klassikauto.pl
SUMMARY:Citroën DS – An Icon Turns 70
DESCRIPTION:
URL:https://klassikauto.pl/impreza/citroen-ds-an-icon-turns-70/
LOCATION:Museum Autoworld\, Bruksela\, Belgia
CATEGORIES:Wystawa
END:VEVENT
BEGIN:VEVENT
DTSTART;VALUE=DATE:20250521
DTEND;VALUE=DATE:20250526
DTSTAMP:20260422T073536
CREATED:20241228T074526Z
LAST-MODIFIED:20241228T074526Z
UID:107417-1747785600-1748217599@klassikauto.pl
SUMMARY:Fiva Motorcycle Rally 2025: Italian Taste
DESCRIPTION:
URL:https://klassikauto.pl/impreza/fiva-motorcycle-rally-2025-italian-taste/
LOCATION:Imola\, Włochy
CATEGORIES:Rajd
END:VEVENT
BEGIN:VEVENT
DTSTART;TZID=Europe/Helsinki:20250522T130000
DTEND;TZID=Europe/Helsinki:20250525T180000
DTSTAMP:20260422T073536
CREATED:20250223T154018Z
LAST-MODIFIED:20250223T154018Z
UID:108647-1747918800-1748196000@klassikauto.pl
SUMMARY:IV Zlot Powsigirek
DESCRIPTION:
URL:https://klassikauto.pl/impreza/iv-zlot-powsigirek/
LOCATION:Skąpe
CATEGORIES:Zlot
END:VEVENT
BEGIN:VEVENT
DTSTART;VALUE=DATE:20250523
DTEND;VALUE=DATE:20250526
DTSTAMP:20260422T073536
CREATED:20250301T094703Z
LAST-MODIFIED:20250301T094703Z
UID:108847-1747958400-1748217599@klassikauto.pl
SUMMARY:Zlot i Biwak FSO w stylu PRL na Polu Biwakowym Sadówka
DESCRIPTION:
URL:https://klassikauto.pl/impreza/zlot-i-biwak-fso-w-stylu-prl-na-polu-biwakowym-sadowka/
LOCATION:Sadówka
CATEGORIES:Zlot
END:VEVENT
BEGIN:VEVENT
DTSTART;TZID=Europe/Helsinki:20250523T110000
DTEND;TZID=Europe/Helsinki:20250525T140000
DTSTAMP:20260422T073536
CREATED:20250427T060641Z
LAST-MODIFIED:20250427T060641Z
UID:109969-1747998000-1748181600@klassikauto.pl
SUMMARY:Rozpoczęcie sezonu – Camping Park Mazury
DESCRIPTION:
URL:https://klassikauto.pl/impreza/rozpoczecie-sezonu-camping-park-mazury/
LOCATION:Miłki
CATEGORIES:Zlot
END:VEVENT
BEGIN:VEVENT
DTSTART;TZID=Europe/Helsinki:20250523T120000
DTEND;TZID=Europe/Helsinki:20250525T120000
DTSTAMP:20260422T073536
CREATED:20250224T155132Z
LAST-MODIFIED:20250224T155132Z
UID:108692-1748001600-1748174400@klassikauto.pl
SUMMARY:MajóVWka 2025
DESCRIPTION:
URL:https://klassikauto.pl/impreza/majovwka-2025/
LOCATION:Zagłębocze
CATEGORIES:Zlot
END:VEVENT
BEGIN:VEVENT
DTSTART;TZID=Europe/Helsinki:20250523T140000
DTEND;TZID=Europe/Helsinki:20250525T120000
DTSTAMP:20260422T073536
CREATED:20250330T100117Z
LAST-MODIFIED:20250330T100117Z
UID:109324-1748008800-1748174400@klassikauto.pl
SUMMARY:35. sraz vozů Škoda historic fan klub Hradec Kralove
DESCRIPTION:
URL:https://klassikauto.pl/impreza/35-sraz-vozu-skoda-historic-fan-klub-hradec-kralove/
LOCATION:Hradec Kralove\, Czechy
CATEGORIES:Zlot
END:VEVENT
BEGIN:VEVENT
DTSTART;TZID=Europe/Helsinki:20250523T160000
DTEND;TZID=Europe/Helsinki:20250526T100000
DTSTAMP:20260422T073536
CREATED:20250427T060947Z
LAST-MODIFIED:20250427T060947Z
UID:109972-1748016000-1748253600@klassikauto.pl
SUMMARY:Spa Classic 2025
DESCRIPTION:
URL:https://klassikauto.pl/impreza/spa-classic-2025/
LOCATION:Stavelot\, Belgia
CATEGORIES:Zlot
END:VEVENT
BEGIN:VEVENT
DTSTART;TZID=Europe/Helsinki:20250523T180000
DTEND;TZID=Europe/Helsinki:20250525T120000
DTSTAMP:20260422T073536
CREATED:20250204T191318Z
LAST-MODIFIED:20250204T191318Z
UID:108329-1748023200-1748174400@klassikauto.pl
SUMMARY:Spotkanie Garbusowe – Kuźnica 2025
DESCRIPTION:
URL:https://klassikauto.pl/impreza/spotkanie-garbusowe-kuznica-2025/
LOCATION:Kuźnica
CATEGORIES:Zlot
END:VEVENT
BEGIN:VEVENT
DTSTART;VALUE=DATE:20250524
DTEND;VALUE=DATE:20250526
DTSTAMP:20260422T073536
CREATED:20241228T164512Z
LAST-MODIFIED:20241228T164512Z
UID:107521-1748044800-1748217599@klassikauto.pl
SUMMARY:Technorama
DESCRIPTION:
URL:https://klassikauto.pl/impreza/technorama-8/
LOCATION:Hildesheim
CATEGORIES:Aukcja,Giełda
END:VEVENT
BEGIN:VEVENT
DTSTART;TZID=Europe/Helsinki:20250524T110000
DTEND;TZID=Europe/Helsinki:20250525T120000
DTSTAMP:20260422T073536
CREATED:20250427T062641Z
LAST-MODIFIED:20250427T062641Z
UID:109989-1748084400-1748174400@klassikauto.pl
SUMMARY:Rozpoczęcie sezonu motoryzacyjnego 2025
DESCRIPTION:
URL:https://klassikauto.pl/impreza/rozpoczecie-sezonu-motoryzacyjnego-2025/
LOCATION:Broczyno
CATEGORIES:Zlot
END:VEVENT
BEGIN:VEVENT
DTSTART;TZID=Europe/Helsinki:20250524T120000
DTEND;TZID=Europe/Helsinki:20250525T190000
DTSTAMP:20260422T073536
CREATED:20250426T165105Z
LAST-MODIFIED:20250426T165105Z
UID:109864-1748088000-1748199600@klassikauto.pl
SUMMARY:Moto Show Sieniawa edycja II
DESCRIPTION:
URL:https://klassikauto.pl/impreza/moto-show-sieniawa-edycja-ii/
LOCATION:Sieniawa
CATEGORIES:Zlot
END:VEVENT
BEGIN:VEVENT
DTSTART;TZID=Europe/Helsinki:20250524T120000
DTEND;TZID=Europe/Helsinki:20250525T220000
DTSTAMP:20260422T073536
CREATED:20250406T080105Z
LAST-MODIFIED:20250406T080105Z
UID:109519-1748088000-1748210400@klassikauto.pl
SUMMARY:Zamojskie klasyki\, Zlot Aut z Epoki
DESCRIPTION:
URL:https://klassikauto.pl/impreza/zamojskie-klasyki-zlot-aut-z-epoki/
LOCATION:Lipsko-Polesie
CATEGORIES:Zlot
END:VEVENT
BEGIN:VEVENT
DTSTART;TZID=Europe/Helsinki:20250525T080000
DTEND;TZID=Europe/Helsinki:20250525T080000
DTSTAMP:20260422T073536
CREATED:20250426T161731Z
LAST-MODIFIED:20250426T161731Z
UID:109846-1748160000-1748160000@klassikauto.pl
SUMMARY:III Rajd Jedźże Gratem w Małopolskę
DESCRIPTION:
URL:https://klassikauto.pl/impreza/iii-rajd-jedzze-gratem-w-malopolske/
LOCATION:Skawina
CATEGORIES:Rajd
END:VEVENT
BEGIN:VEVENT
DTSTART;TZID=Europe/Helsinki:20250525T080000
DTEND;TZID=Europe/Helsinki:20250525T130000
DTSTAMP:20260422T073536
CREATED:20250223T155236Z
LAST-MODIFIED:20250223T155236Z
UID:108663-1748160000-1748178000@klassikauto.pl
SUMMARY:WAZYN Car Show
DESCRIPTION:
URL:https://klassikauto.pl/impreza/wazyn-car-show/
LOCATION:Głogów
CATEGORIES:Zlot
END:VEVENT
BEGIN:VEVENT
DTSTART;TZID=Europe/Helsinki:20250525T080000
DTEND;TZID=Europe/Helsinki:20250525T170000
DTSTAMP:20260422T073536
CREATED:20250301T092416Z
LAST-MODIFIED:20250301T092416Z
UID:108825-1748160000-1748192400@klassikauto.pl
SUMMARY:American Cars Piknik Charytatywny
DESCRIPTION:
URL:https://klassikauto.pl/impreza/american-cars-piknik-charytatywny/
LOCATION:Liszki
CATEGORIES:Zlot
END:VEVENT
BEGIN:VEVENT
DTSTART;TZID=Europe/Helsinki:20250525T080000
DTEND;TZID=Europe/Helsinki:20250525T190000
DTSTAMP:20260422T073536
CREATED:20250426T153831Z
LAST-MODIFIED:20250426T153831Z
UID:109815-1748160000-1748199600@klassikauto.pl
SUMMARY:Jízda veteránů pod Ještědem 2025
DESCRIPTION:
URL:https://klassikauto.pl/impreza/jizda-veteranu-pod-jestedem-2025/
LOCATION:Liberec\, Czechy
CATEGORIES:Rajd
END:VEVENT
BEGIN:VEVENT
DTSTART;TZID=Europe/Helsinki:20250525T090000
DTEND;TZID=Europe/Helsinki:20250525T090000
DTSTAMP:20260422T073536
CREATED:20250401T171827Z
LAST-MODIFIED:20250401T171827Z
UID:109438-1748163600-1748163600@klassikauto.pl
SUMMARY:Maluchowisko vol. 2
DESCRIPTION:
URL:https://klassikauto.pl/impreza/maluchowisko-vol-2/
LOCATION:Jedlińsk
CATEGORIES:Zlot
END:VEVENT
BEGIN:VEVENT
DTSTART;TZID=Europe/Helsinki:20250525T090000
DTEND;TZID=Europe/Helsinki:20250525T140000
DTSTAMP:20260422T073536
CREATED:20250531T110700Z
LAST-MODIFIED:20250531T110700Z
UID:110439-1748163600-1748181600@klassikauto.pl
SUMMARY:Piaseczyńskie Targi Modeli Samochodowych
DESCRIPTION:
URL:https://klassikauto.pl/impreza/piaseczynskie-targi-modeli-samochodowych-2/
LOCATION:Piaseczno
CATEGORIES:Targi
END:VEVENT
BEGIN:VEVENT
DTSTART;TZID=Europe/Helsinki:20250525T100000
DTEND;TZID=Europe/Helsinki:20250525T100000
DTSTAMP:20260422T073536
CREATED:20250426T144625Z
LAST-MODIFIED:20250426T144645Z
UID:109761-1748167200-1748167200@klassikauto.pl
SUMMARY:Klassikertreffen auf Rudi´s Wiese
DESCRIPTION:Militärfahrzeug und Oldtimertreffen
URL:https://klassikauto.pl/impreza/klassikertreffen-auf-rudis-wiese-2/
LOCATION:Marl\, Niemcy
CATEGORIES:Zlot
END:VEVENT
BEGIN:VEVENT
DTSTART;TZID=Europe/Helsinki:20250525T110000
DTEND;TZID=Europe/Helsinki:20250525T110000
DTSTAMP:20260422T073536
CREATED:20250426T101202Z
LAST-MODIFIED:20250426T101202Z
UID:109737-1748170800-1748170800@klassikauto.pl
SUMMARY:Speed Factory Street Party
DESCRIPTION:
URL:https://klassikauto.pl/impreza/speed-factory-street-party/
LOCATION:Maarheeze\, Holandia
CATEGORIES:Zlot
END:VEVENT
BEGIN:VEVENT
DTSTART;TZID=Europe/Helsinki:20250525T110000
DTEND;TZID=Europe/Helsinki:20250525T110000
DTSTAMP:20260422T073536
CREATED:20250426T145232Z
LAST-MODIFIED:20250426T145232Z
UID:109768-1748170800-1748170800@klassikauto.pl
SUMMARY:Oldtimertrefen der “Oldtimerfreunde Ruhrrevier”
DESCRIPTION:
URL:https://klassikauto.pl/impreza/oldtimertrefen-der-oldtimerfreunde-ruhrrevier/
LOCATION:Oberhausen\, Niemcy
CATEGORIES:Zlot
END:VEVENT
BEGIN:VEVENT
DTSTART;TZID=Europe/Helsinki:20250525T110000
DTEND;TZID=Europe/Helsinki:20250525T110000
DTSTAMP:20260422T073536
CREATED:20250531T111601Z
LAST-MODIFIED:20250531T111601Z
UID:110448-1748170800-1748170800@klassikauto.pl
SUMMARY:Rozpoczęcie sezonu 2025 Gliwickie Klasyki
DESCRIPTION:
URL:https://klassikauto.pl/impreza/rozpoczecie-sezonu-2025-gliwickie-klasyki/
LOCATION:Gliwice
CATEGORIES:Zlot
END:VEVENT
BEGIN:VEVENT
DTSTART;TZID=Europe/Helsinki:20250525T120000
DTEND;TZID=Europe/Helsinki:20250525T120000
DTSTAMP:20260422T073536
CREATED:20250426T081104Z
LAST-MODIFIED:20250426T081104Z
UID:109665-1748174400-1748174400@klassikauto.pl
SUMMARY:IX Brodnicki Zlot Pojazdów Zabytkowych
DESCRIPTION:
URL:https://klassikauto.pl/impreza/ix-brodnicki-zlot-pojazdow-zabytkowych/
LOCATION:Brodnica
CATEGORIES:Zlot
END:VEVENT
BEGIN:VEVENT
DTSTART;TZID=Europe/Helsinki:20250525T120000
DTEND;TZID=Europe/Helsinki:20250525T160000
DTSTAMP:20260422T073536
CREATED:20250401T171114Z
LAST-MODIFIED:20250401T171114Z
UID:109428-1748174400-1748188800@klassikauto.pl
SUMMARY:Radomskie Klasyki na Deptaku
DESCRIPTION:
URL:https://klassikauto.pl/impreza/radomskie-klasyki-na-deptaku/
LOCATION:Radom
CATEGORIES:Zlot
END:VEVENT
BEGIN:VEVENT
DTSTART;TZID=Europe/Helsinki:20250525T120000
DTEND;TZID=Europe/Helsinki:20250525T160000
DTSTAMP:20260422T073536
CREATED:20250406T075851Z
LAST-MODIFIED:20250406T075851Z
UID:109516-1748174400-1748188800@klassikauto.pl
SUMMARY:1 Zlot Pojazdów Zabytkowych z Rejem do Sienicy Różanej 2025
DESCRIPTION:
URL:https://klassikauto.pl/impreza/1-zlot-pojazdow-zabytkowych-z-rejem-do-sienicy-rozanej-2025/
LOCATION:Sienica Różana
CATEGORIES:Zlot
END:VEVENT
BEGIN:VEVENT
DTSTART;TZID=Europe/Helsinki:20250525T150000
DTEND;TZID=Europe/Helsinki:20250525T150000
DTSTAMP:20260422T073536
CREATED:20250426T163309Z
LAST-MODIFIED:20250426T163309Z
UID:109851-1748185200-1748185200@klassikauto.pl
SUMMARY:Powrót do przeszłości
DESCRIPTION:
URL:https://klassikauto.pl/impreza/powrot-do-przeszlosci-2/
LOCATION:Tyczyn
CATEGORIES:Zlot
END:VEVENT
END:VCALENDAR
<!-- RunCloud Hub 2026-04-22 06:35:36 -->