BEGIN:VCALENDAR
VERSION:2.0
PRODID:-//KlassikAuto.pl - ECPv6.7.0//NONSGML v1.0//EN
CALSCALE:GREGORIAN
METHOD:PUBLISH
X-ORIGINAL-URL:https://klassikauto.pl
X-WR-CALDESC:Wydarzenia dla KlassikAuto.pl
REFRESH-INTERVAL;VALUE=DURATION:PT1H
X-Robots-Tag:noindex
X-PUBLISHED-TTL:PT1H
BEGIN:VTIMEZONE
TZID:Europe/Helsinki
BEGIN:DAYLIGHT
TZOFFSETFROM:+0200
TZOFFSETTO:+0300
TZNAME:EEST
DTSTART:20250330T010000
END:DAYLIGHT
BEGIN:STANDARD
TZOFFSETFROM:+0300
TZOFFSETTO:+0200
TZNAME:EET
DTSTART:20251026T010000
END:STANDARD
END:VTIMEZONE
BEGIN:VEVENT
DTSTART;TZID=Europe/Helsinki:20250425T080000
DTEND;TZID=Europe/Helsinki:20250622T170000
DTSTAMP:20260422T081348
CREATED:20241222T124228Z
LAST-MODIFIED:20241222T124228Z
UID:107158-1745568000-1750611600@klassikauto.pl
SUMMARY:Citroën DS – An Icon Turns 70
DESCRIPTION:
URL:https://klassikauto.pl/impreza/citroen-ds-an-icon-turns-70/
LOCATION:Museum Autoworld\, Bruksela\, Belgia
CATEGORIES:Wystawa
END:VEVENT
BEGIN:VEVENT
DTSTART;VALUE=DATE:20250521
DTEND;VALUE=DATE:20250526
DTSTAMP:20260422T081348
CREATED:20241228T074526Z
LAST-MODIFIED:20241228T074526Z
UID:107417-1747785600-1748217599@klassikauto.pl
SUMMARY:Fiva Motorcycle Rally 2025: Italian Taste
DESCRIPTION:
URL:https://klassikauto.pl/impreza/fiva-motorcycle-rally-2025-italian-taste/
LOCATION:Imola\, Włochy
CATEGORIES:Rajd
END:VEVENT
BEGIN:VEVENT
DTSTART;TZID=Europe/Helsinki:20250522T110000
DTEND;TZID=Europe/Helsinki:20250523T140000
DTSTAMP:20260422T081348
CREATED:20250330T105337Z
LAST-MODIFIED:20250427T085514Z
UID:109355-1747911600-1748008800@klassikauto.pl
SUMMARY:Wielka praska przygoda
DESCRIPTION:rajd: Zieleniec – Praga
URL:https://klassikauto.pl/impreza/wielka-praska-przygoda/
LOCATION:Zieleniec
CATEGORIES:Rajd
END:VEVENT
BEGIN:VEVENT
DTSTART;TZID=Europe/Helsinki:20250522T130000
DTEND;TZID=Europe/Helsinki:20250525T180000
DTSTAMP:20260422T081348
CREATED:20250223T154018Z
LAST-MODIFIED:20250223T154018Z
UID:108647-1747918800-1748196000@klassikauto.pl
SUMMARY:IV Zlot Powsigirek
DESCRIPTION:
URL:https://klassikauto.pl/impreza/iv-zlot-powsigirek/
LOCATION:Skąpe
CATEGORIES:Zlot
END:VEVENT
BEGIN:VEVENT
DTSTART;TZID=Europe/Helsinki:20250522T140000
DTEND;TZID=Europe/Helsinki:20250524T150000
DTSTAMP:20260422T081348
CREATED:20250426T180724Z
LAST-MODIFIED:20250426T180724Z
UID:109925-1747922400-1748098800@klassikauto.pl
SUMMARY:V Zlot „Stary Tramp”
DESCRIPTION:
URL:https://klassikauto.pl/impreza/v-zlot-stary-tramp/
LOCATION:Biały Brzeg
CATEGORIES:Zlot
END:VEVENT
END:VCALENDAR
<!-- RunCloud Hub 2026-04-22 07:13:48 -->