BEGIN:VCALENDAR
VERSION:2.0
PRODID:-//KlassikAuto.pl - ECPv6.7.0//NONSGML v1.0//EN
CALSCALE:GREGORIAN
METHOD:PUBLISH
X-ORIGINAL-URL:https://klassikauto.pl
X-WR-CALDESC:Wydarzenia dla KlassikAuto.pl
REFRESH-INTERVAL;VALUE=DURATION:PT1H
X-Robots-Tag:noindex
X-PUBLISHED-TTL:PT1H
BEGIN:VTIMEZONE
TZID:Europe/Helsinki
BEGIN:DAYLIGHT
TZOFFSETFROM:+0200
TZOFFSETTO:+0300
TZNAME:EEST
DTSTART:20250330T010000
END:DAYLIGHT
BEGIN:STANDARD
TZOFFSETFROM:+0300
TZOFFSETTO:+0200
TZNAME:EET
DTSTART:20251026T010000
END:STANDARD
END:VTIMEZONE
BEGIN:VEVENT
DTSTART;TZID=Europe/Helsinki:20250425T080000
DTEND;TZID=Europe/Helsinki:20250622T170000
DTSTAMP:20260422T081319
CREATED:20241222T124228Z
LAST-MODIFIED:20241222T124228Z
UID:107158-1745568000-1750611600@klassikauto.pl
SUMMARY:Citroën DS – An Icon Turns 70
DESCRIPTION:
URL:https://klassikauto.pl/impreza/citroen-ds-an-icon-turns-70/
LOCATION:Museum Autoworld\, Bruksela\, Belgia
CATEGORIES:Wystawa
END:VEVENT
BEGIN:VEVENT
DTSTART;VALUE=DATE:20250516
DTEND;VALUE=DATE:20250519
DTSTAMP:20260422T081319
CREATED:20250426T180428Z
LAST-MODIFIED:20250426T180428Z
UID:109923-1747353600-1747612799@klassikauto.pl
SUMMARY:Ameryki mezi sklepy 2025 – zlot charytatywny
DESCRIPTION:
URL:https://klassikauto.pl/impreza/ameryki-mezi-sklepy-2025-zlot-charytatywny/
LOCATION:Mutěnice\, Czechy
CATEGORIES:Zlot
END:VEVENT
BEGIN:VEVENT
DTSTART;TZID=Europe/Helsinki:20250516T100000
DTEND;TZID=Europe/Helsinki:20250518T170000
DTSTAMP:20260422T081319
CREATED:20250301T102857Z
LAST-MODIFIED:20250301T102857Z
UID:108872-1747389600-1747587600@klassikauto.pl
SUMMARY:Klassikwelt Bodensee 2025
DESCRIPTION:
URL:https://klassikauto.pl/impreza/klassikwelt-bodensee-2025/
LOCATION:Friedrichshafen\, Niemcy
CATEGORIES:Targi
END:VEVENT
BEGIN:VEVENT
DTSTART;TZID=Europe/Helsinki:20250516T150000
DTEND;TZID=Europe/Helsinki:20250518T143000
DTSTAMP:20260422T081319
CREATED:20250301T093237Z
LAST-MODIFIED:20250301T093237Z
UID:108831-1747407600-1747578600@klassikauto.pl
SUMMARY:American Fest 2025
DESCRIPTION:
URL:https://klassikauto.pl/impreza/american-fest-2025/
LOCATION:Ińsko
CATEGORIES:Zlot
END:VEVENT
BEGIN:VEVENT
DTSTART;TZID=Europe/Helsinki:20250516T150000
DTEND;TZID=Europe/Helsinki:20250518T160000
DTSTAMP:20260422T081319
CREATED:20250426T180218Z
LAST-MODIFIED:20250426T180218Z
UID:109921-1747407600-1747584000@klassikauto.pl
SUMMARY:XV Zlot Aut Amerykańskich i Zabytkowych w Silverado City
DESCRIPTION:
URL:https://klassikauto.pl/impreza/xv-zlot-aut-amerykanskich-i-zabytkowych-w-silverado-city/
LOCATION:Bożejewiczki
CATEGORIES:Zlot
END:VEVENT
BEGIN:VEVENT
DTSTART;TZID=Europe/Helsinki:20250517T090000
DTEND;TZID=Europe/Helsinki:20250518T130000
DTSTAMP:20260422T081319
CREATED:20250426T141735Z
LAST-MODIFIED:20250426T141735Z
UID:109747-1747472400-1747573200@klassikauto.pl
SUMMARY:Das Oldtimer Festival auf dem Bilster Berg
DESCRIPTION:
URL:https://klassikauto.pl/impreza/das-oldtimer-festival-auf-dem-bilster-berg/
LOCATION:Bad Driburg\, Niemcy
CATEGORIES:Zlot
END:VEVENT
BEGIN:VEVENT
DTSTART;VALUE=DATE:20250518
DTEND;VALUE=DATE:20250519
DTSTAMP:20260422T081319
CREATED:20241228T171312Z
LAST-MODIFIED:20241228T171312Z
UID:107537-1747526400-1747612799@klassikauto.pl
SUMMARY:Vaux ALL
DESCRIPTION:
URL:https://klassikauto.pl/impreza/vaux-all/
LOCATION:Gaydon\, Wielka Brytania
CATEGORIES:Zlot
END:VEVENT
BEGIN:VEVENT
DTSTART;VALUE=DATE:20250518
DTEND;VALUE=DATE:20250519
DTSTAMP:20260422T081319
CREATED:20250427T073431Z
LAST-MODIFIED:20250427T073431Z
UID:110031-1747526400-1747612799@klassikauto.pl
SUMMARY:Treffen historischer Porsche Sport- und Rennwagen
DESCRIPTION:
URL:https://klassikauto.pl/impreza/treffen-historischer-porsche-sport-und-rennwagen/
LOCATION:Lipsk\, Niemcy
CATEGORIES:Zlot
END:VEVENT
BEGIN:VEVENT
DTSTART;TZID=Europe/Helsinki:20250518T100000
DTEND;TZID=Europe/Helsinki:20250518T100000
DTSTAMP:20260422T081319
CREATED:20241226T083239Z
LAST-MODIFIED:20241226T083239Z
UID:107356-1747562400-1747562400@klassikauto.pl
SUMMARY:Ogólnopolski / Międzynarodowy Zlot Mercedes-Benz w Toruniu 2025
DESCRIPTION:
URL:https://klassikauto.pl/impreza/ogolnopolski-miedzynarodowy-zlot-mercedes-benz-w-toruniu-2025/
LOCATION:Toruń
CATEGORIES:Zlot
END:VEVENT
BEGIN:VEVENT
DTSTART;TZID=Europe/Helsinki:20250518T100000
DTEND;TZID=Europe/Helsinki:20250518T100000
DTSTAMP:20260422T081319
CREATED:20250330T102311Z
LAST-MODIFIED:20250330T102311Z
UID:109333-1747562400-1747562400@klassikauto.pl
SUMMARY:Veteráni pod Zámkem 2025
DESCRIPTION:
URL:https://klassikauto.pl/impreza/veterani-pod-zamkem-2025/
LOCATION:Dobřichovice \,Czechy
CATEGORIES:Zlot
END:VEVENT
BEGIN:VEVENT
DTSTART;TZID=Europe/Helsinki:20250518T100000
DTEND;TZID=Europe/Helsinki:20250518T100000
DTSTAMP:20260422T081319
CREATED:20250426T171015Z
LAST-MODIFIED:20250426T171015Z
UID:109886-1747562400-1747562400@klassikauto.pl
SUMMARY:Moto Klasyk\, 2. Edycja\, Zlot Wielbicieli Pojazdów Klasycznych i Zabytkowych
DESCRIPTION:
URL:https://klassikauto.pl/impreza/moto-klasyk-2-edycja-zlot-wielbicieli-pojazdow-klasycznych-i-zabytkowych/
LOCATION:Radlin
CATEGORIES:Zlot
END:VEVENT
BEGIN:VEVENT
DTSTART;TZID=Europe/Helsinki:20250518T100000
DTEND;TZID=Europe/Helsinki:20250518T170000
DTSTAMP:20260422T081319
CREATED:20250426T173832Z
LAST-MODIFIED:20250426T173832Z
UID:109913-1747562400-1747587600@klassikauto.pl
SUMMARY:Oldtimer Frühling Anröchte
DESCRIPTION:
URL:https://klassikauto.pl/impreza/oldtimer-fruhling-anrochte-3/
LOCATION:Anröchte\, Niemcy
CATEGORIES:Zlot
END:VEVENT
BEGIN:VEVENT
DTSTART;TZID=Europe/Helsinki:20250518T110000
DTEND;TZID=Europe/Helsinki:20250518T110000
DTSTAMP:20260422T081319
CREATED:20241229T111306Z
LAST-MODIFIED:20241229T111306Z
UID:107637-1747566000-1747566000@klassikauto.pl
SUMMARY:Fans of Classic Cars - II Polska Strefa FoCC - Walsworth Festival Hitchin
DESCRIPTION:
URL:https://klassikauto.pl/impreza/fans-of-classic-cars-ii-polska-strefa-focc-walsworth-festival-hitchin/
LOCATION:Wolsworth\, Wielka Brytania
CATEGORIES:Zlot
END:VEVENT
BEGIN:VEVENT
DTSTART;TZID=Europe/Helsinki:20250518T110000
DTEND;TZID=Europe/Helsinki:20250518T110000
DTSTAMP:20260422T081319
CREATED:20250223T155013Z
LAST-MODIFIED:20250223T155013Z
UID:108661-1747566000-1747566000@klassikauto.pl
SUMMARY:III Polkowicki Zlot Pojazdów Zabytkowych
DESCRIPTION:
URL:https://klassikauto.pl/impreza/iii-polkowicki-zlot-pojazdow-zabytkowych/
LOCATION:Polkowice
CATEGORIES:Zlot
END:VEVENT
BEGIN:VEVENT
DTSTART;TZID=Europe/Helsinki:20250518T110000
DTEND;TZID=Europe/Helsinki:20250518T170000
DTSTAMP:20260422T081319
CREATED:20250427T062405Z
LAST-MODIFIED:20250427T062405Z
UID:109987-1747566000-1747587600@klassikauto.pl
SUMMARY:Wzlotowisko 2k25
DESCRIPTION:
URL:https://klassikauto.pl/impreza/wzlotowisko-2k25/
LOCATION:Gniezno
CATEGORIES:Zlot
END:VEVENT
BEGIN:VEVENT
DTSTART;TZID=Europe/Helsinki:20250518T120000
DTEND;TZID=Europe/Helsinki:20250518T120000
DTSTAMP:20260422T081319
CREATED:20241229T124313Z
LAST-MODIFIED:20241229T124413Z
UID:107681-1747569600-1747569600@klassikauto.pl
SUMMARY:Motomajówka\, rozpoczęcie Sezonu Motoryzacyjnego z Drift Show
DESCRIPTION:
URL:https://klassikauto.pl/impreza/motomajowka-rozpoczecie-sezonu-motoryzacyjnego-z-drift-show/
LOCATION:Orneta
CATEGORIES:Zlot
END:VEVENT
BEGIN:VEVENT
DTSTART;TZID=Europe/Helsinki:20250518T140000
DTEND;TZID=Europe/Helsinki:20250518T140000
DTSTAMP:20260422T081319
CREATED:20250427T063724Z
LAST-MODIFIED:20250427T063724Z
UID:109998-1747576800-1747576800@klassikauto.pl
SUMMARY:Rozpoczęcie sezonu 2025 z Klasycznie Cyklicznie w Szczecinie
DESCRIPTION:
URL:https://klassikauto.pl/impreza/rozpoczecie-sezonu-2025-z-klasycznie-cyklicznie-w-szczecinie/
LOCATION:Szczecin
CATEGORIES:Zlot
END:VEVENT
END:VCALENDAR
<!-- RunCloud Hub 2026-04-22 07:13:19 -->