BEGIN:VCALENDAR
VERSION:2.0
PRODID:-//KlassikAuto.pl - ECPv6.7.0//NONSGML v1.0//EN
CALSCALE:GREGORIAN
METHOD:PUBLISH
X-WR-CALNAME:KlassikAuto.pl
X-ORIGINAL-URL:https://klassikauto.pl
X-WR-CALDESC:Wydarzenia dla KlassikAuto.pl
REFRESH-INTERVAL;VALUE=DURATION:PT1H
X-Robots-Tag:noindex
X-PUBLISHED-TTL:PT1H
BEGIN:VTIMEZONE
TZID:Europe/Helsinki
BEGIN:DAYLIGHT
TZOFFSETFROM:+0200
TZOFFSETTO:+0300
TZNAME:EEST
DTSTART:20250330T010000
END:DAYLIGHT
BEGIN:STANDARD
TZOFFSETFROM:+0300
TZOFFSETTO:+0200
TZNAME:EET
DTSTART:20251026T010000
END:STANDARD
END:VTIMEZONE
BEGIN:VEVENT
DTSTART;TZID=Europe/Helsinki:20250425T080000
DTEND;TZID=Europe/Helsinki:20250622T170000
DTSTAMP:20260422T081306
CREATED:20241222T124228Z
LAST-MODIFIED:20241222T124228Z
UID:107158-1745568000-1750611600@klassikauto.pl
SUMMARY:Citroën DS – An Icon Turns 70
DESCRIPTION:
URL:https://klassikauto.pl/impreza/citroen-ds-an-icon-turns-70/
LOCATION:Museum Autoworld\, Bruksela\, Belgia
CATEGORIES:Wystawa
END:VEVENT
BEGIN:VEVENT
DTSTART;VALUE=DATE:20250506
DTEND;VALUE=DATE:20250516
DTSTAMP:20260422T081306
CREATED:20241226T110223Z
LAST-MODIFIED:20241226T110223Z
UID:107395-1746489600-1747353599@klassikauto.pl
SUMMARY:Knights of the Island
DESCRIPTION:Start: wybrzeże Europy\, Dover \nMeta: Edynburg\, Wielka Brytania
URL:https://klassikauto.pl/impreza/knights-of-the-island/
CATEGORIES:Rajd
END:VEVENT
BEGIN:VEVENT
DTSTART;VALUE=DATE:20250510
DTEND;VALUE=DATE:20250518
DTSTAMP:20260422T081306
CREATED:20241225T112335Z
LAST-MODIFIED:20241225T112335Z
UID:107348-1746835200-1747526399@klassikauto.pl
SUMMARY:GruzRallyGT: Veloce! Italia2025
DESCRIPTION:
URL:https://klassikauto.pl/impreza/gruzrallygt-veloce-italia2025/
CATEGORIES:Rajd
END:VEVENT
END:VCALENDAR
<!-- RunCloud Hub 2026-04-22 07:13:06 -->