BEGIN:VCALENDAR
VERSION:2.0
PRODID:-//KlassikAuto.pl - ECPv6.7.0//NONSGML v1.0//EN
CALSCALE:GREGORIAN
METHOD:PUBLISH
X-ORIGINAL-URL:https://klassikauto.pl
X-WR-CALDESC:Wydarzenia dla KlassikAuto.pl
REFRESH-INTERVAL;VALUE=DURATION:PT1H
X-Robots-Tag:noindex
X-PUBLISHED-TTL:PT1H
BEGIN:VTIMEZONE
TZID:Europe/Helsinki
BEGIN:DAYLIGHT
TZOFFSETFROM:+0200
TZOFFSETTO:+0300
TZNAME:EEST
DTSTART:20250330T010000
END:DAYLIGHT
BEGIN:STANDARD
TZOFFSETFROM:+0300
TZOFFSETTO:+0200
TZNAME:EET
DTSTART:20251026T010000
END:STANDARD
END:VTIMEZONE
BEGIN:VEVENT
DTSTART;TZID=Europe/Helsinki:20250425T080000
DTEND;TZID=Europe/Helsinki:20250622T170000
DTSTAMP:20260422T081319
CREATED:20241222T124228Z
LAST-MODIFIED:20241222T124228Z
UID:107158-1745568000-1750611600@klassikauto.pl
SUMMARY:Citroën DS – An Icon Turns 70
DESCRIPTION:
URL:https://klassikauto.pl/impreza/citroen-ds-an-icon-turns-70/
LOCATION:Museum Autoworld\, Bruksela\, Belgia
CATEGORIES:Wystawa
END:VEVENT
BEGIN:VEVENT
DTSTART;VALUE=DATE:20250506
DTEND;VALUE=DATE:20250516
DTSTAMP:20260422T081319
CREATED:20241226T110223Z
LAST-MODIFIED:20241226T110223Z
UID:107395-1746489600-1747353599@klassikauto.pl
SUMMARY:Knights of the Island
DESCRIPTION:Start: wybrzeże Europy\, Dover \nMeta: Edynburg\, Wielka Brytania
URL:https://klassikauto.pl/impreza/knights-of-the-island/
CATEGORIES:Rajd
END:VEVENT
BEGIN:VEVENT
DTSTART;VALUE=DATE:20250508
DTEND;VALUE=DATE:20250512
DTSTAMP:20260422T081319
CREATED:20250426T161005Z
LAST-MODIFIED:20250426T161005Z
UID:109841-1746662400-1747007999@klassikauto.pl
SUMMARY:XX Tatrzański Zlot Pojazdów Zabytkowych
DESCRIPTION:
URL:https://klassikauto.pl/impreza/xx-tatrzanski-zlot-pojazdow-zabytkowych/
LOCATION:Zakopane
CATEGORIES:Zlot
END:VEVENT
BEGIN:VEVENT
DTSTART;VALUE=DATE:20250508
DTEND;VALUE=DATE:20250512
DTSTAMP:20260422T081319
CREATED:20250426T174733Z
LAST-MODIFIED:20250426T174733Z
UID:109919-1746662400-1747007999@klassikauto.pl
SUMMARY:Arabella Classics
DESCRIPTION:
URL:https://klassikauto.pl/impreza/arabella-classics-3/
LOCATION:Salzburg
CATEGORIES:Rajd
END:VEVENT
BEGIN:VEVENT
DTSTART;VALUE=DATE:20250508
DTEND;VALUE=DATE:20250513
DTSTAMP:20260422T081319
CREATED:20250427T061137Z
LAST-MODIFIED:20250427T061137Z
UID:109975-1746662400-1747094399@klassikauto.pl
SUMMARY:Absolut Lotus Highland Tour 2025
DESCRIPTION:
URL:https://klassikauto.pl/impreza/absolut-lotus-highland-tour-2025/
LOCATION:Szkocja
CATEGORIES:Rajd
END:VEVENT
BEGIN:VEVENT
DTSTART;TZID=Europe/Helsinki:20250509T090000
DTEND;TZID=Europe/Helsinki:20250511T180000
DTSTAMP:20260422T081319
CREATED:20250301T100710Z
LAST-MODIFIED:20250301T100710Z
UID:108853-1746781200-1746986400@klassikauto.pl
SUMMARY:ADAC Hockenheim Historic – Das Jim Clark Revival 2025
DESCRIPTION:
URL:https://klassikauto.pl/impreza/adac-hockenheim-historic-das-jim-clark-revival-2025/
LOCATION:Hockenheim\, Germany
CATEGORIES:Rajd
END:VEVENT
BEGIN:VEVENT
DTSTART;TZID=Europe/Helsinki:20250509T110000
DTEND;TZID=Europe/Helsinki:20250511T120000
DTSTAMP:20260422T081319
CREATED:20250426T184020Z
LAST-MODIFIED:20250426T184020Z
UID:109943-1746788400-1746964800@klassikauto.pl
SUMMARY:IV Zlot Fiat 126p Siedlec
DESCRIPTION:
URL:https://klassikauto.pl/impreza/iv-zlot-fiat-126p-siedlec/
LOCATION:Siedlec
CATEGORIES:Zlot
END:VEVENT
BEGIN:VEVENT
DTSTART;TZID=Europe/Helsinki:20250509T130000
DTEND;TZID=Europe/Helsinki:20250511T120000
DTSTAMP:20260422T081319
CREATED:20250426T153415Z
LAST-MODIFIED:20250426T153415Z
UID:109810-1746795600-1746964800@klassikauto.pl
SUMMARY:Trabi Český Ráj Jinolice 2025
DESCRIPTION:
URL:https://klassikauto.pl/impreza/trabi-cesky-raj-jinolice-2025/
LOCATION:Libun\, Czechy
CATEGORIES:Zlot
END:VEVENT
BEGIN:VEVENT
DTSTART;TZID=Europe/Helsinki:20250509T150000
DTEND;TZID=Europe/Helsinki:20250511T130000
DTSTAMP:20260422T081319
CREATED:20250223T142009Z
LAST-MODIFIED:20250223T142009Z
UID:108571-1746802800-1746968400@klassikauto.pl
SUMMARY:13 majówka rezerwy 126p
DESCRIPTION:
URL:https://klassikauto.pl/impreza/13-majowka-rezerwy-126p/
LOCATION:Zarzecze
CATEGORIES:Zlot
END:VEVENT
BEGIN:VEVENT
DTSTART;VALUE=DATE:20250510
DTEND;VALUE=DATE:20250512
DTSTAMP:20260422T081319
CREATED:20241229T102118Z
LAST-MODIFIED:20241229T102118Z
UID:107606-1746835200-1747007999@klassikauto.pl
SUMMARY:37. Oldtimer Messe Tulln
DESCRIPTION:
URL:https://klassikauto.pl/impreza/37-oldtimer-messe-tulln/
LOCATION:Tulln\, Austria
CATEGORIES:Targi
END:VEVENT
BEGIN:VEVENT
DTSTART;VALUE=DATE:20250510
DTEND;VALUE=DATE:20250518
DTSTAMP:20260422T081319
CREATED:20241225T112335Z
LAST-MODIFIED:20241225T112335Z
UID:107348-1746835200-1747526399@klassikauto.pl
SUMMARY:GruzRallyGT: Veloce! Italia2025
DESCRIPTION:
URL:https://klassikauto.pl/impreza/gruzrallygt-veloce-italia2025/
CATEGORIES:Rajd
END:VEVENT
BEGIN:VEVENT
DTSTART;TZID=Europe/Helsinki:20250510T090000
DTEND;TZID=Europe/Helsinki:20250511T190000
DTSTAMP:20260422T081319
CREATED:20250204T182942Z
LAST-MODIFIED:20250204T182942Z
UID:108297-1746867600-1746990000@klassikauto.pl
SUMMARY:Warsaw Caravaning Festival
DESCRIPTION:
URL:https://klassikauto.pl/impreza/warsaw-caravaning-festival-3/
LOCATION:Warszawa
CATEGORIES:Targi
END:VEVENT
BEGIN:VEVENT
DTSTART;TZID=Europe/Helsinki:20250510T100000
DTEND;TZID=Europe/Helsinki:20250511T200000
DTSTAMP:20260422T081319
CREATED:20250427T073134Z
LAST-MODIFIED:20250427T073134Z
UID:110029-1746871200-1746993600@klassikauto.pl
SUMMARY:Classic Days Berlin
DESCRIPTION:
URL:https://klassikauto.pl/impreza/classic-days-berlin/
LOCATION:Berlin
CATEGORIES:Zlot
END:VEVENT
BEGIN:VEVENT
DTSTART;VALUE=DATE:20250511
DTEND;VALUE=DATE:20250512
DTSTAMP:20260422T081319
CREATED:20241228T154506Z
LAST-MODIFIED:20241228T154506Z
UID:107481-1746921600-1747007999@klassikauto.pl
SUMMARY:American Sunday
DESCRIPTION:
URL:https://klassikauto.pl/impreza/american-sunday-2/
LOCATION:Zaandvoort\, Holandia
CATEGORIES:Zlot
END:VEVENT
BEGIN:VEVENT
DTSTART;TZID=Europe/Helsinki:20250511T080000
DTEND;TZID=Europe/Helsinki:20250511T190000
DTSTAMP:20260422T081319
CREATED:20250406T080545Z
LAST-MODIFIED:20250406T080545Z
UID:109522-1746950400-1746990000@klassikauto.pl
SUMMARY:Forza Italia 2025 – spotkanie miłośników motoryzacji i kultury włoskiej
DESCRIPTION:
URL:https://klassikauto.pl/impreza/forza-italia-2025-spotkanie-milosnikow-motoryzacji-i-kultury-wloskiej/
LOCATION:Rozalin
CATEGORIES:Zlot
END:VEVENT
BEGIN:VEVENT
DTSTART;TZID=Europe/Helsinki:20250511T080000
DTEND;TZID=Europe/Helsinki:20250511T200000
DTSTAMP:20260422T081319
CREATED:20250426T150139Z
LAST-MODIFIED:20250426T150139Z
UID:109780-1746950400-1746993600@klassikauto.pl
SUMMARY:13. Ratingen Classic
DESCRIPTION:
URL:https://klassikauto.pl/impreza/13-ratingen-classic/
LOCATION:Ratingen\, Niemcy
CATEGORIES:Zlot
END:VEVENT
BEGIN:VEVENT
DTSTART;TZID=Europe/Helsinki:20250511T090000
DTEND;TZID=Europe/Helsinki:20250511T160000
DTSTAMP:20260422T081319
CREATED:20250330T113522Z
LAST-MODIFIED:20250330T113522Z
UID:109371-1746954000-1746979200@klassikauto.pl
SUMMARY:Rajd Pioruna & Komarka – VII Rajd Motocykli Zabytkowych
DESCRIPTION:
URL:https://klassikauto.pl/impreza/rajd-pioruna-komarka-vii-rajd-motocykli-zabytkowych/
LOCATION:Kozy
CATEGORIES:Rajd
END:VEVENT
BEGIN:VEVENT
DTSTART;TZID=Europe/Helsinki:20250511T100000
DTEND;TZID=Europe/Helsinki:20250511T100000
DTSTAMP:20260422T081319
CREATED:20231228T094906Z
LAST-MODIFIED:20240427T133433Z
UID:97968-1746957600-1746957600@klassikauto.pl
SUMMARY:33. Oldtimertage Berlin Brandenburg
DESCRIPTION:
URL:https://klassikauto.pl/impreza/33-oldtimertage-berlin-brandenburg/
LOCATION:Berlin
CATEGORIES:Zlot
END:VEVENT
BEGIN:VEVENT
DTSTART;TZID=Europe/Helsinki:20250511T100000
DTEND;TZID=Europe/Helsinki:20250511T180000
DTSTAMP:20260422T081319
CREATED:20241228T072604Z
LAST-MODIFIED:20241228T072604Z
UID:107405-1746957600-1746986400@klassikauto.pl
SUMMARY:Retro Biesiada Wądroże Wielkie 2025
DESCRIPTION:
URL:https://klassikauto.pl/impreza/retro-biesiada-wadroze-wielkie-2025/
LOCATION:Wądroże Wielkie
CATEGORIES:Zlot
END:VEVENT
BEGIN:VEVENT
DTSTART;TZID=Europe/Helsinki:20250511T100000
DTEND;TZID=Europe/Helsinki:20250511T180000
DTSTAMP:20260422T081319
CREATED:20250426T095551Z
LAST-MODIFIED:20250426T095551Z
UID:109721-1746957600-1746986400@klassikauto.pl
SUMMARY:Youngtimer Show – Saisonstart
DESCRIPTION:
URL:https://klassikauto.pl/impreza/youngtimer-show-saisonstart/
LOCATION:Herten\, Niemcy
CATEGORIES:Zlot
END:VEVENT
BEGIN:VEVENT
DTSTART;TZID=Europe/Helsinki:20250511T110000
DTEND;TZID=Europe/Helsinki:20250511T110000
DTSTAMP:20260422T081319
CREATED:20250225T185450Z
LAST-MODIFIED:20250225T185450Z
UID:108736-1746961200-1746961200@klassikauto.pl
SUMMARY:Rozpoczęcie sezonu Classic Cars Legionowo
DESCRIPTION:
URL:https://klassikauto.pl/impreza/rozpoczecie-sezonu-classic-cars-legionowo-3/
LOCATION:Legionowo
CATEGORIES:Zlot
END:VEVENT
BEGIN:VEVENT
DTSTART;TZID=Europe/Helsinki:20250511T110000
DTEND;TZID=Europe/Helsinki:20250511T200000
DTSTAMP:20260422T081319
CREATED:20250426T165224Z
LAST-MODIFIED:20250426T165224Z
UID:109866-1746961200-1746993600@klassikauto.pl
SUMMARY:Moto Day z Infamous Crew
DESCRIPTION:
URL:https://klassikauto.pl/impreza/moto-day-z-infamous-crew/
LOCATION:Jarosław
CATEGORIES:Zlot
END:VEVENT
BEGIN:VEVENT
DTSTART;TZID=Europe/Helsinki:20250511T120000
DTEND;TZID=Europe/Helsinki:20250511T120000
DTSTAMP:20260422T081319
CREATED:20250225T194127Z
LAST-MODIFIED:20250225T194127Z
UID:108778-1746964800-1746964800@klassikauto.pl
SUMMARY:Before The Stage
DESCRIPTION:
URL:https://klassikauto.pl/impreza/before-the-stage/
LOCATION:Bolesławiec
CATEGORIES:Zlot
END:VEVENT
BEGIN:VEVENT
DTSTART;TZID=Europe/Helsinki:20250511T120000
DTEND;TZID=Europe/Helsinki:20250511T160000
DTSTAMP:20260422T081319
CREATED:20250406T090654Z
LAST-MODIFIED:20250406T090654Z
UID:109554-1746964800-1746979200@klassikauto.pl
SUMMARY:II Ogólnopolski Zlot Mercedesów RUMIA 2025
DESCRIPTION:
URL:https://klassikauto.pl/impreza/ii-ogolnopolski-zlot-mercedesow-rumia-2025/
LOCATION:Rumia
CATEGORIES:Zlot
END:VEVENT
BEGIN:VEVENT
DTSTART;TZID=Europe/Helsinki:20250511T130000
DTEND;TZID=Europe/Helsinki:20250511T130000
DTSTAMP:20260422T081319
CREATED:20250223T142643Z
LAST-MODIFIED:20250223T142643Z
UID:108575-1746968400-1746968400@klassikauto.pl
SUMMARY:Klasyczna majówka
DESCRIPTION:
URL:https://klassikauto.pl/impreza/klasyczna-majowka-2/
LOCATION:Dąbrowa Zielona
CATEGORIES:Zlot
END:VEVENT
BEGIN:VEVENT
DTSTART;TZID=Europe/Helsinki:20250511T130000
DTEND;TZID=Europe/Helsinki:20250511T130000
DTSTAMP:20260422T081319
CREATED:20250225T195227Z
LAST-MODIFIED:20250225T195227Z
UID:108786-1746968400-1746968400@klassikauto.pl
SUMMARY:Klasyczna Majówka 2025
DESCRIPTION:
URL:https://klassikauto.pl/impreza/klasyczna-majowka-2025/
LOCATION:Lipie
CATEGORIES:Zlot
END:VEVENT
BEGIN:VEVENT
DTSTART;TZID=Europe/Helsinki:20250511T130000
DTEND;TZID=Europe/Helsinki:20250511T130000
DTSTAMP:20260422T081319
CREATED:20250427T063149Z
LAST-MODIFIED:20250427T063149Z
UID:109994-1746968400-1746968400@klassikauto.pl
SUMMARY:Złotowskie rozpoczęcie sezonu motoryzacyjnego\,
DESCRIPTION:
URL:https://klassikauto.pl/impreza/zlotowskie-rozpoczecie-sezonu-motoryzacyjnego/
LOCATION:Złotów
CATEGORIES:Zlot
END:VEVENT
BEGIN:VEVENT
DTSTART;TZID=Europe/Helsinki:20250511T130000
DTEND;TZID=Europe/Helsinki:20250511T130000
DTSTAMP:20260422T081319
CREATED:20250427T064718Z
LAST-MODIFIED:20250427T064718Z
UID:110007-1746968400-1746968400@klassikauto.pl
SUMMARY:Otwarcie sezonu Cabrio Trójmiasto
DESCRIPTION:
URL:https://klassikauto.pl/impreza/otwarcie-sezonu-cabrio-trojmiasto/
LOCATION:Gdynia
CATEGORIES:Zlot
END:VEVENT
BEGIN:VEVENT
DTSTART;TZID=Europe/Helsinki:20250511T130000
DTEND;TZID=Europe/Helsinki:20250511T180000
DTSTAMP:20260422T081319
CREATED:20250426T172123Z
LAST-MODIFIED:20250426T172123Z
UID:109896-1746968400-1746986400@klassikauto.pl
SUMMARY:Zlot Pojazdów Klasycznych\, Ulina Park
DESCRIPTION:
URL:https://klassikauto.pl/impreza/zlot-pojazdow-klasycznych-ulina-park/
LOCATION:Ulina Wielka
CATEGORIES:Zlot
END:VEVENT
BEGIN:VEVENT
DTSTART;TZID=Europe/Helsinki:20250511T150000
DTEND;TZID=Europe/Helsinki:20250511T180000
DTSTAMP:20260422T081319
CREATED:20250426T170213Z
LAST-MODIFIED:20250426T170213Z
UID:109877-1746975600-1746986400@klassikauto.pl
SUMMARY:X Spotkanie Elbląskich Klasyków
DESCRIPTION:
URL:https://klassikauto.pl/impreza/x-spotkanie-elblaskich-klasykow/
LOCATION:Elbląg
CATEGORIES:Zlot
END:VEVENT
END:VCALENDAR
<!-- RunCloud Hub 2026-04-22 07:13:19 -->