BEGIN:VCALENDAR
VERSION:2.0
PRODID:-//KlassikAuto.pl - ECPv6.7.0//NONSGML v1.0//EN
CALSCALE:GREGORIAN
METHOD:PUBLISH
X-ORIGINAL-URL:https://klassikauto.pl
X-WR-CALDESC:Wydarzenia dla KlassikAuto.pl
REFRESH-INTERVAL;VALUE=DURATION:PT1H
X-Robots-Tag:noindex
X-PUBLISHED-TTL:PT1H
BEGIN:VTIMEZONE
TZID:Europe/Helsinki
BEGIN:DAYLIGHT
TZOFFSETFROM:+0200
TZOFFSETTO:+0300
TZNAME:EEST
DTSTART:20250330T010000
END:DAYLIGHT
BEGIN:STANDARD
TZOFFSETFROM:+0300
TZOFFSETTO:+0200
TZNAME:EET
DTSTART:20251026T010000
END:STANDARD
END:VTIMEZONE
BEGIN:VEVENT
DTSTART;TZID=Europe/Helsinki:20250228T080000
DTEND;TZID=Europe/Helsinki:20250420T170000
DTSTAMP:20260422T100024
CREATED:20241222T124048Z
LAST-MODIFIED:20241222T124048Z
UID:107156-1740729600-1745168400@klassikauto.pl
SUMMARY:Rally Legends - From Dust to Glory
DESCRIPTION:
URL:https://klassikauto.pl/impreza/rally-legends-from-dust-to-glory/
LOCATION:Museum Autoworld\, Bruksela\, Belgia
CATEGORIES:Wystawa
END:VEVENT
BEGIN:VEVENT
DTSTART;TZID=Europe/Helsinki:20250413T140000
DTEND;TZID=Europe/Helsinki:20250427T140000
DTSTAMP:20260422T100024
CREATED:20250330T114955Z
LAST-MODIFIED:20250330T114955Z
UID:109384-1744552800-1745762400@klassikauto.pl
SUMMARY:Otwarcie Sezonu Motoryzacyjnego 2025
DESCRIPTION:
URL:https://klassikauto.pl/impreza/otwarcie-sezonu-motoryzacyjnego-2025/
LOCATION:Ostrowiec Świętokrzyski
CATEGORIES:Zlot
END:VEVENT
END:VCALENDAR
<!-- RunCloud Hub 2026-04-22 09:00:24 -->