BEGIN:VCALENDAR
VERSION:2.0
PRODID:-//KlassikAuto.pl - ECPv6.7.0//NONSGML v1.0//EN
CALSCALE:GREGORIAN
METHOD:PUBLISH
X-WR-CALNAME:KlassikAuto.pl
X-ORIGINAL-URL:https://klassikauto.pl
X-WR-CALDESC:Wydarzenia dla KlassikAuto.pl
REFRESH-INTERVAL;VALUE=DURATION:PT1H
X-Robots-Tag:noindex
X-PUBLISHED-TTL:PT1H
BEGIN:VTIMEZONE
TZID:Europe/Helsinki
BEGIN:DAYLIGHT
TZOFFSETFROM:+0200
TZOFFSETTO:+0300
TZNAME:EEST
DTSTART:20250330T010000
END:DAYLIGHT
BEGIN:STANDARD
TZOFFSETFROM:+0300
TZOFFSETTO:+0200
TZNAME:EET
DTSTART:20251026T010000
END:STANDARD
END:VTIMEZONE
BEGIN:VEVENT
DTSTART;TZID=Europe/Helsinki:20250228T080000
DTEND;TZID=Europe/Helsinki:20250420T170000
DTSTAMP:20260422T095948
CREATED:20241222T124048Z
LAST-MODIFIED:20241222T124048Z
UID:107156-1740729600-1745168400@klassikauto.pl
SUMMARY:Rally Legends - From Dust to Glory
DESCRIPTION:
URL:https://klassikauto.pl/impreza/rally-legends-from-dust-to-glory/
LOCATION:Museum Autoworld\, Bruksela\, Belgia
CATEGORIES:Wystawa
END:VEVENT
BEGIN:VEVENT
DTSTART;VALUE=DATE:20250409
DTEND;VALUE=DATE:20250414
DTSTAMP:20260422T095948
CREATED:20250401T175858Z
LAST-MODIFIED:20250401T175858Z
UID:109461-1744156800-1744588799@klassikauto.pl
SUMMARY:Techno-Classica Essen
DESCRIPTION:
URL:https://klassikauto.pl/impreza/techno-classica-essen-2/
LOCATION:Essen\, Niemcy
CATEGORIES:Targi
END:VEVENT
BEGIN:VEVENT
DTSTART;VALUE=DATE:20250410
DTEND;VALUE=DATE:20250414
DTSTAMP:20260422T095948
CREATED:20241229T105627Z
LAST-MODIFIED:20241229T105627Z
UID:107625-1744243200-1744588799@klassikauto.pl
SUMMARY:1000 Miglia Experience Italy 2025
DESCRIPTION:
URL:https://klassikauto.pl/impreza/1000-miglia-experience-italy-2025/
LOCATION:Sorrento\, Włochy
CATEGORIES:Rajd
END:VEVENT
BEGIN:VEVENT
DTSTART;TZID=Europe/Helsinki:20250411T080000
DTEND;TZID=Europe/Helsinki:20250412T180000
DTSTAMP:20260422T095948
CREATED:20250204T181930Z
LAST-MODIFIED:20250204T181930Z
UID:108287-1744358400-1744480800@klassikauto.pl
SUMMARY:9. Tech-Mo Rally 2025
DESCRIPTION:
URL:https://klassikauto.pl/impreza/9-tech-mo-rally-2025/
LOCATION:Nowa Ruda
CATEGORIES:Rajd
END:VEVENT
BEGIN:VEVENT
DTSTART;VALUE=DATE:20250412
DTEND;VALUE=DATE:20250413
DTSTAMP:20260422T095948
CREATED:20241223T092214Z
LAST-MODIFIED:20241223T092214Z
UID:107260-1744416000-1744502399@klassikauto.pl
SUMMARY:SUPEROES 2025\, V Runda
DESCRIPTION:
URL:https://klassikauto.pl/impreza/superoes-2025-v-runda/
LOCATION:Poznań
CATEGORIES:Rajd
END:VEVENT
BEGIN:VEVENT
DTSTART;VALUE=DATE:20250412
DTEND;VALUE=DATE:20250414
DTSTAMP:20260422T095948
CREATED:20250401T174632Z
LAST-MODIFIED:20250401T174632Z
UID:109453-1744416000-1744588799@klassikauto.pl
SUMMARY:Oldtimer Show 2025
DESCRIPTION:
URL:https://klassikauto.pl/impreza/oldtimer-show-2025/
LOCATION:Budapeszt
CATEGORIES:Targi
END:VEVENT
BEGIN:VEVENT
DTSTART;TZID=Europe/Helsinki:20250412T090000
DTEND;TZID=Europe/Helsinki:20250412T090000
DTSTAMP:20260422T095948
CREATED:20250401T175020Z
LAST-MODIFIED:20250401T175020Z
UID:109455-1744448400-1744448400@klassikauto.pl
SUMMARY:XII Rajd Autosana
DESCRIPTION:
URL:https://klassikauto.pl/impreza/xii-rajd-autosana/
LOCATION:Pomorze
CATEGORIES:Rajd
END:VEVENT
BEGIN:VEVENT
DTSTART;TZID=Europe/Helsinki:20250412T100000
DTEND;TZID=Europe/Helsinki:20250412T100000
DTSTAMP:20260422T095948
CREATED:20250330T102105Z
LAST-MODIFIED:20250330T102105Z
UID:109330-1744452000-1744452000@klassikauto.pl
SUMMARY:Česká Route 66 - 2025
DESCRIPTION:
URL:https://klassikauto.pl/impreza/ceska-route-66-2025/
LOCATION:Pribram\, Czechy
CATEGORIES:Rajd
END:VEVENT
BEGIN:VEVENT
DTSTART;TZID=Europe/Helsinki:20250412T100000
DTEND;TZID=Europe/Helsinki:20250413T170000
DTSTAMP:20260422T095948
CREATED:20250204T182720Z
LAST-MODIFIED:20250204T182720Z
UID:108295-1744452000-1744563600@klassikauto.pl
SUMMARY:Auto Nostalgia 2025
DESCRIPTION:
URL:https://klassikauto.pl/impreza/auto-nostalgia-2025/
LOCATION:Warszawa
CATEGORIES:Targi
END:VEVENT
BEGIN:VEVENT
DTSTART;TZID=Europe/Helsinki:20250412T120000
DTEND;TZID=Europe/Helsinki:20250412T120000
DTSTAMP:20260422T095948
CREATED:20241229T093124Z
LAST-MODIFIED:20241229T093124Z
UID:107575-1744459200-1744459200@klassikauto.pl
SUMMARY:Obchody 5 Rocznicy Powstania WM126P Wilkowyje 2025
DESCRIPTION:
URL:https://klassikauto.pl/impreza/obchody-5-rocznicy-powstania-wm126p-wilkowyje-2025/
LOCATION:Jeruzal
CATEGORIES:Zlot
END:VEVENT
BEGIN:VEVENT
DTSTART;TZID=Europe/Helsinki:20250412T120000
DTEND;TZID=Europe/Helsinki:20250412T150000
DTSTAMP:20260422T095948
CREATED:20241229T092949Z
LAST-MODIFIED:20241229T092949Z
UID:107573-1744459200-1744470000@klassikauto.pl
SUMMARY:V Rajd Wilkowyje - Rozpoczęcie Sezonu 2025
DESCRIPTION:
URL:https://klassikauto.pl/impreza/v-rajd-wilkowyje-rozpoczecie-sezonu-2025/
LOCATION:Jeruzal
CATEGORIES:Rajd
END:VEVENT
BEGIN:VEVENT
DTSTART;TZID=Europe/Helsinki:20250412T160000
DTEND;TZID=Europe/Helsinki:20250412T160000
DTSTAMP:20260422T095948
CREATED:20250224T152259Z
LAST-MODIFIED:20250224T152259Z
UID:108676-1744473600-1744473600@klassikauto.pl
SUMMARY:2025 Start w LOWRIDE
DESCRIPTION:
URL:https://klassikauto.pl/impreza/2025-start-w-lowride/
LOCATION:Poznań
CATEGORIES:Zlot
END:VEVENT
BEGIN:VEVENT
DTSTART;TZID=Europe/Helsinki:20250412T170000
DTEND;TZID=Europe/Helsinki:20250412T210000
DTSTAMP:20260422T095948
CREATED:20250330T115633Z
LAST-MODIFIED:20250330T115633Z
UID:109389-1744477200-1744491600@klassikauto.pl
SUMMARY:Rozpoczęcie Sezonu z ISB Crew 2k25
DESCRIPTION:
URL:https://klassikauto.pl/impreza/rozpoczecie-sezonu-z-isb-crew-2k25/
LOCATION:Bytom
CATEGORIES:Zlot
END:VEVENT
END:VCALENDAR
<!-- RunCloud Hub 2026-04-22 08:59:48 -->