BEGIN:VCALENDAR
VERSION:2.0
PRODID:-//KlassikAuto.pl - ECPv6.7.0//NONSGML v1.0//EN
CALSCALE:GREGORIAN
METHOD:PUBLISH
X-WR-CALNAME:KlassikAuto.pl
X-ORIGINAL-URL:https://klassikauto.pl
X-WR-CALDESC:Wydarzenia dla KlassikAuto.pl
REFRESH-INTERVAL;VALUE=DURATION:PT1H
X-Robots-Tag:noindex
X-PUBLISHED-TTL:PT1H
BEGIN:VTIMEZONE
TZID:Europe/Helsinki
BEGIN:DAYLIGHT
TZOFFSETFROM:+0200
TZOFFSETTO:+0300
TZNAME:EEST
DTSTART:20250330T010000
END:DAYLIGHT
BEGIN:STANDARD
TZOFFSETFROM:+0300
TZOFFSETTO:+0200
TZNAME:EET
DTSTART:20251026T010000
END:STANDARD
END:VTIMEZONE
BEGIN:VEVENT
DTSTART;TZID=Europe/Helsinki:20250228T080000
DTEND;TZID=Europe/Helsinki:20250420T170000
DTSTAMP:20260422T095916
CREATED:20241222T124048Z
LAST-MODIFIED:20241222T124048Z
UID:107156-1740729600-1745168400@klassikauto.pl
SUMMARY:Rally Legends - From Dust to Glory
DESCRIPTION:
URL:https://klassikauto.pl/impreza/rally-legends-from-dust-to-glory/
LOCATION:Museum Autoworld\, Bruksela\, Belgia
CATEGORIES:Wystawa
END:VEVENT
BEGIN:VEVENT
DTSTART;TZID=Europe/Helsinki:20250404T150000
DTEND;TZID=Europe/Helsinki:20250406T110000
DTSTAMP:20260422T095916
CREATED:20250204T172333Z
LAST-MODIFIED:20250204T172333Z
UID:108233-1743778800-1743937200@klassikauto.pl
SUMMARY:XXIII Ogólnopolski Zlot i XIX Urodziny Audi A4 Klub Polska
DESCRIPTION:
URL:https://klassikauto.pl/impreza/xxiii-ogolnopolski-zlot-i-xix-urodziny-audi-a4-klub-polska/
LOCATION:Bukowina Tatrzańska
CATEGORIES:Zlot
END:VEVENT
BEGIN:VEVENT
DTSTART;VALUE=DATE:20250405
DTEND;VALUE=DATE:20250406
DTSTAMP:20260422T095916
CREATED:20250330T095507Z
LAST-MODIFIED:20250330T095507Z
UID:109318-1743811200-1743897599@klassikauto.pl
SUMMARY:VeteránTechna Brno 2025
DESCRIPTION:
URL:https://klassikauto.pl/impreza/veterantechna-brno-2025/
LOCATION:Brno\, Czechy
CATEGORIES:Targi
END:VEVENT
BEGIN:VEVENT
DTSTART;VALUE=DATE:20250405
DTEND;VALUE=DATE:20250406
DTSTAMP:20260422T095916
CREATED:20250401T180252Z
LAST-MODIFIED:20250401T180252Z
UID:109463-1743811200-1743897599@klassikauto.pl
SUMMARY:Auto moto veterán burza Karlovy Vary 2025
DESCRIPTION:
URL:https://klassikauto.pl/impreza/auto-moto-veteran-burza-karlovy-vary-2025/
LOCATION:Karlove Vary\, Czechy
CATEGORIES:Aukcja
END:VEVENT
BEGIN:VEVENT
DTSTART;VALUE=DATE:20250405
DTEND;VALUE=DATE:20250407
DTSTAMP:20260422T095916
CREATED:20241228T164246Z
LAST-MODIFIED:20241228T164246Z
UID:107517-1743811200-1743983999@klassikauto.pl
SUMMARY:Technorama
DESCRIPTION:
URL:https://klassikauto.pl/impreza/technorama-6/
LOCATION:Kassel\, Germany
CATEGORIES:Aukcja,Giełda
END:VEVENT
BEGIN:VEVENT
DTSTART;VALUE=DATE:20250405
DTEND;VALUE=DATE:20250407
DTSTAMP:20260422T095916
CREATED:20241229T113606Z
LAST-MODIFIED:20241229T113606Z
UID:107652-1743811200-1743983999@klassikauto.pl
SUMMARY:ACA Classic Auction
DESCRIPTION:
URL:https://klassikauto.pl/impreza/aca-classic-auction-3/
LOCATION:King’s Lynn\, Wielka Brytania
CATEGORIES:Aukcja
END:VEVENT
BEGIN:VEVENT
DTSTART;VALUE=DATE:20250405
DTEND;VALUE=DATE:20250407
DTSTAMP:20260422T095916
CREATED:20250401T182155Z
LAST-MODIFIED:20250401T182155Z
UID:109472-1743811200-1743983999@klassikauto.pl
SUMMARY:Otwarcie sezonu CABRIO POLAND 2025
DESCRIPTION:
URL:https://klassikauto.pl/impreza/otwarcie-sezonu-cabrio-poland-2025/
LOCATION:Poznań
CATEGORIES:Rajd,Zlot
END:VEVENT
BEGIN:VEVENT
DTSTART;TZID=Europe/Helsinki:20250405T090000
DTEND;TZID=Europe/Helsinki:20250405T180000
DTSTAMP:20260422T095916
CREATED:20250204T192519Z
LAST-MODIFIED:20250204T192519Z
UID:108337-1743843600-1743876000@klassikauto.pl
SUMMARY:I ogólnopolski Meeting Modelarski Pojazdów Cywilnych\, Zlot Pojazdów Zabytkowych
DESCRIPTION:
URL:https://klassikauto.pl/impreza/i-ogolnopolski-meeting-modelarski-pojazdow-cywilnych-zlot-pojazdow-zabytkowych/
LOCATION:Ogrodzieniec
CATEGORIES:Zlot
END:VEVENT
BEGIN:VEVENT
DTSTART;TZID=Europe/Helsinki:20250405T090000
DTEND;TZID=Europe/Helsinki:20250406T140000
DTSTAMP:20260422T095916
CREATED:20250401T182413Z
LAST-MODIFIED:20250401T182413Z
UID:109474-1743843600-1743948000@klassikauto.pl
SUMMARY:Start Sezonu Cabrio ’25 z Cabriolove
DESCRIPTION:
URL:https://klassikauto.pl/impreza/start-sezonu-cabrio-25-z-cabriolove/
LOCATION:Szczecin
CATEGORIES:Zlot
END:VEVENT
BEGIN:VEVENT
DTSTART;TZID=Europe/Helsinki:20250405T100000
DTEND;TZID=Europe/Helsinki:20250405T140000
DTSTAMP:20260422T095916
CREATED:20241222T133237Z
LAST-MODIFIED:20241222T133506Z
UID:107182-1743847200-1743861600@klassikauto.pl
SUMMARY:Off Road: Land Cruiser\, Hilux & Co.
DESCRIPTION:
URL:https://klassikauto.pl/impreza/off-road-land-cruiser-hilux-co/
LOCATION:Kolonia\, Niemcy
CATEGORIES:Wystawa
END:VEVENT
BEGIN:VEVENT
DTSTART;TZID=Europe/Helsinki:20250405T100000
DTEND;TZID=Europe/Helsinki:20250405T200000
DTSTAMP:20260422T095916
CREATED:20250330T111101Z
LAST-MODIFIED:20250330T111101Z
UID:109363-1743847200-1743883200@klassikauto.pl
SUMMARY:Festiwal smaków świat i klasycznych samochodów w Zawierciu
DESCRIPTION:
URL:https://klassikauto.pl/impreza/festiwal-smakow-swiat-i-klasycznych-samochodow-w-zawierciu/
LOCATION:Zawiercie
CATEGORIES:Zlot
END:VEVENT
BEGIN:VEVENT
DTSTART;TZID=Europe/Helsinki:20250405T100000
DTEND;TZID=Europe/Helsinki:20250406T170000
DTSTAMP:20260422T095916
CREATED:20250204T182517Z
LAST-MODIFIED:20250204T182517Z
UID:108293-1743847200-1743958800@klassikauto.pl
SUMMARY:Moto Session 2025
DESCRIPTION:
URL:https://klassikauto.pl/impreza/moto-session-2025/
LOCATION:Lublin
CATEGORIES:Targi
END:VEVENT
BEGIN:VEVENT
DTSTART;TZID=Europe/Helsinki:20250405T120000
DTEND;TZID=Europe/Helsinki:20250405T120000
DTSTAMP:20260422T095916
CREATED:20250223T144911Z
LAST-MODIFIED:20250223T144911Z
UID:108607-1743854400-1743854400@klassikauto.pl
SUMMARY:MOTOMARZANNA 2025
DESCRIPTION:
URL:https://klassikauto.pl/impreza/motomarzanna-2025/
LOCATION:Opatów
CATEGORIES:Zlot
END:VEVENT
END:VCALENDAR
<!-- RunCloud Hub 2026-04-22 08:59:16 -->