BEGIN:VCALENDAR
VERSION:2.0
PRODID:-//KlassikAuto.pl - ECPv6.7.0//NONSGML v1.0//EN
CALSCALE:GREGORIAN
METHOD:PUBLISH
X-WR-CALNAME:KlassikAuto.pl
X-ORIGINAL-URL:https://klassikauto.pl
X-WR-CALDESC:Wydarzenia dla KlassikAuto.pl
REFRESH-INTERVAL;VALUE=DURATION:PT1H
X-Robots-Tag:noindex
X-PUBLISHED-TTL:PT1H
BEGIN:VTIMEZONE
TZID:Europe/Helsinki
BEGIN:DAYLIGHT
TZOFFSETFROM:+0200
TZOFFSETTO:+0300
TZNAME:EEST
DTSTART:20250330T010000
END:DAYLIGHT
BEGIN:STANDARD
TZOFFSETFROM:+0300
TZOFFSETTO:+0200
TZNAME:EET
DTSTART:20251026T010000
END:STANDARD
END:VTIMEZONE
BEGIN:VEVENT
DTSTART;TZID=Europe/Helsinki:20250228T080000
DTEND;TZID=Europe/Helsinki:20250420T170000
DTSTAMP:20260422T121729
CREATED:20241222T124048Z
LAST-MODIFIED:20241222T124048Z
UID:107156-1740729600-1745168400@klassikauto.pl
SUMMARY:Rally Legends - From Dust to Glory
DESCRIPTION:
URL:https://klassikauto.pl/impreza/rally-legends-from-dust-to-glory/
LOCATION:Museum Autoworld\, Bruksela\, Belgia
CATEGORIES:Wystawa
END:VEVENT
BEGIN:VEVENT
DTSTART;VALUE=DATE:20250328
DTEND;VALUE=DATE:20250331
DTSTAMP:20260422T121729
CREATED:20241228T162141Z
LAST-MODIFIED:20241228T162141Z
UID:107509-1743120000-1743379199@klassikauto.pl
SUMMARY:Warsaw Motorcycle Show – 6 edycja
DESCRIPTION:
URL:https://klassikauto.pl/impreza/warsaw-motorcycle-show-6-edycja/
LOCATION:Warszawa
CATEGORIES:Targi
END:VEVENT
BEGIN:VEVENT
DTSTART;VALUE=DATE:20250328
DTEND;VALUE=DATE:20250331
DTSTAMP:20260422T121729
CREATED:20241228T162736Z
LAST-MODIFIED:20241228T162736Z
UID:107511-1743120000-1743379199@klassikauto.pl
SUMMARY:AMTS Budapest 2025
DESCRIPTION:
URL:https://klassikauto.pl/impreza/amts-budapest-2025/
LOCATION:Budapeszt
CATEGORIES:Targi
END:VEVENT
BEGIN:VEVENT
DTSTART;VALUE=DATE:20250329
DTEND;VALUE=DATE:20250330
DTSTAMP:20260422T121729
CREATED:20241229T102806Z
LAST-MODIFIED:20241229T102806Z
UID:107612-1743206400-1743292799@klassikauto.pl
SUMMARY:Auto moto velo burza v Hobšovicích
DESCRIPTION:
URL:https://klassikauto.pl/impreza/auto-moto-velo-burza-v-hobsovicich-8/
LOCATION:Hobšovice\, Czechy
CATEGORIES:Giełda
END:VEVENT
BEGIN:VEVENT
DTSTART;TZID=Europe/Helsinki:20250329T080000
DTEND;TZID=Europe/Helsinki:20250329T080000
DTSTAMP:20260422T121729
CREATED:20250301T101103Z
LAST-MODIFIED:20250301T101103Z
UID:108857-1743235200-1743235200@klassikauto.pl
SUMMARY:4. US Car Treffen bei den NitrOlympX auf dem Hockenheimring
DESCRIPTION:
URL:https://klassikauto.pl/impreza/4-us-car-treffen-bei-den-nitrolympx-auf-dem-hockenheimring/
LOCATION:Hockenheim\, Germany
CATEGORIES:Zlot
END:VEVENT
BEGIN:VEVENT
DTSTART;TZID=Europe/Helsinki:20250329T090000
DTEND;TZID=Europe/Helsinki:20250329T090000
DTSTAMP:20260422T121729
CREATED:20250224T152649Z
LAST-MODIFIED:20250224T152649Z
UID:108680-1743238800-1743238800@klassikauto.pl
SUMMARY:Runda I Pucharu Youngtimer Party
DESCRIPTION:
URL:https://klassikauto.pl/impreza/runda-i-pucharu-youngtimer-party/
LOCATION:Poznań
CATEGORIES:Rajd
END:VEVENT
BEGIN:VEVENT
DTSTART;TZID=Europe/Helsinki:20250329T120000
DTEND;TZID=Europe/Helsinki:20250329T120000
DTSTAMP:20260422T121729
CREATED:20241229T114128Z
LAST-MODIFIED:20241229T114128Z
UID:107658-1743249600-1743249600@klassikauto.pl
SUMMARY:Classic cars\, motorcycles and automobilia auction
DESCRIPTION:
URL:https://klassikauto.pl/impreza/classic-cars-motorcycles-and-automobilia-auction/
LOCATION:Goole\, Wielka Brytania
CATEGORIES:Aukcja
END:VEVENT
BEGIN:VEVENT
DTSTART;TZID=Europe/Helsinki:20250329T120000
DTEND;TZID=Europe/Helsinki:20250329T120000
DTSTAMP:20260422T121729
CREATED:20250223T150632Z
LAST-MODIFIED:20250223T150632Z
UID:108611-1743249600-1743249600@klassikauto.pl
SUMMARY:Otwarcie sezonu
DESCRIPTION:
URL:https://klassikauto.pl/impreza/otwarcie-sezonu/
LOCATION:Lublin
CATEGORIES:Zlot
END:VEVENT
END:VCALENDAR
<!-- RunCloud Hub 2026-04-22 11:17:29 -->